BEGIN:VCALENDAR
VERSION:2.0
PRODID:-//The Leros Way - ECPv6.15.13.1//NONSGML v1.0//EN
CALSCALE:GREGORIAN
METHOD:PUBLISH
X-WR-CALNAME:The Leros Way
X-ORIGINAL-URL:https://the-leros-way.com/el/
X-WR-CALDESC:Events for The Leros Way
REFRESH-INTERVAL;VALUE=DURATION:PT1H
X-Robots-Tag:noindex
X-PUBLISHED-TTL:PT1H
BEGIN:VTIMEZONE
TZID:UTC
BEGIN:STANDARD
TZOFFSETFROM:+0000
TZOFFSETTO:+0000
TZNAME:UTC
DTSTART:20230101T000000
END:STANDARD
END:VTIMEZONE
BEGIN:VEVENT
DTSTART;TZID=UTC:20241229T170000
DTEND;TZID=UTC:20241229T200000
DTSTAMP:20260420T235401
CREATED:20241222T063927Z
LAST-MODIFIED:20241222T063927Z
UID:45040-1735491600-1735502400@the-leros-way.com
SUMMARY:Mια γλυκια γιορτή με παραδοσιακή Κάλαντα
DESCRIPTION:17:00 έξω από το Super Market Ταχλιαμπούρη στην Καμάρα !
URL:https://the-leros-way.com/el/event/m%ce%b9%ce%b1-%ce%b3%ce%bb%cf%85%ce%ba%ce%b9%ce%b1-%ce%b3%ce%b9%ce%bf%cf%81%cf%84%ce%ae-%ce%bc%ce%b5-%cf%80%ce%b1%cf%81%ce%b1%ce%b4%ce%bf%cf%83%ce%b9%ce%b1%ce%ba%ce%ae-%ce%ba%ce%ac%ce%bb%ce%b1%ce%bd/
LOCATION:Kamara/Alinda elementary school courtyard\, Elementary School Alinda\, Leros\, 8400
CATEGORIES:Special Event,Μουσική
ATTACH;FMTTYPE=image/webp:https://the-leros-way.com/wp-content/uploads/2024/12/viber_image_2024-12-22_08-19-38-671.webp
ORGANIZER;CN="Leros Municipality":MAILTO:info@dopaisap.gr
END:VEVENT
END:VCALENDAR