BEGIN:VCALENDAR
VERSION:2.0
PRODID:-//The Leros Way - ECPv6.15.13.1//NONSGML v1.0//EN
CALSCALE:GREGORIAN
METHOD:PUBLISH
X-ORIGINAL-URL:https://the-leros-way.com/el/
X-WR-CALDESC:Events for The Leros Way
REFRESH-INTERVAL;VALUE=DURATION:PT1H
X-Robots-Tag:noindex
X-PUBLISHED-TTL:PT1H
BEGIN:VTIMEZONE
TZID:UTC
BEGIN:STANDARD
TZOFFSETFROM:+0000
TZOFFSETTO:+0000
TZNAME:UTC
DTSTART:20230101T000000
END:STANDARD
END:VTIMEZONE
BEGIN:VEVENT
DTSTART;TZID=UTC:20241225T230000
DTEND;TZID=UTC:20241225T230000
DTSTAMP:20260420T204625
CREATED:20241224T071246Z
LAST-MODIFIED:20241224T071246Z
UID:45048-1735167600-1735167600@the-leros-way.com
SUMMARY:Πάρτυ Γενικού Λυκείου στο Cielo
DESCRIPTION:23:00 στην περιοχή Παντέλι \nΕίσοδος  : 3€
URL:https://the-leros-way.com/el/event/%cf%80%ce%ac%cf%81%cf%84%cf%85-%ce%b3%ce%b5%ce%bd%ce%b9%ce%ba%ce%bf%cf%8d-%ce%bb%cf%85%ce%ba%ce%b5%ce%af%ce%bf%cf%85-%cf%83%cf%84%ce%bf-cielo/
LOCATION:Diana Disco Club\, Cielo Club Pandeli\, Leros\, Greece
CATEGORIES:Special Event
ATTACH;FMTTYPE=image/jpeg:https://the-leros-way.com/wp-content/uploads/2024/12/viber_image_2024-12-23_08-28-47-389-1.jpg
ORGANIZER;CN="The Leros Way":MAILTO:info@the-leros-way.com
END:VEVENT
END:VCALENDAR