BEGIN:VCALENDAR
VERSION:2.0
PRODID:-//The Leros Way - ECPv6.15.13.1//NONSGML v1.0//EN
CALSCALE:GREGORIAN
METHOD:PUBLISH
X-ORIGINAL-URL:https://the-leros-way.com/el/
X-WR-CALDESC:Events for The Leros Way
REFRESH-INTERVAL;VALUE=DURATION:PT1H
X-Robots-Tag:noindex
X-PUBLISHED-TTL:PT1H
BEGIN:VTIMEZONE
TZID:UTC
BEGIN:STANDARD
TZOFFSETFROM:+0000
TZOFFSETTO:+0000
TZNAME:UTC
DTSTART:20230101T000000
END:STANDARD
END:VTIMEZONE
BEGIN:VEVENT
DTSTART;TZID=UTC:20241014T080000
DTEND;TZID=UTC:20241015T170000
DTSTAMP:20260420T235718
CREATED:20241007T063634Z
LAST-MODIFIED:20241007T063634Z
UID:43575-1728892800-1729011600@the-leros-way.com
SUMMARY:Δωρεάν Έλεγχος Μνήμης και Ενημερωτική Ομιλία για την Άνοια στο Δήμο μας - 14  15 Οκτωβρίου
DESCRIPTION:Ο Δήμος μας ενημερώνει ότι\, στο πλαίσιο των προγραμμάτων Προληπτικής Ιατρικής\, θα πραγματοποιηθεί έλεγχος μνήμης και άλλων νοητικών λειτουργιών σε συνεργασία με την Ψυχογηριατρική Εταιρεία ΝΕΣΤΩΡ. Συγκεκριμένα\, επιστημονικό κλιμάκιο της εταιρείας θα βρίσκεται στο νησί μας από τις 14 έως τις 15 Οκτωβρίου και θα διεξάγει τις εξετάσεις κατόπιν προγραμματισμένων ραντεβού\, σε άτομα άνω των 60 ετών.Εξετάσεις μπορούν να κάνουν όσοι αντιμετωπίζουν προβλήματα μνήμης\, έχουν πρώιμα συμπτώματα ή επιθυμούν να εξεταστούν προληπτικά.Επιπλέον\, την Τρίτη 15 Οκτωβρίου\, στις 18:00\, στη Δημοτική Βιβλιοθήκη\, θα πραγματοποιηθεί ενημερωτική ομιλία με θέμα “Άνοια: Γενικά στοιχεία για τη νόσο – Συμβουλές διαχείρισης στην καθημερινότητα”. Η ομιλία θα είναι βιωματική\, δίνοντας την ευκαιρία στους φροντιστές και συγγενείς ατόμων με άνοια να συζητήσουν τους προβληματισμούς τους και να αναζητήσουν λύσεις.Για ραντεβού\, μπορείτε να επικοινωνείτε με την Αντιδήμαρχο Κοινωνικής Πολιτικής\, Ευαγγέλου Βάσω\, στο τηλέφωνο 2247028014.
URL:https://the-leros-way.com/el/event/%ce%b4%cf%89%cf%81%ce%b5%ce%ac%ce%bd-%ce%ad%ce%bb%ce%b5%ce%b3%cf%87%ce%bf%cf%82-%ce%bc%ce%bd%ce%ae%ce%bc%ce%b7%cf%82-%ce%ba%ce%b1%ce%b9-%ce%b5%ce%bd%ce%b7%ce%bc%ce%b5%cf%81%cf%89%cf%84%ce%b9%ce%ba/
LOCATION:Municipal Library\, Δημόσια Βιβλιοθήκη Λέρου\, Leros\, 85400\, Greece
CATEGORIES:Special Event
ATTACH;FMTTYPE=image/jpeg:https://the-leros-way.com/wp-content/uploads/2024/10/461582354_10230980126062604_6723187770798955886_n.jpg
ORGANIZER;CN="Leros Municipality":MAILTO:info@dopaisap.gr
END:VEVENT
END:VCALENDAR