BEGIN:VCALENDAR
VERSION:2.0
PRODID:-//The Leros Way - ECPv6.15.13.1//NONSGML v1.0//EN
CALSCALE:GREGORIAN
METHOD:PUBLISH
X-WR-CALNAME:The Leros Way
X-ORIGINAL-URL:https://the-leros-way.com/el/
X-WR-CALDESC:Events for The Leros Way
REFRESH-INTERVAL;VALUE=DURATION:PT1H
X-Robots-Tag:noindex
X-PUBLISHED-TTL:PT1H
BEGIN:VTIMEZONE
TZID:UTC
BEGIN:STANDARD
TZOFFSETFROM:+0000
TZOFFSETTO:+0000
TZNAME:UTC
DTSTART:20230101T000000
END:STANDARD
END:VTIMEZONE
BEGIN:VEVENT
DTSTART;TZID=UTC:20240926T103000
DTEND;TZID=UTC:20240926T130000
DTSTAMP:20260421T031349
CREATED:20240925T062819Z
LAST-MODIFIED:20240925T062823Z
UID:43489-1727346600-1727355600@the-leros-way.com
SUMMARY:Program Announcement for the Anniversary of Queen Olga
DESCRIPTION:Program Announcement for the Anniversary of Queen Olga \nWe are honored to invite you to the commemorative events marking the anniversary of the legendary destroyer **Queen Olga**\, which will take place in Leros\, at Lakki\, on **September 26th**. \n???? Date: September 26th\n???? Location: Lakki\, Leros \n???? 09:45 – Memorial Service:\nA remembrance ceremony at the monument for the fallen of the destroyer Queen Olga. \n????10:30 – Wreath Laying Ceremony:\nOfficial wreath laying by representatives from the military\, navy\, and local authorities. \n???? 11:00 – Speeches and Testimonies:\nBrief speeches and moving testimonies from survivors and relatives of the crew. \n???? 11:30\nTransition to the gunboat for the ceremonial wreath laying at the exact location where the ship was sunk\, honoring the heroes. \nJoin us in paying tribute to the glorious history and the heroes who served aboard the **Queen Olga**. Your presence will be a fitting homage to the memory of those who made the ultimate sacrifice for their country.
URL:https://the-leros-way.com/el/event/program-announcement-for-the-anniversary-of-queen-olga/
LOCATION:LEROS\, Katafigio Agrias Zois Koulouki - Merikia - Fitorio\, Ag. Marina\, Greece\, 854 00\, Greece
CATEGORIES:Special Event
ATTACH;FMTTYPE=image/webp:https://the-leros-way.com/wp-content/uploads/2024/09/379680093_163444946805708_989817560315605575_n.webp
ORGANIZER;CN="Leros Municipality":MAILTO:info@dopaisap.gr
END:VEVENT
END:VCALENDAR