BEGIN:VCALENDAR
VERSION:2.0
PRODID:-//The Leros Way - ECPv6.15.13.1//NONSGML v1.0//EN
CALSCALE:GREGORIAN
METHOD:PUBLISH
X-WR-CALNAME:The Leros Way
X-ORIGINAL-URL:https://the-leros-way.com/el/
X-WR-CALDESC:Events for The Leros Way
REFRESH-INTERVAL;VALUE=DURATION:PT1H
X-Robots-Tag:noindex
X-PUBLISHED-TTL:PT1H
BEGIN:VTIMEZONE
TZID:UTC
BEGIN:STANDARD
TZOFFSETFROM:+0000
TZOFFSETTO:+0000
TZNAME:UTC
DTSTART:20230101T000000
END:STANDARD
END:VTIMEZONE
BEGIN:VEVENT
DTSTART;TZID=UTC:20240804T183000
DTEND;TZID=UTC:20240804T213000
DTSTAMP:20260421T064311
CREATED:20230629T054211Z
LAST-MODIFIED:20230629T054211Z
UID:41708-1722796200-1722807000@the-leros-way.com
SUMMARY:ΝΑΥΤΑΘΛΗΤΙΚΟΙ ΑΓΩΝΕΣ : «ΑΛΙΝΤΙΑ 2024».
DESCRIPTION:“Alindia 2024” nautical games \nΆλιντα – Πύργος Μπελλένη. ΝΑΥΤΑΘΛΗΤΙΚΟΙ ΑΓΩΝΕΣ : «ΑΛΙΝΤΙΑ 2024». Αγώνες και Απονομές. Συμμετέχουν: ΛΕΡΙΑΚΟΣ ΟΜΙΛΟΣ ΣΚΑΦΩΝ\, ΚΥΝΗΓΕΤΙΚΟΣ ΣΥΛΛΟΓΟΣ ΛΕΡΟΥ\, ΝΑΥΑΓΟΣΩΣΤΙΚΟΣ ΣΥΛΛΟΓΟΣ\, ΟΜΑΔΑ ΕΡΕΥΝΑΣ ΚΑΙ ΔΙΑΣΩΣΗΣ ΛΕΡΟΥ. Οργάνωση : Δήμος Λέρου. Συμμετοχή ελεύθερη.  \nRaces and Awards. \nΕίσοδος ελεύθερη.
URL:https://the-leros-way.com/el/event/%ce%bd%ce%b1%cf%85%cf%84%ce%b1%ce%b8%ce%bb%ce%b7%cf%84%ce%b9%ce%ba%ce%bf%ce%b9-%ce%b1%ce%b3%cf%89%ce%bd%ce%b5%cf%83-%ce%b1%ce%bb%ce%b9%ce%bd%cf%84%ce%b9%ce%b1-2024/
LOCATION:Alinda Beach\, Alinda Beach\, Leros\, 85400\, Greece
CATEGORIES:Leros Municipality,Special Event
ATTACH;FMTTYPE=image/webp:https://the-leros-way.com/wp-content/uploads/2023/06/Alindian-games-in-Leros.webp
ORGANIZER;CN="Leros Municipality":MAILTO:info@dopaisap.gr
END:VEVENT
END:VCALENDAR