BEGIN:VCALENDAR
VERSION:2.0
PRODID:-//The Leros Way - ECPv6.15.13.1//NONSGML v1.0//EN
CALSCALE:GREGORIAN
METHOD:PUBLISH
X-WR-CALNAME:The Leros Way
X-ORIGINAL-URL:https://the-leros-way.com/el/
X-WR-CALDESC:Events for The Leros Way
REFRESH-INTERVAL;VALUE=DURATION:PT1H
X-Robots-Tag:noindex
X-PUBLISHED-TTL:PT1H
BEGIN:VTIMEZONE
TZID:UTC
BEGIN:STANDARD
TZOFFSETFROM:+0000
TZOFFSETTO:+0000
TZNAME:UTC
DTSTART:20240101T000000
END:STANDARD
END:VTIMEZONE
BEGIN:VEVENT
DTSTART;TZID=UTC:20250803T173000
DTEND;TZID=UTC:20250803T210000
DTSTAMP:20260419T211419
CREATED:20240717T170325Z
LAST-MODIFIED:20250723T080330Z
UID:42148-1754242200-1754254800@the-leros-way.com
SUMMARY:Aγώνες Κολύμβησης "Αλίντια"
DESCRIPTION:Κατηγορίες: \nΕλεύθερη κολύμβηση παμπαίδων 50μ. (13-15ετ)\nΚολύμβηση κοριτσιών με σανίδες 50μ. (7-9ετ)\nΚολύμβηση αγοριών με στρώμα θαλάσσης 50μ.( 10-12ετ)\nΚολύμβηση κοριτσιών με στρώμα θαλάσσης 50μ\nΚολύμβηση αγοριών με σανίδες 50μ. (7-9ετ)\n Ελεύθερη κολύμβηση παγκορασίδων 50μ. (13-15ετ)\nΕλεύθερη κολύμβηση παίδων-εφήβων 50μ. (16-18ετ)\nΕλεύθερη κολύμβηση κορασίδων-νεανίδων 50μ. ( 16-18ετ\nΣκυταλοδρομία μεικτή (ομάδες 4 αθλητών ) 16-18ετ\nΑγώνισμα κανό παίδων- εφήβων 15-17ετ\nΕλεύθερη κολύμβηση 100μ. ανδρών (18+)\nΕλεύθερη κολύμβηση 100μ. γυναικών (18+)\nΕλεύθερη κολύμβηση 1 μιλίου (Αγ. Μαρίνα-Άλιντα) \nΕγγραφές μέχρι 1/8/2025 \nΤηλέφωνο επικοινωνίας\n2247022109 \nΔιοργάνωση: Δήμος Λέρου \nΛΕΡΙΑΚΟΣ ΟΜΙΛΟΣ ΣΚΑΦΩΝ\, ΝΑΥΑΓΟΣΩΣΤΙΚΟΣ ΣΥΛΛΟΓΟΣ\, ΓΥΜΝΑΣΤΙΚΟΣ ΣΥΛΛΟΓΟΣ ΝΕΩΝ ΛΕΡΟΥ\, ΟΜΑΔΑ ΕΡΕΥΝΑΣ ΚΑΙ ΔΙΑΣΩΣΗΣ ΛΕΡΟΥ.
URL:https://the-leros-way.com/el/event/a%ce%b3%cf%8e%ce%bd%ce%b5%cf%82-%ce%ba%ce%bf%ce%bb%cf%8d%ce%bc%ce%b2%ce%b7%cf%83%ce%b7%cf%82-%ce%b1%ce%bb%ce%af%ce%bd%cf%84%ce%b9%ce%b1/
LOCATION:Alinda Beach\, Alinda Beach\, Leros\, 85400\, Greece
CATEGORIES:Special Event,άθλημα,Διοργανώσεις για παιδιά
ATTACH;FMTTYPE=image/jpeg:https://the-leros-way.com/wp-content/uploads/2024/07/Screenshot-2024-07-17-175716.jpg
ORGANIZER;CN="Leros Municipality":MAILTO:info@dopaisap.gr
END:VEVENT
BEGIN:VEVENT
DTSTART;TZID=UTC:20250805T210000
DTEND;TZID=UTC:20250805T230000
DTSTAMP:20260419T211419
CREATED:20250617T120746Z
LAST-MODIFIED:20250617T120746Z
UID:48813-1754427600-1754434800@the-leros-way.com
SUMMARY:Μουσική εκδήλωση: ΄Γω τραγουδώ της θάλασσας
DESCRIPTION:Νεανικές – παιδικές παραδοσιακές ορχήστρες του Κέντρου Πολιτισμού Έρευνας και Ανάπτυξης Λέρου «ΑΡΤΕΜΙΣ» \, παίζουν στα στενά και στο λιμάνι της Αγίας Μαρίνας\, τραγούδια\, σκοπούς και χορευτικές μελωδίες της Λέρου.
URL:https://the-leros-way.com/el/event/%ce%bc%ce%bf%cf%85%cf%83%ce%b9%ce%ba%ce%ae-%ce%b5%ce%ba%ce%b4%ce%ae%ce%bb%cf%89%cf%83%ce%b7-%ce%84%ce%b3%cf%89-%cf%84%cf%81%ce%b1%ce%b3%ce%bf%cf%85%ce%b4%cf%8e-%cf%84%ce%b7%cf%82-%ce%b8%ce%ac%ce%bb/
LOCATION:Bourtzi\, Agia Marina\, Δωρεάν χώρος στάθμευσης\, Leros\, 854 00\, Greece
CATEGORIES:Special Event,Μουσική,Πολιτιστικό Κέντρο Άρτεμις
ATTACH;FMTTYPE=image/webp:https://the-leros-way.com/wp-content/uploads/2025/06/484966981_10235867166089771_7023653546638177340_n.webp
ORGANIZER;CN="Artemis":MAILTO:artemis@leros.com
END:VEVENT
BEGIN:VEVENT
DTSTART;TZID=UTC:20250807T213000
DTEND;TZID=UTC:20250807T233000
DTSTAMP:20260419T211419
CREATED:20250527T135326Z
LAST-MODIFIED:20250623T141534Z
UID:48065-1754602200-1754609400@the-leros-way.com
SUMMARY:Πολιτιστική εκδήλωση: ΦΡΥΚΤΩΡΙΕΣ
DESCRIPTION:Τετάρτη 06 Αυγούστου\, ώρα 21:30\, Αγία Μαρίνα στην περιοχή Μπούρτζι \nΟι Φρυκτωρίες ήταν ένα σύστημα επικοινωνίας που χρησιμοποιήθηκε στην Αρχαία Ελλάδα. Ήταν πύργοι χτισμένοι σε επιλεγμένες βουνοκορφές\, έτσι ώστε ο ένας πύργος να είναι ορατός από τον επόμενο πύργο με τη βοήθεια καπνού ή φωτιάς. \nΟ Δήμος Λέρου σε συνεργασία με τη Θεατρική Ομάδα Λέρου αναδεικνύουν για πρώτη φορά στο νησί μας τις Φρυκτωρίες.
URL:https://the-leros-way.com/el/event/%cf%80%ce%bf%ce%bb%ce%b9%cf%84%ce%b9%cf%83%cf%84%ce%b9%ce%ba%ce%ae-%ce%b5%ce%ba%ce%b4%ce%ae%ce%bb%cf%89%cf%83%ce%b7-%cf%86%cf%81%cf%85%ce%ba%cf%84%cf%89%cf%81%ce%b9%ce%b5%cf%83/
LOCATION:Bourtzi\, Agia Marina\, Δωρεάν χώρος στάθμευσης\, Leros\, 854 00\, Greece
CATEGORIES:Leros Municipality,Special Event,Θεατρική Ομάδα Λέρου
ATTACH;FMTTYPE=image/jpeg:https://the-leros-way.com/wp-content/uploads/2025/05/ΦΡΥΚΤΩΡΙΕΣ.jpg
END:VEVENT
BEGIN:VEVENT
DTSTART;TZID=UTC:20250810T200000
DTEND;TZID=UTC:20250810T213000
DTSTAMP:20260419T211419
CREATED:20250617T124056Z
LAST-MODIFIED:20250617T124056Z
UID:48825-1754856000-1754861400@the-leros-way.com
SUMMARY:Τιμητική διάκριση στον κ. Κωνσταντίνο Πάχο
DESCRIPTION:Τιμητική διάκριση στον κ. Κωνσταντίνο Πάχο\, επίτιμο δημότη Λέρου και υπεύθυνο των Λεριακών Νέων επί 48 συνεχή έτη\, για την πολύτιμη προσφορά του στη Λέρο και στους λεριούς συμπατριώτες.  \nΕίσοδος ελεύθερη.
URL:https://the-leros-way.com/el/event/%cf%84%ce%b9%ce%bc%ce%b7%cf%84%ce%b9%ce%ba%ce%ae-%ce%b4%ce%b9%ce%ac%ce%ba%cf%81%ce%b9%cf%83%ce%b7-%cf%83%cf%84%ce%bf%ce%bd-%ce%ba-%ce%ba%cf%89%ce%bd%cf%83%cf%84%ce%b1%ce%bd%cf%84%ce%af%ce%bd%ce%bf/
LOCATION:Municipal Library\, Δημόσια Βιβλιοθήκη Λέρου\, Leros\, 85400\, Greece
CATEGORIES:Leros Municipality,Special Event
ORGANIZER;CN="Leros Municipality":MAILTO:info@dopaisap.gr
END:VEVENT
BEGIN:VEVENT
DTSTART;TZID=UTC:20250817T200000
DTEND;TZID=UTC:20250817T233000
DTSTAMP:20260419T211419
CREATED:20230629T072053Z
LAST-MODIFIED:20250812T075339Z
UID:41717-1755460800-1755473400@the-leros-way.com
SUMMARY:Αναβίωση Λέρικου Παραδοσιακού Γάμου
DESCRIPTION:Kέφι τραγούδι και χορός. Οργάνωση: Δήμος Λέρου Ξηρόκαμπος : Αύλειος Χώρος Αγ. Φανουρίου  \nΠαραδοσιακά γλυκίσματα και άφθονο κρασί σας περιμένουν \nΕίσοδος ελεύθερη.
URL:https://the-leros-way.com/el/event/%ce%be%ce%b7%cf%81%cf%8c%ce%ba%ce%b1%ce%bc%cf%80%ce%bf%cf%82-%ce%b1%cf%8d%ce%bb%ce%b5%ce%b9%ce%bf%cf%82-%cf%87%cf%8e%cf%81%ce%bf%cf%82-%ce%b1%ce%b3-%cf%86%ce%b1%ce%bd%ce%bf%cf%85%cf%81%ce%af%ce%bf/
LOCATION:Agios Fanourios courtyard\, Xirokampos\, Agios Fanourios \, Xirokampos\, Leros\, 85400\, Greece
CATEGORIES:Leros Municipality,Special Event
ATTACH;FMTTYPE=image/jpeg:https://the-leros-way.com/wp-content/uploads/2023/06/xirokampos-agios-Fanourios.jpg
ORGANIZER;CN="Leros Municipality":MAILTO:info@dopaisap.gr
END:VEVENT
BEGIN:VEVENT
DTSTART;TZID=UTC:20250817T213000
DTEND;TZID=UTC:20250817T233000
DTSTAMP:20260419T211419
CREATED:20250521T070134Z
LAST-MODIFIED:20250521T070134Z
UID:47927-1755466200-1755473400@the-leros-way.com
SUMMARY:Ο Άκης Δείξιμος live στο Navarone το Σάββατο 7 Ιουνίου!
DESCRIPTION:Ετοιμαστείτε για μια αξέχαστη μουσική βραδιά γεμάτη ρυθμό\, συναίσθημα και… χρώματα! \nΟ αγαπημένος Άκης Δείξιμος ανεβαίνει στη σκηνή του Navarone και μας υπόσχεται ένα μοναδικό live γεμάτο επιτυχίες και εκπλήξεις. \nΚρατήσεις: 2247025074      6940789522 \nΣας περιμένουμε!
URL:https://the-leros-way.com/el/event/%ce%bf-%ce%ac%ce%ba%ce%b7%cf%82-%ce%b4%ce%b5%ce%af%ce%be%ce%b9%ce%bc%ce%bf%cf%82-live-%cf%83%cf%84%ce%bf-navarone-%cf%84%ce%bf-%cf%83%ce%ac%ce%b2%ce%b2%ce%b1%cf%84%ce%bf-7-%ce%b9%ce%bf%cf%85%ce%bd/
LOCATION:Navarone Estate\, Navarone\, Leros\, Dodecanese\, 85400\, Greece
CATEGORIES:Special Event,Μουσική,Συναυλία
ATTACH;FMTTYPE=image/webp:https://the-leros-way.com/wp-content/uploads/2025/05/0-02-05-b353474f73e127470efeb9f9284f7c068909a0733b7fc9c195060a9cf4ff9870_7f8a0efd3fdf5e53.webp
END:VEVENT
BEGIN:VEVENT
DTSTART;TZID=UTC:20250820T210000
DTEND;TZID=UTC:20250820T230000
DTSTAMP:20260419T211419
CREATED:20250617T133137Z
LAST-MODIFIED:20250617T133137Z
UID:48854-1755723600-1755730800@the-leros-way.com
SUMMARY:Μπαζάρ Βιβλίου & Mουσική Bραδιά
DESCRIPTION:Μπαζάρ Βιβλίου- μουσικών εκδόσεων ΑΡΤΕΜΙΣ θα ακολουθήσει μουσική βραδιά με την κ. Αγγελική Καραγγέλου με τίτλο «Τα ερωτικά του Θεοδωράκη». \nΔιοργάνωση: Εκδόσεις Κέντρου Πολιτισμού Έρευνας και Ανάπτυξης Λέρου «ΑΡΤΕΜΙΣ» – Ίδρυμα Σίμωνα Καρά. \nΕίσοδος ελεύθερη.
URL:https://the-leros-way.com/el/event/%ce%bc%cf%80%ce%b1%ce%b6%ce%ac%cf%81-%ce%b2%ce%b9%ce%b2%ce%bb%ce%af%ce%bf%cf%85-m%ce%bf%cf%85%cf%83%ce%b9%ce%ba%ce%ae-b%cf%81%ce%b1%ce%b4%ce%b9%ce%ac/
LOCATION:Artemis Courtyard\, Ειρηνοδικείο Λέρου\, Leros\, 85400\, Greece
CATEGORIES:Special Event,Έκθεση,Μαρίνα Άρτεμις,Πολιτιστικό Κέντρο Άρτεμις,Συναυλία
ATTACH;FMTTYPE=image/jpeg:https://the-leros-way.com/wp-content/uploads/2025/06/03.jpg
ORGANIZER;CN="Artemis":MAILTO:artemis@leros.com
END:VEVENT
BEGIN:VEVENT
DTSTART;TZID=UTC:20250823T190000
DTEND;TZID=UTC:20250823T200000
DTSTAMP:20260419T211419
CREATED:20250723T063244Z
LAST-MODIFIED:20250723T105452Z
UID:49520-1755975600-1755979200@the-leros-way.com
SUMMARY:Η ποίηση ως τόπος εξορίας και αλήθειας
DESCRIPTION:Βραδιά ποίησης\, λόγου και μουσικής: Αναγνωστάκης • Λειβαδίτης • Ρίτσος \nΜια ξεχωριστή βραδιά αφιερωμένη σε τρεις από τις πιο δυνατές φωνές της σύγχρονης ελληνικής ποίησης.\nΣτα ελληνικά και στα αγγλικά\nΕίσοδος ελεύθερη \n  \n 
URL:https://the-leros-way.com/el/event/%ce%b7-%cf%80%ce%bf%ce%af%ce%b7%cf%83%ce%b7-%cf%89%cf%82-%cf%84%cf%8c%cf%80%ce%bf%cf%82-%ce%b5%ce%be%ce%bf%cf%81%ce%af%ce%b1%cf%82-%ce%ba%ce%b1%ce%b9-%ce%b1%ce%bb%ce%ae%ce%b8%ce%b5%ce%b9%ce%b1%cf%82/
LOCATION:Ναυτικός Όμιλος Λέρου\, Ναυτικός Όμιλος Λέρου\, 3ο Κουλούκι\, 854 00\, Greece
CATEGORIES:Special Event
ATTACH;FMTTYPE=image/webp:https://the-leros-way.com/wp-content/uploads/2025/07/viber_image_2025-07-23_09-03-00-450.webp
END:VEVENT
BEGIN:VEVENT
DTSTART;TZID=UTC:20250805T210000
DTEND;TZID=UTC:20250805T230000
DTSTAMP:20260419T211419
CREATED:20250617T120746Z
LAST-MODIFIED:20250617T120746Z
UID:48813-1754427600-1754434800@the-leros-way.com
SUMMARY:Μουσική εκδήλωση: ΄Γω τραγουδώ της θάλασσας
DESCRIPTION:Νεανικές – παιδικές παραδοσιακές ορχήστρες του Κέντρου Πολιτισμού Έρευνας και Ανάπτυξης Λέρου «ΑΡΤΕΜΙΣ» \, παίζουν στα στενά και στο λιμάνι της Αγίας Μαρίνας\, τραγούδια\, σκοπούς και χορευτικές μελωδίες της Λέρου.
URL:https://the-leros-way.com/el/event/%ce%bc%ce%bf%cf%85%cf%83%ce%b9%ce%ba%ce%ae-%ce%b5%ce%ba%ce%b4%ce%ae%ce%bb%cf%89%cf%83%ce%b7-%ce%84%ce%b3%cf%89-%cf%84%cf%81%ce%b1%ce%b3%ce%bf%cf%85%ce%b4%cf%8e-%cf%84%ce%b7%cf%82-%ce%b8%ce%ac%ce%bb/
LOCATION:Bourtzi\, Agia Marina\, Δωρεάν χώρος στάθμευσης\, Leros\, 854 00\, Greece
CATEGORIES:Special Event,Μουσική,Πολιτιστικό Κέντρο Άρτεμις
ATTACH;FMTTYPE=image/webp:https://the-leros-way.com/wp-content/uploads/2025/06/484966981_10235867166089771_7023653546638177340_n.webp
ORGANIZER;CN="Artemis":MAILTO:artemis@leros.com
END:VEVENT
END:VCALENDAR