BEGIN:VCALENDAR
VERSION:2.0
PRODID:-//The Leros Way - ECPv6.15.13.1//NONSGML v1.0//EN
CALSCALE:GREGORIAN
METHOD:PUBLISH
X-WR-CALNAME:The Leros Way
X-ORIGINAL-URL:https://the-leros-way.com/el/
X-WR-CALDESC:Events for The Leros Way
REFRESH-INTERVAL;VALUE=DURATION:PT1H
X-Robots-Tag:noindex
X-PUBLISHED-TTL:PT1H
BEGIN:VTIMEZONE
TZID:UTC
BEGIN:STANDARD
TZOFFSETFROM:+0000
TZOFFSETTO:+0000
TZNAME:UTC
DTSTART:20240101T000000
END:STANDARD
END:VTIMEZONE
BEGIN:VEVENT
DTSTART;TZID=UTC:20250503T180000
DTEND;TZID=UTC:20250503T210000
DTSTAMP:20260419T175804
CREATED:20250422T065515Z
LAST-MODIFIED:20250422T065515Z
UID:46771-1746295200-1746306000@the-leros-way.com
SUMMARY:Διαδραστική Παράσταση: "Οι Πλανήτες χορεύουν"
DESCRIPTION:
URL:https://the-leros-way.com/el/event/%ce%b4%ce%b9%ce%b1%ce%b4%cf%81%ce%b1%cf%83%cf%84%ce%b9%ce%ba%ce%ae-%cf%80%ce%b1%cf%81%ce%ac%cf%83%cf%84%ce%b1%cf%83%ce%b7-%ce%bf%ce%b9-%cf%80%ce%bb%ce%b1%ce%bd%ce%ae%cf%84%ce%b5%cf%82-%cf%87%ce%bf/
LOCATION:Leros Cinema\, Municipal Cinema Leros\, Leros\, 85400\, Greece
CATEGORIES:Special Event,Θεατρική Παράσταση,Σινεμά
ATTACH;FMTTYPE=image/webp:https://the-leros-way.com/wp-content/uploads/2025/04/491838683_4161673997452884_8959385826951829275_n.webp
ORGANIZER;CN="Leros Municipality":MAILTO:info@dopaisap.gr
END:VEVENT
BEGIN:VEVENT
DTSTART;TZID=UTC:20250511T133000
DTEND;TZID=UTC:20250511T210000
DTSTAMP:20260419T175804
CREATED:20250429T092824Z
LAST-MODIFIED:20250429T092824Z
UID:47002-1746970200-1746997200@the-leros-way.com
SUMMARY:Κυριακάτικος μπουφές στο Navarone (Γυναίκες χωρίς Σύνορα)
DESCRIPTION:Με αφορμή τη Γιορτή της Μητέρας\, οι Γυναίκες χωρίς Σύνορα\, διοργανώνουν στο Navarone ένα κυριακάτικο μπουφέ. \nΑγία Μαρίνα \n11 Μαϊου\, 13:30-19:00 \n17€ απεριόριστη ποσότητα
URL:https://the-leros-way.com/el/event/%ce%ba%cf%85%cf%81%ce%b9%ce%b1%ce%ba%ce%ac%cf%84%ce%b9%ce%ba%ce%bf%cf%82-%ce%bc%cf%80%ce%bf%cf%85%cf%86%ce%ad%cf%82-%cf%83%cf%84%ce%bf-navarone-%ce%b3%cf%85%ce%bd%ce%b1%ce%af%ce%ba%ce%b5%cf%82-%cf%87/
LOCATION:Navarone Estate\, Navarone\, Leros\, Dodecanese\, 85400\, Greece
CATEGORIES:Special Event,Χορός
ATTACH;FMTTYPE=image/webp:https://the-leros-way.com/wp-content/uploads/2025/04/490444810_3021473958020461_2933270791029533430_n.webp
END:VEVENT
END:VCALENDAR