BEGIN:VCALENDAR
VERSION:2.0
PRODID:-//The Leros Way - ECPv6.15.13.1//NONSGML v1.0//EN
CALSCALE:GREGORIAN
METHOD:PUBLISH
X-ORIGINAL-URL:https://the-leros-way.com/el/
X-WR-CALDESC:Events for The Leros Way
REFRESH-INTERVAL;VALUE=DURATION:PT1H
X-Robots-Tag:noindex
X-PUBLISHED-TTL:PT1H
BEGIN:VTIMEZONE
TZID:UTC
BEGIN:STANDARD
TZOFFSETFROM:+0000
TZOFFSETTO:+0000
TZNAME:UTC
DTSTART:20240101T000000
END:STANDARD
END:VTIMEZONE
BEGIN:VEVENT
DTSTART;TZID=UTC:20250208T213000
DTEND;TZID=UTC:20250208T220000
DTSTAMP:20260420T144546
CREATED:20250205T095309Z
LAST-MODIFIED:20250207T080402Z
UID:45378-1739050200-1739052000@the-leros-way.com
SUMMARY:Ζωντανη μουσική στο Ναβαρόνε
DESCRIPTION:
URL:https://the-leros-way.com/el/event/%ce%b6%cf%89%ce%bd%cf%84%ce%b1%ce%bd%ce%b7-%ce%bc%ce%bf%cf%85%cf%83%ce%b9%ce%ba%ce%ae-%cf%83%cf%84%ce%bf-%ce%bd%ce%b1%ce%b2%ce%b1%cf%81%cf%8c%ce%bd%ce%b5/
LOCATION:LEROS\, Katafigio Agrias Zois Koulouki - Merikia - Fitorio\, Ag. Marina\, Greece\, 854 00\, Greece
CATEGORIES:Special Event
ATTACH;FMTTYPE=image/jpeg:https://the-leros-way.com/wp-content/uploads/2025/02/a8578e3f-b651-49fa-8b1d-2db3d92d7d49.jpg
ORGANIZER;CN="The Leros Way":MAILTO:info@the-leros-way.com
END:VEVENT
BEGIN:VEVENT
DTSTART;TZID=UTC:20250214T193000
DTEND;TZID=UTC:20250214T233000
DTSTAMP:20260420T144546
CREATED:20250212T070053Z
LAST-MODIFIED:20250212T070053Z
UID:45500-1739561400-1739575800@the-leros-way.com
SUMMARY: Η πιο ρομαντική βραδιά στη Λέρο σας περιμένει στο Navarone!
DESCRIPTION:Ζήστε μια αξέχαστη εμπειρία γεύσης και ατμόσφαιρας την Ημέρα του Αγίου Βαλεντίνου! Για εσάς που θέλετε να γιορτάσετε την αγάπη με το ταίρι σας ή ακόμα και με φίλους\, έχουμε ετοιμάσει δύο ειδικά μενού που θα κάνουν τη βραδιά σας ξεχωριστή.  Πού; Navarone\, Λακκί\, Λέρος  Πότε; Τετάρτη 14 Φεβρουαρίου | Από τις 19:30  Live DJ & ρομαντική ατμόσφαιρα  Εκλεκτά πιάτα\, ξεχωριστά κρασιά & signature cocktails Δείτε τα ειδικά μας μενού: \n ROMANCE MENU (28€/άτομο) \n Ερωτική σαλάτα (φωλιά από καταΐφι\, πανδαισία λαχανικών\, καρύδια\, φράουλες)  Ορεκτικό: Χαλούμι Λέρου με μαρμελάδα φράουλας  Κυρίως πιάτο (επιλογή από δύο):  Ψαρονέφρι γεμιστό με γραβιέρα\, πατάτες baby σωτέ  Μπαλοτίνα κοτόπουλο με γέμιση μανιταριών\, σάλτσα μανιταριών\, μους φέτας  Επιδόρπιο: Red Velvet Καρδιά με κρέμα τυριού & λάβα φράουλας  +5€ για 2 ποτήρια κρασί \n EXCLUSIVE LOVE MENU \n(45€/άτομο)  Welcome Cocktail “Aphrodite’s Kiss” (Gin\, ρόδι\, λάιμ\, αφρώδης οίνος)  Ερωτική σαλάτα  Ορεκτικό (επιλογή από δύο):  Χαλούμι Λέρου με μαρμελάδα φράουλας  Λουκάνικα με πατάτες stiks\, αυγό ποσέ\, σάλτσα πιπεριάς Φλωρίνης  Κυρίως πιάτο (επιλογή από τρία):  Ψαρονέφρι γεμιστό με γραβιέρα  Μπαλοτίνα κοτόπουλο  Φιλέτο λαυράκι με κρούστα αρωματικών & πουρέ γλυκοπατάτας  Επιδόρπιο: Red Velvet Καρδιά  Περιλαμβάνει 2 ποτήρια κρασί (λευκό ή κόκκινο)  Κάντε την κράτησή σας τώρα!  Τηλέφωνο: 2247025074  Navarone\, Αγία Μαρίνα\,Λέρος  Η αγάπη περνάει από το στομάχι – Γιορτάστε την στο Navarone!
URL:https://the-leros-way.com/el/event/%ce%b7-%cf%80%ce%b9%ce%bf-%cf%81%ce%bf%ce%bc%ce%b1%ce%bd%cf%84%ce%b9%ce%ba%ce%ae-%ce%b2%cf%81%ce%b1%ce%b4%ce%b9%ce%ac-%cf%83%cf%84%ce%b7-%ce%bb%ce%ad%cf%81%ce%bf-%cf%83%ce%b1%cf%82-%cf%80%ce%b5/
LOCATION:Navarone Estate\, Navarone\, Leros\, Dodecanese\, 85400\, Greece
CATEGORIES:Special Event
ATTACH;FMTTYPE=image/webp:https://the-leros-way.com/wp-content/uploads/2025/01/Navarone1.webp
END:VEVENT
BEGIN:VEVENT
DTSTART;TZID=UTC:20250215T230000
DTEND;TZID=UTC:20250215T230000
DTSTAMP:20260420T144546
CREATED:20250203T072424Z
LAST-MODIFIED:20250203T072424Z
UID:45364-1739660400-1739660400@the-leros-way.com
SUMMARY:Aποκριάτικο Πάρτυ του Πανιωνίου στην Αποθήκη
DESCRIPTION:🎭🏀 1ο ΜΑΣΚΕ ΠΑΡΤΙ – BASKET VIBES! 🏀🎭 \n📣 ΕΤΟΙΜΑΣΤΕΙΤΕ ΓΙΑ ΤΟ ΠΙΟ ΔΥΝΑΤΟ ΠΑΡΤΙ ΤΗΣ ΧΡΟΝΙΑΣ! 📣 \nΟ Αθλητικός Σύλλογος Πανιώνιος Λέρου σας προσκαλεί στο 1ο μασκέ πάρτι της χρονιάς\, το Σάββατο 08 Φεβρουαρίου\, στις 23:00\, στην “Αποθήκη”! \n🏀 Το θέμα; Basket Vibes!\nΈνας μοναδικός συνδυασμός μπάσκετ & πάρτι\, γεμάτος ρυθμό\, κέφι και τρελή διάθεση! \n🎶 Τι σας περιμένει;\n🔹 Disco & Latin μουσικές για ζέσταμα… και μετά ελληνικές επιτυχίες μέχρι το πρωί!\n🔹 Dress code: Βάλτε τη φανέλα της αγαπημένης σας ομάδας\, τα πιο cool αθλητικά σας ή ό\,τι άλλο σας εμπνέει!\n🔹 Special Touch! Σας περιμένουμε για να προσθέσουμε μια ξεχωριστή μπασκετική πινελιά στην εμφάνισή σας με τα χρώματα της ομάδας μας! \n💸 Είσοδος: 3€ – Για την ενίσχυση του συλλόγου μας! \n📍 Μην το χάσετε! Χορός\, ρυθμός και μπασκετική ενέργεια σε ένα πάρτι που θα αφήσει εποχή! \n💙 Σας περιμένουμε όλους! Μην ακούσουμε δικαιολογίες περί “μεγαλώσαμε” – το ξεκινάμε νωρίς για εσάς! 😉 \n📢 Spread the word & get ready for the ultimate BASKET PARTY! 🔥🏀🎭 \n#PanioniosLeros #BasketVibes #MaskeParty #LetsDance #FunDunkNight
URL:https://the-leros-way.com/el/event/a%cf%80%ce%bf%ce%ba%cf%81%ce%b9%ce%ac%cf%84%ce%b9%ce%ba%ce%bf-%cf%80%ce%ac%cf%81%cf%84%cf%85-%cf%84%ce%bf%cf%85-%cf%80%ce%b1%ce%bd%ce%b9%cf%89%ce%bd%ce%af%ce%bf%cf%85-%cf%83%cf%84%ce%b7%ce%bd-%ce%b1/
LOCATION:Apothiki CLub Agia Marina\, 5V43+R3\, Ag. Marina 854 00\, Leros\, 85400\, Greece
CATEGORIES:Special Event,Πάρτυ για χορό,Χορός
ATTACH;FMTTYPE=image/webp:https://the-leros-way.com/wp-content/uploads/2025/02/viber_image_2025-02-03_09-20-59-456.webp
END:VEVENT
BEGIN:VEVENT
DTSTART;TZID=UTC:20250216T093000
DTEND;TZID=UTC:20250216T140000
DTSTAMP:20260420T144546
CREATED:20250212T080256Z
LAST-MODIFIED:20250212T080256Z
UID:45506-1739698200-1739714400@the-leros-way.com
SUMMARY:Πεζοπορική Διαδρομή – Κυριακή 15/02
DESCRIPTION:Πρώτα ο Θεός και καιρού επιτρέποντος\, σας περιμένουμε την Κυριακή στις 9:30 π.μ. για μια υπέροχη πεζοπορική διαδρομή στη φύση! \n📍 Σημείο Συνάντησης: Πολεμικό Μουσείο\, Μερικιά\n🕤 Ώρα: 9:30 π.μ. \nΔιαδρομή:\n🏞️ Πολεμικό Μουσείο → Φυτώριο → Παναγία Μονή → Κατσούνι (πίσω μεριά) → Γέρακας → Πατέλα → Κατσούνι → Μερικιά → Επιστροφή στο Πολεμικό Μουσείο \n🥾 Μια μοναδική ευκαιρία να απολαύσουμε τη φύση! \nΚαλή αντάμωση! 🌿✨ #Πεζοπορία #Φύση #LerosHiking
URL:https://the-leros-way.com/el/event/%cf%80%ce%b5%ce%b6%ce%bf%cf%80%ce%bf%cf%81%ce%b9%ce%ba%ce%ae-%ce%b4%ce%b9%ce%b1%ce%b4%cf%81%ce%bf%ce%bc%ce%ae-%ce%ba%cf%85%cf%81%ce%b9%ce%b1%ce%ba%ce%ae-15-02/
LOCATION:War Musem Merikia
CATEGORIES:Special Event,άθλημα
ATTACH;FMTTYPE=image/webp:https://the-leros-way.com/wp-content/uploads/2025/02/viber_image_2025-02-12_09-55-00-590.webp
END:VEVENT
BEGIN:VEVENT
DTSTART;TZID=UTC:20250223T150000
DTEND;TZID=UTC:20250223T170000
DTSTAMP:20260420T144546
CREATED:20250220T075513Z
LAST-MODIFIED:20250220T075513Z
UID:45795-1740322800-1740330000@the-leros-way.com
SUMMARY:"Καμουτζέλες" από τον Πολιτιστικό Σύλλογο Άρτεμις
DESCRIPTION:ΚΑΜΟΥΤΖΕΛΕΣ 2025\nΤην Κυριακή 23 Φεβρουαρίου και ώρα 15:00 αναβιώνουμε το παραδοσιακό έθιμο της Λέρου “ΚΑΜΟΥΤΖΕΛΕΣ”\nΘα ξεκινήσουμε από τον χώρο του ΚΠΕΑ Λέρου Άρτεμις στον Πλάτανο και θα επιτρέψουμε εκεί\, όπου στον αίθριο χώρο της Άρτεμις θα αναβιώσουμε το έθιμο “ΚΑΛΟΓΕΡΑΚΙΑ” με απαγγελία σατιρικών τραγουδιών και μαντινάδων.
URL:https://the-leros-way.com/el/event/%ce%ba%ce%b1%ce%bc%ce%bf%cf%85%cf%84%ce%b6%ce%ad%ce%bb%ce%b5%cf%82-%ce%b1%cf%80%cf%8c-%cf%84%ce%bf%ce%bd-%cf%80%ce%bf%ce%bb%ce%b9%cf%84%ce%b9%cf%83%cf%84%ce%b9%ce%ba%cf%8c-%cf%83%cf%8d%ce%bb%ce%bb/
LOCATION:Artemis Courtyard\, Ειρηνοδικείο Λέρου\, Leros\, 85400\, Greece
CATEGORIES:Special Event,Πολιτιστικό Κέντρο Άρτεμις
ATTACH;FMTTYPE=image/webp:https://the-leros-way.com/wp-content/uploads/2025/02/viber_image_2025-02-20_09-51-11-412.webp
ORGANIZER;CN="Artemis":MAILTO:artemis@leros.com
END:VEVENT
BEGIN:VEVENT
DTSTART;TZID=UTC:20250226T100000
DTEND;TZID=UTC:20250226T120000
DTSTAMP:20260420T144546
CREATED:20250217T161747Z
LAST-MODIFIED:20250217T161747Z
UID:45632-1740564000-1740571200@the-leros-way.com
SUMMARY:Δεντροφύτευση στη Λερο
DESCRIPTION:Κυριακή 23/02/2025 \n11:00 στο Μπρούτζι
URL:https://the-leros-way.com/el/event/%ce%b4%ce%b5%ce%bd%cf%84%cf%81%ce%bf%cf%86%cf%8d%cf%84%ce%b5%cf%85%cf%83%ce%b7-%cf%83%cf%84%ce%b7-%ce%bb%ce%b5%cf%81%ce%bf/
LOCATION:Φάρος Μπαρ\, Φάρος Μπαρ\, Αγία Μαρίνα Λέρου\, 85400\, Greece
CATEGORIES:Special Event
ATTACH;FMTTYPE=image/jpeg:https://the-leros-way.com/wp-content/uploads/2025/02/viber_image_2025-02-17_17-44-19-761.jpg
ORGANIZER;CN="Leros Municipality":MAILTO:info@dopaisap.gr
END:VEVENT
END:VCALENDAR