BEGIN:VCALENDAR
VERSION:2.0
PRODID:-//The Leros Way - ECPv6.15.13.1//NONSGML v1.0//EN
CALSCALE:GREGORIAN
METHOD:PUBLISH
X-WR-CALNAME:The Leros Way
X-ORIGINAL-URL:https://the-leros-way.com/el/
X-WR-CALDESC:Events for The Leros Way
REFRESH-INTERVAL;VALUE=DURATION:PT1H
X-Robots-Tag:noindex
X-PUBLISHED-TTL:PT1H
BEGIN:VTIMEZONE
TZID:UTC
BEGIN:STANDARD
TZOFFSETFROM:+0000
TZOFFSETTO:+0000
TZNAME:UTC
DTSTART:20230101T000000
END:STANDARD
END:VTIMEZONE
BEGIN:VEVENT
DTSTART;TZID=UTC:20241231T163000
DTEND;TZID=UTC:20250101T230000
DTSTAMP:20260420T190232
CREATED:20241224T072719Z
LAST-MODIFIED:20241224T073151Z
UID:45053-1735662600-1735772400@the-leros-way.com
SUMMARY:ΠΡΟΓΡΑΜΜΑ ΝΕΟΥ ΕΤΟΥΣ 2025
DESCRIPTION:Ο Δήμος Λέρου για το Νέο Έτος κατήρτισε το παρακάτω πρόγραμμα σε συνεργασία με \nτην Ιερά Μητρόπολη Λέρου. \n  \nΤΡΙΤΗ 31-12-2024 \n\n Ώρα 04:30 μ.μ. Εσπερινός εορτής Μεγάλου Βασtλείου εις Ιερό Ναό Αγ. Σωφρονίου\n\n(Πατριαρχείου) χ\,οροστατούvτος του Σεβασμιοτάτου Μητροπολίτου \nΛέρου\, Καλύμνου και Αστυπλαίας κ.κ. Παϊσίου. \n\n Ώρα 05:30 μ.μ. Κοπή Βασιλόπιτας lεράς Μητροπόλεως Λέρου στο Πατριαρχείο\n\nΑλίντων. \n  \nΤΕΤΑΡΤΗ 01-01-2025 \n\n Ώρα 10:00 π.μ. Συγκέντρωση επισήμων στο Δημαρχιακό Μέγαρο και μετάβαση από\n\nκοινού εις Ιερό Μητροπολιτικό Ναό «Ευαγγελισμός της Θεοτόκου». \n\n Ώρα 10:30 π.μ. Δοξολογία στον Ιερό Μητροπολιτικό Ναό «Ευαγγελισμός της\n\nΘεοτόκου» χοροστατούντος του Σεβασμιοτάτου Μητροπολίτου Λέρου\, \nΚαλύμνου και Αστυπλαίας κ.κ. Παϊσίου. \nΕν συνεχεία μετάβαση στο Δημαρχιακό Μέγαρο και κοπή της \nΠρωταχpονιάτιιcης πίτας από το Δήμαρχο Λέρου κ. Τιμόθεο Κωττάιcη \nπαρουσία αρχών και κοινού. \nΚατόπιν αυτού οι εκπρόσωποι των αρχών θα μεταβούν στο Ισιδώρειο \nΕκκλησιαστικό Γηροκομείο για την κοπή της Πρωτοχρονιάτικης πίτας. \nΤο παρόν επέχει. και θέση πρόσκλησης.
URL:https://the-leros-way.com/el/event/%cf%80%cf%81%ce%bf%ce%b3%cf%81%ce%b1%ce%bc%ce%bc%ce%b1-%ce%bd%ce%b5%ce%bf%cf%85-%ce%b5%cf%84%ce%bf%cf%85%cf%83-2025/
LOCATION:LEROS\, Katafigio Agrias Zois Koulouki - Merikia - Fitorio\, Ag. Marina\, Greece\, 854 00\, Greece
CATEGORIES:Leros Municipality,Special Event
ATTACH;FMTTYPE=image/jpeg:https://the-leros-way.com/wp-content/uploads/2024/12/viber_image_2024-07-08_19-13-58-030.jpg
ORGANIZER;CN="Leros Municipality":MAILTO:info@dopaisap.gr
END:VEVENT
BEGIN:VEVENT
DTSTART;TZID=UTC:20250106T103000
DTEND;TZID=UTC:20250106T110000
DTSTAMP:20260420T190232
CREATED:20241230T083512Z
LAST-MODIFIED:20241230T083512Z
UID:45059-1736159400-1736161200@the-leros-way.com
SUMMARY:Aγιασμός των Υδάτων
DESCRIPTION:ΑΝΑΚΟΙΝΩΣΗ \nΤην 6η Ιανουαρίου\, ημέρα του Αγιασμού των Υδάτων\, θα πραγματοποιηθεί η τελετή ρίψης του Τιμίου Σταυρού στις παρακάτω τοποθεσίες: \n\nΑγία Μαρίνα\nΛακκί\nΞηρόκαμπος\nΆλιντα\nΔρυμώνας\n\nΗ τελετή θα ξεκινήσει περίπου στις 10:45 π.μ.. \nΣας περιμένουμε όλους να τιμήσουμε μαζί την ημέρα αυτή με κατάνυξη και ευλάβεια.
URL:https://the-leros-way.com/el/event/a%ce%b3%ce%b9%ce%b1%cf%83%ce%bc%cf%8c%cf%82-%cf%84%cf%89%ce%bd-%cf%85%ce%b4%ce%ac%cf%84%cf%89%ce%bd/
LOCATION:LEROS\, Katafigio Agrias Zois Koulouki - Merikia - Fitorio\, Ag. Marina\, Greece\, 854 00\, Greece
CATEGORIES:Special Event
ATTACH;FMTTYPE=image/webp:https://the-leros-way.com/wp-content/uploads/2024/12/viber_image_2024-12-30_10-12-39-171.webp
ORGANIZER;CN="Leros Municipality":MAILTO:info@dopaisap.gr
END:VEVENT
BEGIN:VEVENT
DTSTART;TZID=UTC:20250126T100000
DTEND;TZID=UTC:20250126T133000
DTSTAMP:20260420T190232
CREATED:20250123T092359Z
LAST-MODIFIED:20250123T092649Z
UID:45218-1737885600-1737898200@the-leros-way.com
SUMMARY:Brunch at Navarone in Agia Marina (Every Sunday )
DESCRIPTION:
URL:https://the-leros-way.com/el/event/brunch-to-navarone-in-agia-marina-every-sunday/
LOCATION:Νavarone Estate\, https://maps.app.goo.gl/9SikDv2qbo2YEFs38\, Leros\, 85400\, Greece
CATEGORIES:Special Event
ATTACH;FMTTYPE=image/webp:https://the-leros-way.com/wp-content/uploads/2025/01/2a1e7987-c94b-4c13-ac84-a144d0b4aacf-1.webp
ORGANIZER;CN="The Leros Way":MAILTO:info@the-leros-way.com
END:VEVENT
BEGIN:VEVENT
DTSTART;TZID=UTC:20250126T120000
DTEND;TZID=UTC:20250126T130000
DTSTAMP:20260420T190232
CREATED:20250125T063423Z
LAST-MODIFIED:20250125T063423Z
UID:45263-1737892800-1737896400@the-leros-way.com
SUMMARY:📢 Τιμώντας τα Θύματα\, Απαιτώντας Δικαιοσύνη!
DESCRIPTION:🖤 Στις 28 Φεβρουαρίου 2023\, η Ελλάδα βίωσε μια συνταρακτική τραγωδία όταν ένα επιβατικό τρένο συγκρούστηκε μετωπικά με εμπορικό στα Τέμπη\, λόγω σοβαρών λαθών και έλλειψης συστημάτων ασφαλείας. \nΑυτή η φρικτή καταστροφή στοίχισε τη ζωή σε “57 ανθρώπους”\, κυρίως νέους\, αφήνοντας πίσω συντετριμμένες οικογένειες και μια χώρα σε πένθος. Υπενθυμίζει έντονα την ανάγκη για αλλαγή\, δικαιοσύνη και λογοδοσία. \n🔴 Οι πολίτες της Λέρου θα είναι παρόντες την Κυριακή\, 26 Ιανουαρίου 2025\, στις 12:00\, στην κεντρική πλατεία του Πλατάνου\, για να δείξουμε τη στήριξή μας στις οικογένειες των θυμάτων της τραγωδίας των Τεμπών. \n🕊️ Για όσους μένουν στο νησί μας αυτόν τον Ιανουάριο\, σας καλούμε να ενώσετε τη φωνή σας μαζί μας\, τιμώντας τα θύματα και στηρίζοντας το αίτημα για ένα ασφαλέστερο μέλλον\, για όλους μας\, για τα παιδιά μας… για την Ελλάδα που όλοι αγαπάμε!
URL:https://the-leros-way.com/el/event/%f0%9f%93%a2-%cf%84%ce%b9%ce%bc%cf%8e%ce%bd%cf%84%ce%b1%cf%82-%cf%84%ce%b1-%ce%b8%cf%8d%ce%bc%ce%b1%cf%84%ce%b1-%ce%b1%cf%80%ce%b1%ce%b9%cf%84%cf%8e%ce%bd%cf%84%ce%b1%cf%82-%ce%b4%ce%b9%ce%ba%ce%b1/
LOCATION:Platanos square\, Platanos Square\, Leros\, 85400\, Greece
CATEGORIES:Special Event
ATTACH;FMTTYPE=image/webp:https://the-leros-way.com/wp-content/uploads/2025/01/474629543_629043069649152_3875416206542266835_n.webp
ORGANIZER;CN="The Leros Way":MAILTO:infor@the-leros-way.com
END:VEVENT
BEGIN:VEVENT
DTSTART;TZID=UTC:20250126T190000
DTEND;TZID=UTC:20250126T210000
DTSTAMP:20260420T190232
CREATED:20250121T071441Z
LAST-MODIFIED:20250121T071441Z
UID:45178-1737918000-1737925200@the-leros-way.com
SUMMARY:"Αφιέρωμα στον David Lynch: Ένα Κινηματογραφικό Ταξίδι"
DESCRIPTION:Η Κινηματογραφική Λέσχη Λέρου (ΚΙΛΛ) και η Θεατρική Ομάδα Λέρου (ΘΟΛ) σας καλούν σε αφιέρωμα στον κορυφαίο σκηνοθέτη David Lynch με τέσσερις ταινίες του\, κάθε Κυριακή στις 19.00 στο θεατράκι της ΘΟΛ στην Αγία Μαρίνα. \nΚυριακή 26/1: Ο άνθρωπος ελέφαντας (The Elephant Man\, 1980)\nΚυριακή 2/2: Μπλε Βελούδο (Blue Velvet\, 1986)\nΚυριακή 9/2: Ατίθαση καρδιά (Wild at Heart\, 1990)\nΚυριακή 16/2: Μαχόλαντ Ντράιβ (Mulholland Drive\, 2001) \nΟι ταινίες θα προβληθούν με ελληνικούς υποτίτλους – Είσοδος ελεύθερη
URL:https://the-leros-way.com/el/event/%ce%b1%cf%86%ce%b9%ce%ad%cf%81%cf%89%ce%bc%ce%b1-%cf%83%cf%84%ce%bf%ce%bd-david-lynch-%ce%ad%ce%bd%ce%b1-%ce%ba%ce%b9%ce%bd%ce%b7%ce%bc%ce%b1%cf%84%ce%bf%ce%b3%cf%81%ce%b1%cf%86%ce%b9%ce%ba%cf%8c/
LOCATION:Theather at Agia Marina\, Leros\, 85400\, Greece
CATEGORIES:Special Event,Θεατρική Παράσταση
ATTACH;FMTTYPE=image/webp:https://the-leros-way.com/wp-content/uploads/2025/01/LynchPoster.webp
END:VEVENT
END:VCALENDAR