BEGIN:VCALENDAR
VERSION:2.0
PRODID:-//The Leros Way - ECPv6.15.13.1//NONSGML v1.0//EN
CALSCALE:GREGORIAN
METHOD:PUBLISH
X-WR-CALNAME:The Leros Way
X-ORIGINAL-URL:https://the-leros-way.com/el/
X-WR-CALDESC:Events for The Leros Way
REFRESH-INTERVAL;VALUE=DURATION:PT1H
X-Robots-Tag:noindex
X-PUBLISHED-TTL:PT1H
BEGIN:VTIMEZONE
TZID:UTC
BEGIN:STANDARD
TZOFFSETFROM:+0000
TZOFFSETTO:+0000
TZNAME:UTC
DTSTART:20230101T000000
END:STANDARD
END:VTIMEZONE
BEGIN:VEVENT
DTSTART;TZID=UTC:20241006T110000
DTEND;TZID=UTC:20241006T120000
DTSTAMP:20260420T222353
CREATED:20240923T094228Z
LAST-MODIFIED:20241007T063205Z
UID:43442-1728212400-1728216000@the-leros-way.com
SUMMARY:Ελάτε να περπατήσουμε παρέα με το σκύλο μας και να βοηθήσουμε τα αδέσποτα του νησιού μας!
DESCRIPTION:Δήλωσε συμμετοχή στο παρακάτω λινκ για να περπατήσουμε όλοι μαζί με το σκύλο μας:[https://docs .google.com/forms/d/e/1FAIpQLScuSy_YHOYVY82tuSlvwlFMR0WBOkdS_ch-gZCUA7bA3J8fhw/viewform]https://docs.google.com/forms/d/e/1FAIpQLScuSy_YHOYVY82tuSlvwlFMR0WBOkdS_ch-gZCUA7bA3J8fhw/viewform 10.45 Συγκέντρωση έξω από το Δημοτικό Κινηματοθέατρο 10.50 Δηλώσεις συμμετοχής – Εγγραφές – Δημιουργία ατομικού κολάρου 11.15 Περπατώ με το σκύλο μου 11.45 Επιστροφή και έναρξη δραστηριοτήτων. Παραλαβή βεβαίωσης φιλοζωιας ΔΡΑΣΤΗΡΙΟΤΗΤΕΣ Γίνομαι σκύλος και εκφράζω τις ανάγκες μου Με κλειστα μάτια τάισε με Έχεις αυτό που μου λείπει Σκυλολιχουδιες για μικρούς Μπαλονοκατασκευες Έκθεση φωτογραφίας αδέσποτων Το σπίτι των Φιλόζωων Μυρωδάτα Πατουσάκια ΠΛΟΥΣΙΑ ΔΩΡΑ ΓΙΑ ΟΛΟΥΣ!!!! Παιχνίδια και αξεσουάρ για ΟΛΑ τα σκυλιά που θα συμμετάσχουν προσφορά των καταστημάτων του νησιού μας !!!! Μια αμπούλα αντιπαρασιτικη που προστατευτεί από ψίλους\, τσιμπούρια και σκνήπα που μεταδίδει το καλαζάρ\, από το κτηνιατρείο Κοντραφουρη. Η εταιρεία ΕΛΒΙΖ δίνει δέκα κιλά σκυλοτροφη για κάθε συμμετοχή\, για τα ΑΔΕΣΠΟΤΑ που φιλοξενούνται από το Φιλοζωικό Σωματείο Αν δεν έχεις σκύλο και θέλεις να στηρίξεις τη δράση\, δήλωσε το νωρίτερα και ένα σκυλί από το καταφύγιο θα βρίσκεται εκεί να περπατήσει μαζί με εσένα. Κι αν δεν θες ούτε αυτό…Δώσε απλά το παρόν και έλα να περάσουμε καλά όλοι μαζί!!! Σε ένα χώρο υπέροχα διαμορφωμένο εορταστικά για να τιμήσουμε τα ζωάκια μας!!!
URL:https://the-leros-way.com/el/event/%ce%b5%ce%bb%ce%ac%cf%84%ce%b5-%ce%bd%ce%b1-%cf%80%ce%b5%cf%81%cf%80%ce%b1%cf%84%ce%ae%cf%83%ce%bf%cf%85%ce%bc%ce%b5-%cf%80%ce%b1%cf%81%ce%ad%ce%b1-%ce%bc%ce%b5-%cf%84%ce%bf-%cf%83%ce%ba%cf%8d%ce%bb/
LOCATION:Leros Cinema\, Municipal Cinema Leros\, Leros\, 85400\, Greece
CATEGORIES:Special Event
ATTACH;FMTTYPE=image/jpeg:https://the-leros-way.com/wp-content/uploads/2024/09/c428925f-9707-4d3e-a6a0-000aa9026c8f.jpeg
ORGANIZER;CN="Leros Municipality":MAILTO:info@dopaisap.gr
END:VEVENT
BEGIN:VEVENT
DTSTART;TZID=UTC:20241012T160000
DTEND;TZID=UTC:20241013T203000
DTSTAMP:20260420T222353
CREATED:20241009T064631Z
LAST-MODIFIED:20241010T070503Z
UID:43588-1728748800-1728851400@the-leros-way.com
SUMMARY:Αιγαιοπελαγίτικοι Αγώνες στη Λερο
DESCRIPTION:Οι Αιγαιοπελαγίτικοι Αγώνες\, μια κορυφαία αθλητική διοργάνωση\, αποτελούν σημαντικό μέρος της ζωής των νησιών του Αιγαίου από την αναβίωσή τους το 1986. Αυτοί οι αγώνες λειτουργούν ως πλατφόρμα για νέους αθλητές από διάφορα νησιά του Αιγαίου\, δίνοντάς τους την ευκαιρία να επιδείξουν τα ταλέντα τους\, ενώ ταυτόχρονα προάγουν την αίσθηση ενότητας και αλληλεγγύης μεταξύ τους.\nΜε την καθοριστική τους συμβολή στη διασύνδεση της νεολαίας των νησιών\, οι συγκεκριμένοι αγώνες δεν είναι μόνο μια αθλητική διοργάνωση\, αλλά και μια γέφυρα επικοινωνίας και συνεργασίας\, ενισχύοντας τους δεσμούς που ενώνουν τις κοινότητες του Αιγαίου.\nMπορείτε να βρείτε αναλυτικό πρόγραμμα των αγώνων εδώ
URL:https://the-leros-way.com/el/event/%ce%b1%ce%b9%ce%b3%ce%b1%ce%b9%ce%bf%cf%80%ce%b5%ce%bb%ce%b1%ce%b3%ce%af%cf%84%ce%b9%ce%ba%ce%bf%ce%b9-%ce%b1%ce%b3%cf%8e%ce%bd%ce%b5%cf%82-%cf%83%cf%84%ce%b7-%ce%bb%ce%b5%cf%81%ce%bf/
LOCATION:Xirokampos Open Stadium\, 4V58+JH Xirokampos\, Leros\, 85400\, Greece
CATEGORIES:Special Event,άθλημα
ATTACH;FMTTYPE=image/webp:https://the-leros-way.com/wp-content/uploads/2024/10/12_ΣΕΛΙΔΟ_Page_01.webp
ORGANIZER;CN="Leros Municipality":MAILTO:info@dopaisap.gr
END:VEVENT
BEGIN:VEVENT
DTSTART;TZID=UTC:20241014T080000
DTEND;TZID=UTC:20241015T170000
DTSTAMP:20260420T222353
CREATED:20241007T063634Z
LAST-MODIFIED:20241007T063634Z
UID:43575-1728892800-1729011600@the-leros-way.com
SUMMARY:Δωρεάν Έλεγχος Μνήμης και Ενημερωτική Ομιλία για την Άνοια στο Δήμο μας - 14  15 Οκτωβρίου
DESCRIPTION:Ο Δήμος μας ενημερώνει ότι\, στο πλαίσιο των προγραμμάτων Προληπτικής Ιατρικής\, θα πραγματοποιηθεί έλεγχος μνήμης και άλλων νοητικών λειτουργιών σε συνεργασία με την Ψυχογηριατρική Εταιρεία ΝΕΣΤΩΡ. Συγκεκριμένα\, επιστημονικό κλιμάκιο της εταιρείας θα βρίσκεται στο νησί μας από τις 14 έως τις 15 Οκτωβρίου και θα διεξάγει τις εξετάσεις κατόπιν προγραμματισμένων ραντεβού\, σε άτομα άνω των 60 ετών.Εξετάσεις μπορούν να κάνουν όσοι αντιμετωπίζουν προβλήματα μνήμης\, έχουν πρώιμα συμπτώματα ή επιθυμούν να εξεταστούν προληπτικά.Επιπλέον\, την Τρίτη 15 Οκτωβρίου\, στις 18:00\, στη Δημοτική Βιβλιοθήκη\, θα πραγματοποιηθεί ενημερωτική ομιλία με θέμα “Άνοια: Γενικά στοιχεία για τη νόσο – Συμβουλές διαχείρισης στην καθημερινότητα”. Η ομιλία θα είναι βιωματική\, δίνοντας την ευκαιρία στους φροντιστές και συγγενείς ατόμων με άνοια να συζητήσουν τους προβληματισμούς τους και να αναζητήσουν λύσεις.Για ραντεβού\, μπορείτε να επικοινωνείτε με την Αντιδήμαρχο Κοινωνικής Πολιτικής\, Ευαγγέλου Βάσω\, στο τηλέφωνο 2247028014.
URL:https://the-leros-way.com/el/event/%ce%b4%cf%89%cf%81%ce%b5%ce%ac%ce%bd-%ce%ad%ce%bb%ce%b5%ce%b3%cf%87%ce%bf%cf%82-%ce%bc%ce%bd%ce%ae%ce%bc%ce%b7%cf%82-%ce%ba%ce%b1%ce%b9-%ce%b5%ce%bd%ce%b7%ce%bc%ce%b5%cf%81%cf%89%cf%84%ce%b9%ce%ba/
LOCATION:Municipal Library\, Δημόσια Βιβλιοθήκη Λέρου\, Leros\, 85400\, Greece
CATEGORIES:Special Event
ATTACH;FMTTYPE=image/jpeg:https://the-leros-way.com/wp-content/uploads/2024/10/461582354_10230980126062604_6723187770798955886_n.jpg
ORGANIZER;CN="Leros Municipality":MAILTO:info@dopaisap.gr
END:VEVENT
BEGIN:VEVENT
DTSTART;TZID=UTC:20241019T210000
DTEND;TZID=UTC:20241019T233000
DTSTAMP:20260420T222353
CREATED:20241016T071321Z
LAST-MODIFIED:20241016T071321Z
UID:43681-1729371600-1729380600@the-leros-way.com
SUMMARY:Πάρτυ Γενικού Λυκείου Λέρου στο Κάλβο
DESCRIPTION:Saturday 19/10/24 \nTime 21:00 \nCalvo Cafe Pub \nLets dance and support the High school of Platanos \nEntrance 8€ with drink included
URL:https://the-leros-way.com/el/event/%cf%80%ce%ac%cf%81%cf%84%cf%85-%ce%b3%ce%b5%ce%bd%ce%b9%ce%ba%ce%bf%cf%8d-%ce%bb%cf%85%ce%ba%ce%b5%ce%af%ce%bf%cf%85-%ce%bb%ce%ad%cf%81%ce%bf%cf%85-%cf%83%cf%84%ce%bf-%ce%ba%ce%ac%ce%bb%ce%b2%ce%bf/
LOCATION:Calvo Cafe Bar Agia Marina\, Calvo Cafe Pub\, Leros\, 85400\, Greece
CATEGORIES:Special Event
ATTACH;FMTTYPE=image/webp:https://the-leros-way.com/wp-content/uploads/2024/10/viber_image_2024-10-16_10-03-42-105.webp
ORGANIZER;CN="The Leros Way":MAILTO:info@the-leros-way.com
END:VEVENT
BEGIN:VEVENT
DTSTART;TZID=UTC:20241022T103000
DTEND;TZID=UTC:20241022T113000
DTSTAMP:20260420T222353
CREATED:20241016T063956Z
LAST-MODIFIED:20241016T063956Z
UID:43676-1729593000-1729596600@the-leros-way.com
SUMMARY:Επιμνημόσυνη δέηση για τους ηρωικoύς πεσόντες του αντιτορπιλικού ΑΔΡΙΑΣ
DESCRIPTION:The organization “Women Without Borders”\ncordially invites you to the memorial service for the heroic fallen of the destroyer ADRIAS\,\nwhich will be held on Tuesday\, October 22nd\, at 10:30 a.m.\,\nat the ADRIAS monument in Lakki. \nThey look forward to your presence.
URL:https://the-leros-way.com/el/event/%ce%b5%cf%80%ce%b9%ce%bc%ce%bd%ce%b7%ce%bc%cf%8c%cf%83%cf%85%ce%bd%ce%b7-%ce%b4%ce%ad%ce%b7%cf%83%ce%b7-%ce%b3%ce%b9%ce%b1-%cf%84%ce%bf%cf%85%cf%82-%ce%b7%cf%81%cf%89%ce%b9%ce%bao%cf%8d%cf%82-%cf%80/
CATEGORIES:Special Event
ATTACH;FMTTYPE=image/jpeg:https://the-leros-way.com/wp-content/uploads/2024/10/viber_image_2024-10-16_09-36-03-670.jpg
END:VEVENT
BEGIN:VEVENT
DTSTART;TZID=UTC:20241027T180000
DTEND;TZID=UTC:20241027T200000
DTSTAMP:20260420T222353
CREATED:20241024T070020Z
LAST-MODIFIED:20241024T070020Z
UID:43758-1730052000-1730059200@the-leros-way.com
SUMMARY:Συζήτηση στο Κινηματοθέατρο με θέμα: «θανατική  ποινή: ιστορία\, υφιστάμενο νομικό πλαίσιο και θεωρητικές  προσεγγίσεις».
DESCRIPTION:H Επιτροπή Πολιτισμού και Ενημέρωσης του Δήμου Λέρου \nσας προσκαλεί την Κυριακή 27 Οκτωβρίου 2024 στις 6.00 το απόγευμα\, \nστο Κινηματοθέατρο Λακκίου\, στην εκδήλωση με αφορμή την \nπαγκόσμια ημέρα κατά της θανατικής ποινής. \nΣτην εκδήλωση θα μιλήσει ο δικηγόρος και νομικός σύμβουλος \nτου Δήμου Λέρου κ. Θανάσης Παραπονιάρης με θέμα: «θανατική \nποινή: ιστορία\, υφιστάμενο νομικό πλαίσιο και θεωρητικές \nπροσεγγίσεις». \nΘα ακολουθήσει συζήτηση και τέλος θα προβληθεί η ταινία του \nΤζουλιάνο Μοντάλντο «Σάκκο και Βαντσέττι». \n 
URL:https://the-leros-way.com/el/event/%cf%83%cf%85%ce%b6%ce%ae%cf%84%ce%b7%cf%83%ce%b7-%cf%83%cf%84%ce%bf-%ce%ba%ce%b9%ce%bd%ce%b7%ce%bc%ce%b1%cf%84%ce%bf%ce%b8%ce%ad%ce%b1%cf%84%cf%81%ce%bf-%ce%bc%ce%b5-%ce%b8%ce%ad%ce%bc%ce%b1/
LOCATION:Leros Cinema\, Municipal Cinema Leros\, Leros\, 85400\, Greece
CATEGORIES:Special Event
ATTACH;FMTTYPE=image/jpeg:https://the-leros-way.com/wp-content/uploads/2024/10/images-3.jpeg
ORGANIZER;CN="Leros Municipality":MAILTO:info@dopaisap.gr
END:VEVENT
END:VCALENDAR