BEGIN:VCALENDAR
VERSION:2.0
PRODID:-//The Leros Way - ECPv6.15.13.1//NONSGML v1.0//EN
CALSCALE:GREGORIAN
METHOD:PUBLISH
X-ORIGINAL-URL:https://the-leros-way.com/el/
X-WR-CALDESC:Events for The Leros Way
REFRESH-INTERVAL;VALUE=DURATION:PT1H
X-Robots-Tag:noindex
X-PUBLISHED-TTL:PT1H
BEGIN:VTIMEZONE
TZID:UTC
BEGIN:STANDARD
TZOFFSETFROM:+0000
TZOFFSETTO:+0000
TZNAME:UTC
DTSTART:20240101T000000
END:STANDARD
END:VTIMEZONE
BEGIN:VEVENT
DTSTART;TZID=UTC:20260326T000000
DTEND;TZID=UTC:20260401T000000
DTSTAMP:20260423T110949
CREATED:20260326T105259Z
LAST-MODIFIED:20260326T105259Z
UID:53438-1774483200-1775001600@the-leros-way.com
SUMMARY:Ταινία της Εβδομάδας: ΑΠΟΣΤΟΛΗ ΧΑΙΡΕ ΜΑΡΙΑ
DESCRIPTION:Από ΠΕΜΠΤΗ 26/3 Έως ΤΕΤΑΡΤΗ 1/4: καθημερινά ώρα έναρξης 20:15 (Σάββατο 21:15) (Εκτός Παρασκευής)
URL:https://the-leros-way.com/el/event/%cf%84%ce%b1%ce%b9%ce%bd%ce%af%ce%b1-%cf%84%ce%b7%cf%82-%ce%b5%ce%b2%ce%b4%ce%bf%ce%bc%ce%ac%ce%b4%ce%b1%cf%82-%ce%b1%cf%80%ce%bf%cf%83%cf%84%ce%bf%ce%bb%ce%b7-%cf%87%ce%b1%ce%b9%cf%81%ce%b5-%ce%bc/
LOCATION:Leros Cinema\, Municipal Cinema Leros\, Leros\, 85400\, Greece
CATEGORIES:Movie,Σινεμά
ATTACH;FMTTYPE=image/webp:https://the-leros-way.com/wp-content/uploads/2026/03/MV5BNTkwNzJiYTctNzI3NC00NjE1LTlhYjktY2Q5MTdmMWFmNzcxXkEyXkFqcGc@._V1_.webp
ORGANIZER;CN="Cine Leros":MAILTO:leros-cinema@leros.gr
END:VEVENT
BEGIN:VEVENT
DTSTART;VALUE=DATE:20260319
DTEND;VALUE=DATE:20260326
DTSTAMP:20260423T110949
CREATED:20260319T064159Z
LAST-MODIFIED:20260319T064159Z
UID:53316-1773878400-1774483199@the-leros-way.com
SUMMARY:Ταινία της εβδομάδας: ΤΕΛΕΥΤΑΙΑ ΚΛΗΣΗ
DESCRIPTION:ΑΠΟ ΠΕΜΠΤΗ 19/3 ΕΩΣ ΤΕΤΑΡΤΗ 25/3Kαθημερινά ώρα έναρξης 19:30 & 21:15.
URL:https://the-leros-way.com/el/event/%cf%84%ce%b1%ce%b9%ce%bd%ce%af%ce%b1-%cf%84%ce%b7%cf%82-%ce%b5%ce%b2%ce%b4%ce%bf%ce%bc%ce%ac%ce%b4%ce%b1%cf%82-%cf%84%ce%b5%ce%bb%ce%b5%cf%85%cf%84%ce%b1%ce%b9%ce%b1-%ce%ba%ce%bb%ce%b7%cf%83%ce%b7/
LOCATION:Leros Cinema\, Municipal Cinema Leros\, Leros\, 85400\, Greece
CATEGORIES:Movie,Σινεμά
ATTACH;FMTTYPE=image/webp:https://the-leros-way.com/wp-content/uploads/2026/03/image-9.webp
ORGANIZER;CN="Cine Leros":MAILTO:leros-cinema@leros.gr
END:VEVENT
BEGIN:VEVENT
DTSTART;VALUE=DATE:20260312
DTEND;VALUE=DATE:20260319
DTSTAMP:20260423T110949
CREATED:20260312T110512Z
LAST-MODIFIED:20260313T081820Z
UID:53061-1773273600-1773878399@the-leros-way.com
SUMMARY:Ταινία της εβδομάδας: ΣΤΟΝ ΚΟΣΜΟ ΤΩΝ ΖΩΩΝ (μεταγλωττισμένο)
DESCRIPTION:ΑΠΟ ΠΕΜΠΤΗ 12/3 ΕΩΣ ΤΕΤΑΡΤΗ 18/3 \n\nΚαθημερινά στις 17:15 (εκτός Δευτέρας)\nΣάββατο & Κυριακή στις 17:15 & 19:00
URL:https://the-leros-way.com/el/event/%cf%84%ce%b1%ce%b9%ce%bd%ce%af%ce%b1-%cf%84%ce%b7%cf%82-%ce%b5%ce%b2%ce%b4%ce%bf%ce%bc%ce%ac%ce%b4%ce%b1%cf%82-%cf%83%cf%84%ce%bf%ce%bd-%ce%ba%ce%bf%cf%83%ce%bc%ce%bf-%cf%84%cf%89%ce%bd-%ce%b6%cf%89/
LOCATION:Leros Cinema\, Municipal Cinema Leros\, Leros\, 85400\, Greece
CATEGORIES:Movie,Σινεμά
ATTACH;FMTTYPE=image/webp:https://the-leros-way.com/wp-content/uploads/2026/03/image-1-5.webp
ORGANIZER;CN="Cine Leros":MAILTO:leros-cinema@leros.gr
END:VEVENT
BEGIN:VEVENT
DTSTART;VALUE=DATE:20260312
DTEND;VALUE=DATE:20260319
DTSTAMP:20260423T110949
CREATED:20260312T110029Z
LAST-MODIFIED:20260312T110029Z
UID:53059-1773273600-1773878399@the-leros-way.com
SUMMARY:Ταινία της εβδομάδας: GOOD LUCK\, HAVE FUN\, DON'T DIE
DESCRIPTION:ΑΠΟ ΠΕΜΠΤΗ 12/3 ΕΩΣ ΤΕΤΑΡΤΗ 18/3 \nΚαθημερινά στις 19:00 & 21:15 (Σάββατο\, Κυριακή\, Δευτέρα μόνο 21:15)
URL:https://the-leros-way.com/el/event/%cf%84%ce%b1%ce%b9%ce%bd%ce%af%ce%b1-%cf%84%ce%b7%cf%82-%ce%b5%ce%b2%ce%b4%ce%bf%ce%bc%ce%ac%ce%b4%ce%b1%cf%82-good-luck-have-fun-dont-die/
LOCATION:Leros Cinema\, Municipal Cinema Leros\, Leros\, 85400\, Greece
CATEGORIES:Movie,Σινεμά
ATTACH;FMTTYPE=image/webp:https://the-leros-way.com/wp-content/uploads/2026/03/image-8.webp
ORGANIZER;CN="Cine Leros":MAILTO:leros-cinema@leros.gr
END:VEVENT
BEGIN:VEVENT
DTSTART;VALUE=DATE:20260305
DTEND;VALUE=DATE:20260312
DTSTAMP:20260423T110949
CREATED:20260305T061953Z
LAST-MODIFIED:20260305T061953Z
UID:52792-1772668800-1773273599@the-leros-way.com
SUMMARY:Ταινία της εβδομάδας: Η ΝΥΦΗ!
DESCRIPTION:ΑΠΟ ΠΕΜΠΤΗ 5/3 ΕΩΣ ΤΕΤΑΡΤΗ 11/3 \n\n\n\nΚαθημερινά ώρα έναρξης 19:00 & 21:15
URL:https://the-leros-way.com/el/event/%cf%84%ce%b1%ce%b9%ce%bd%ce%af%ce%b1-%cf%84%ce%b7%cf%82-%ce%b5%ce%b2%ce%b4%ce%bf%ce%bc%ce%ac%ce%b4%ce%b1%cf%82-%ce%b7-%ce%bd%cf%85%cf%86%ce%b7/
LOCATION:Leros Cinema\, Municipal Cinema Leros\, Leros\, 85400\, Greece
CATEGORIES:Movie,Σινεμά
ATTACH;FMTTYPE=image/webp:https://the-leros-way.com/wp-content/uploads/2026/03/image-2-1.webp
ORGANIZER;CN="Cine Leros":MAILTO:leros-cinema@leros.gr
END:VEVENT
BEGIN:VEVENT
DTSTART;VALUE=DATE:20260226
DTEND;VALUE=DATE:20260305
DTSTAMP:20260423T110949
CREATED:20260226T063016Z
LAST-MODIFIED:20260226T063016Z
UID:52613-1772064000-1772668799@the-leros-way.com
SUMMARY:Ταινία της εβδομάδας: ΠΑΙΖΕΙ ΑΚΟΜΑ;
DESCRIPTION:ΑΠΟ ΠΕΜΠΤΗ 26/2 ΕΩΣ ΤΕΤΑΡΤΗ 4/3 \nKαθημερινά ώρα έναρξης 19:00
URL:https://the-leros-way.com/el/event/%cf%84%ce%b1%ce%b9%ce%bd%ce%af%ce%b1-%cf%84%ce%b7%cf%82-%ce%b5%ce%b2%ce%b4%ce%bf%ce%bc%ce%ac%ce%b4%ce%b1%cf%82-%cf%80%ce%b1%ce%b9%ce%b6%ce%b5%ce%b9-%ce%b1%ce%ba%ce%bf%ce%bc%ce%b1/
LOCATION:Leros Cinema\, Municipal Cinema Leros\, Leros\, 85400\, Greece
CATEGORIES:Movie,Σινεμά
ATTACH;FMTTYPE=image/webp:https://the-leros-way.com/wp-content/uploads/2026/02/642721299_1678366586899716_647338103475149519_n.webp
ORGANIZER;CN="Cine Leros":MAILTO:leros-cinema@leros.gr
END:VEVENT
BEGIN:VEVENT
DTSTART;VALUE=DATE:20260226
DTEND;VALUE=DATE:20260305
DTSTAMP:20260423T110949
CREATED:20260226T062647Z
LAST-MODIFIED:20260226T062647Z
UID:52609-1772064000-1772668799@the-leros-way.com
SUMMARY:Ταινία της εβδομάδας: SCREAM 7
DESCRIPTION:ΑΠΟ ΠΕΜΠΤΗ 26/2 ΕΩΣ ΤΕΤΑΡΤΗ 4/3 \nΚαθημερινά ώρα έναρξης 21:15
URL:https://the-leros-way.com/el/event/%cf%84%ce%b1%ce%b9%ce%bd%ce%af%ce%b1-%cf%84%ce%b7%cf%82-%ce%b5%ce%b2%ce%b4%ce%bf%ce%bc%ce%ac%ce%b4%ce%b1%cf%82-scream-7/
LOCATION:Leros Cinema\, Municipal Cinema Leros\, Leros\, 85400\, Greece
CATEGORIES:Movie,Σινεμά
ATTACH;FMTTYPE=image/webp:https://the-leros-way.com/wp-content/uploads/2026/02/642756354_1678366540233054_4480930510886487137_n.webp
ORGANIZER;CN="Cine Leros":MAILTO:leros-cinema@leros.gr
END:VEVENT
BEGIN:VEVENT
DTSTART;VALUE=DATE:20260219
DTEND;VALUE=DATE:20260226
DTSTAMP:20260423T110949
CREATED:20260219T075020Z
LAST-MODIFIED:20260219T075020Z
UID:52441-1771459200-1772063999@the-leros-way.com
SUMMARY:Ταινία της εβδομάδας: ΟΙΚΟΓΕΝΕΙΑ ΠΡΟΣ ΕΝΟΙΚΙΑΣΗ
DESCRIPTION:ΑΠΟ ΠΕΜΠΤΗ 19/2 ΕΩΣ ΤΕΤΑΡΤΗ 25/2Καθημερινά ώρα έναρξης 19:15
URL:https://the-leros-way.com/el/event/%cf%84%ce%b1%ce%b9%ce%bd%ce%af%ce%b1-%cf%84%ce%b7%cf%82-%ce%b5%ce%b2%ce%b4%ce%bf%ce%bc%ce%ac%ce%b4%ce%b1%cf%82-%ce%bf%ce%b9%ce%ba%ce%bf%ce%b3%ce%b5%ce%bd%ce%b5%ce%b9%ce%b1-%cf%80%cf%81%ce%bf%cf%83/
LOCATION:Leros Cinema\, Municipal Cinema Leros\, Leros\, 85400\, Greece
CATEGORIES:Movie,Σινεμά
ATTACH;FMTTYPE=image/jpeg:https://the-leros-way.com/wp-content/uploads/2026/02/638294764_1672059010863807_6346841468122793350_n.jpg
ORGANIZER;CN="Cine Leros":MAILTO:leros-cinema@leros.gr
END:VEVENT
BEGIN:VEVENT
DTSTART;VALUE=DATE:20260219
DTEND;VALUE=DATE:20260226
DTSTAMP:20260423T110949
CREATED:20260219T074648Z
LAST-MODIFIED:20260219T074648Z
UID:52437-1771459200-1772063999@the-leros-way.com
SUMMARY:Ταινία της εβδομάδας: ΤΟ ΣΦΥΡΙΓΜΑ ΤΟΥ ΘΑΝΑΤΟΥ
DESCRIPTION:ΑΠΟ ΠΕΜΠΤΗ 19/2 ΕΩΣ ΤΕΤΑΡΤΗ 25/2 Καθημερινά\, ώρα έναρξης 21:15
URL:https://the-leros-way.com/el/event/%cf%84%ce%b1%ce%b9%ce%bd%ce%af%ce%b1-%cf%84%ce%b7%cf%82-%ce%b5%ce%b2%ce%b4%ce%bf%ce%bc%ce%ac%ce%b4%ce%b1%cf%82-%cf%84%ce%bf-%cf%83%cf%86%cf%85%cf%81%ce%b9%ce%b3%ce%bc%ce%b1-%cf%84%ce%bf%cf%85-%ce%b8/
LOCATION:Leros Cinema\, Municipal Cinema Leros\, Leros\, 85400\, Greece
CATEGORIES:Movie,Σινεμά
ATTACH;FMTTYPE=image/jpeg:https://the-leros-way.com/wp-content/uploads/2026/02/638897855_1672058924197149_1678117534595199897_n.jpg
ORGANIZER;CN="Cine Leros":MAILTO:leros-cinema@leros.gr
END:VEVENT
BEGIN:VEVENT
DTSTART;VALUE=DATE:20260212
DTEND;VALUE=DATE:20260219
DTSTAMP:20260423T110949
CREATED:20260212T074051Z
LAST-MODIFIED:20260212T074051Z
UID:52345-1770854400-1771459199@the-leros-way.com
SUMMARY:Ταινία της εβδομάδας: ΑΝΕΜΟΔΑΡΜΕΝΑ ΥΨΗ
DESCRIPTION:ΑΠΟ ΠΕΜΠΤΗ 12/2 ΕΩΣ ΤΕΤΑΡΤΗ 18/2 \nΚαθημερινά ώρα έναρξης 19:00
URL:https://the-leros-way.com/el/event/%cf%84%ce%b1%ce%b9%ce%bd%ce%af%ce%b1-%cf%84%ce%b7%cf%82-%ce%b5%ce%b2%ce%b4%ce%bf%ce%bc%ce%ac%ce%b4%ce%b1%cf%82-%ce%b1%ce%bd%ce%b5%ce%bc%ce%bf%ce%b4%ce%b1%cf%81%ce%bc%ce%b5%ce%bd%ce%b1-%cf%85%cf%88/
LOCATION:Leros Cinema\, Municipal Cinema Leros\, Leros\, 85400\, Greece
CATEGORIES:Movie,Σινεμά
ATTACH;FMTTYPE=image/webp:https://the-leros-way.com/wp-content/uploads/2026/02/632882080_1665576808178694_3588558900131389418_n.webp
ORGANIZER;CN="Cine Leros":MAILTO:leros-cinema@leros.gr
END:VEVENT
BEGIN:VEVENT
DTSTART;VALUE=DATE:20260212
DTEND;VALUE=DATE:20260219
DTSTAMP:20260423T110949
CREATED:20260212T073806Z
LAST-MODIFIED:20260212T073806Z
UID:52338-1770854400-1771459199@the-leros-way.com
SUMMARY:Ταινία της εβδομάδας: SILENT HILL
DESCRIPTION:ΑΠΟ ΠΕΜΠΤΗ 12/2 ΕΩΣ ΤΕΤΑΡΤΗ 18/2 \nΚαθημερινά\, ώρα έναρξης 21:30
URL:https://the-leros-way.com/el/event/%cf%84%ce%b1%ce%b9%ce%bd%ce%af%ce%b1-%cf%84%ce%b7%cf%82-%ce%b5%ce%b2%ce%b4%ce%bf%ce%bc%ce%ac%ce%b4%ce%b1%cf%82-silent-hill/
LOCATION:Leros Cinema\, Municipal Cinema Leros\, Leros\, 85400\, Greece
CATEGORIES:Movie,Σινεμά
ATTACH;FMTTYPE=image/jpeg:https://the-leros-way.com/wp-content/uploads/2026/02/633719905_1665576741512034_3175670784672868204_n.jpg
ORGANIZER;CN="Cine Leros":MAILTO:leros-cinema@leros.gr
END:VEVENT
BEGIN:VEVENT
DTSTART;VALUE=DATE:20260205
DTEND;VALUE=DATE:20260212
DTSTAMP:20260423T110949
CREATED:20260205T072041Z
LAST-MODIFIED:20260205T072751Z
UID:52148-1770249600-1770854399@the-leros-way.com
SUMMARY:Ταινία της εβδομάδας: ΑΜΝΕΤ
DESCRIPTION:ΑΠΟ ΠΕΜΠΤΗ 5/2 ΕΩΣ ΤΕΤΑΡΤΗ 11/2 (Εκτός Σαββάτου)\nΚαθημερινά\, ώρα έναρξης 19:00 & 21:15
URL:https://the-leros-way.com/el/event/movie-of-the-week-hamnet/
LOCATION:Leros Cinema\, Municipal Cinema Leros\, Leros\, 85400\, Greece
CATEGORIES:Movie,Σινεμά
ATTACH;FMTTYPE=image/webp:https://the-leros-way.com/wp-content/uploads/2026/02/images.webp
ORGANIZER;CN="Cine Leros":MAILTO:leros-cinema@leros.gr
END:VEVENT
BEGIN:VEVENT
DTSTART;VALUE=DATE:20260129
DTEND;VALUE=DATE:20260205
DTSTAMP:20260423T110949
CREATED:20260129T073808Z
LAST-MODIFIED:20260129T075046Z
UID:52060-1769644800-1770249599@the-leros-way.com
SUMMARY:Ταινία της εβδομάδας: ΟΙ ΦΥΛΑΚΕΣ ΤΟΥ ΧΙΟΝΙΟΥ (μεταγλωττισμένο)
DESCRIPTION:ΑΠΟ ΠΕΜΠΤΗ 29/1 ΕΩΣ ΤΕΤΑΡΤΗ 4/2 (εκτός Κυριακής)\nΚαθημερινά\, 17:30 (μεταγλωττισμένο)
URL:https://the-leros-way.com/el/event/movie-of-the-week-north-greek-dub/
LOCATION:Leros Cinema\, Municipal Cinema Leros\, Leros\, 85400\, Greece
CATEGORIES:Movie,Σινεμά
ATTACH;FMTTYPE=image/webp:https://the-leros-way.com/wp-content/uploads/2026/01/624148133_1653147846088257_3060989161875738348_n.webp
ORGANIZER;CN="Cine Leros":MAILTO:leros-cinema@leros.gr
END:VEVENT
BEGIN:VEVENT
DTSTART;VALUE=DATE:20260129
DTEND;VALUE=DATE:20260205
DTSTAMP:20260423T110949
CREATED:20260129T073258Z
LAST-MODIFIED:20260129T074842Z
UID:52054-1769644800-1770249599@the-leros-way.com
SUMMARY:Ταινία της εβδομάδας: ΑΓΙΟΣ ΠΑΪΣΙΟΣ
DESCRIPTION:ΑΠΟ ΠΕΜΠΤΗ 29/1 ΕΩΣ ΤΕΤΑΡΤΗ 4/2 (Εκτός Κυριακής)Καθημερινά\, 19:00 & 21:15
URL:https://the-leros-way.com/el/event/movie-of-the-week-saint-paisios-greek/
LOCATION:Leros Cinema\, Municipal Cinema Leros\, Leros\, 85400\, Greece
CATEGORIES:Movie,Σινεμά
ATTACH;FMTTYPE=image/jpeg:https://the-leros-way.com/wp-content/uploads/2026/01/623402332_1653147636088278_5532723088097725967_n.jpg
ORGANIZER;CN="Cine Leros":MAILTO:leros-cinema@leros.gr
END:VEVENT
BEGIN:VEVENT
DTSTART;TZID=UTC:20260122T193000
DTEND;TZID=UTC:20260128T213000
DTSTAMP:20260423T110949
CREATED:20260122T074206Z
LAST-MODIFIED:20260122T103201Z
UID:51960-1769110200-1769635800@the-leros-way.com
SUMMARY:Ταινία της εβδομάδας: ΟΙ ΔΙΚΟΙ ΜΟΥ ΑΝΘΡΩΠΟΙ
DESCRIPTION:ΑΠΟ ΠΕΜΠΤΗ 22/1 ΕΩΣ ΤΕΤΑΡΤΗ 28/1 \nΚαθημερινά\, 19:30 \nΔείτε το trailer εδώ.
URL:https://the-leros-way.com/el/event/movie-of-the-week-my-people/
LOCATION:Leros Cinema\, Municipal Cinema Leros\, Leros\, 85400\, Greece
CATEGORIES:Movie,Σινεμά
ATTACH;FMTTYPE=image/webp:https://the-leros-way.com/wp-content/uploads/2026/01/618246320_1646786330057742_4427337109467880136_n.webp
ORGANIZER;CN="Cine Leros":MAILTO:leros-cinema@leros.gr
END:VEVENT
BEGIN:VEVENT
DTSTART;TZID=UTC:20260122T080000
DTEND;TZID=UTC:20260128T170000
DTSTAMP:20260423T110949
CREATED:20260122T073814Z
LAST-MODIFIED:20260122T103319Z
UID:51955-1769068800-1769619600@the-leros-way.com
SUMMARY:Ταινία της εβδομάδας: Η ΕΣΧΑΤΗ ΤΩΝ ΠΟΙΝΩΝ
DESCRIPTION:ΑΠΟ ΠΕΜΠΤΗ 22/1 ΕΩΣ ΤΕΤΑΡΤΗ 28/1 \nΚαθημερινά\, 21:15 \nΔείτε το trailer εδώ. \n 
URL:https://the-leros-way.com/el/event/movie-of-the-week-mercy/
LOCATION:Leros Cinema\, Municipal Cinema Leros\, Leros\, 85400\, Greece
CATEGORIES:Movie,Σινεμά
ATTACH;FMTTYPE=image/webp:https://the-leros-way.com/wp-content/uploads/2026/01/618858983_1646786270057748_3125539250192034136_n.webp
ORGANIZER;CN="Cine Leros":MAILTO:leros-cinema@leros.gr
END:VEVENT
BEGIN:VEVENT
DTSTART;TZID=UTC:20260108T210000
DTEND;TZID=UTC:20260114T233000
DTSTAMP:20260423T110949
CREATED:20260113T140225Z
LAST-MODIFIED:20260113T140225Z
UID:51767-1767906000-1768433400@the-leros-way.com
SUMMARY:Ταινία της εβδομάδας: ΑΝΑΚΟΝΤΑ
DESCRIPTION:ΑΠΟ ΠΕΜΠΤΗ 8/1 ΕΩΣ ΤΕΤΑΡΤΗ 14/1  \nΚαθημερινά ώρα έναρξης 21:15
URL:https://the-leros-way.com/el/event/%cf%84%ce%b1%ce%b9%ce%bd%ce%af%ce%b1-%cf%84%ce%b7%cf%82-%ce%b5%ce%b2%ce%b4%ce%bf%ce%bc%ce%ac%ce%b4%ce%b1%cf%82-%ce%b1%ce%bd%ce%b1%ce%ba%ce%bf%ce%bd%cf%84%ce%b1/
LOCATION:Leros Cinema\, Municipal Cinema Leros\, Leros\, 85400\, Greece
CATEGORIES:Movie,Σινεμά
ATTACH;FMTTYPE=image/webp:https://the-leros-way.com/wp-content/uploads/2026/01/613427235_1635640324505676_8660127327716543512_n.webp
ORGANIZER;CN="Cine Leros":MAILTO:leros-cinema@leros.gr
END:VEVENT
BEGIN:VEVENT
DTSTART;TZID=UTC:20260108T190000
DTEND;TZID=UTC:20260114T210000
DTSTAMP:20260423T110949
CREATED:20260113T140724Z
LAST-MODIFIED:20260113T140724Z
UID:51771-1767898800-1768424400@the-leros-way.com
SUMMARY:Ταινία της εβδομάδας: ΚΑΠΟΔΙΣΤΡΙΑΣ
DESCRIPTION:ΑΠΟ ΠΕΜΠΤΗ 8/1 ΕΩΣ ΤΕΤΑΡΤΗ 14/1 \nΚαθημερινά ώρα έναρξης 19:00
URL:https://the-leros-way.com/el/event/%cf%84%ce%b1%ce%b9%ce%bd%ce%af%ce%b1-%cf%84%ce%b7%cf%82-%ce%b5%ce%b2%ce%b4%ce%bf%ce%bc%ce%ac%ce%b4%ce%b1%cf%82-%ce%ba%ce%b1%cf%80%ce%bf%ce%b4%ce%b9%cf%83%cf%84%cf%81%ce%b9%ce%b1%cf%83/
LOCATION:Leros Cinema\, Municipal Cinema Leros\, Leros\, 85400\, Greece
CATEGORIES:Movie,Σινεμά
ATTACH;FMTTYPE=image/webp:https://the-leros-way.com/wp-content/uploads/2026/01/613542737_1635640391172336_3705025332750546466_n.webp
ORGANIZER;CN="Cine Leros":MAILTO:leros-cinema@leros.gr
END:VEVENT
BEGIN:VEVENT
DTSTART;TZID=UTC:20260108T170000
DTEND;TZID=UTC:20260114T183000
DTSTAMP:20260423T110949
CREATED:20260113T141136Z
LAST-MODIFIED:20260113T141136Z
UID:51777-1767891600-1768415400@the-leros-way.com
SUMMARY:Ταινία της εβδομάδας: ΜΠΟΜΠ ΣΦΟΥΓΓΑΡΑΚΗΣ
DESCRIPTION:ΑΠΟ ΠΕΜΠΤΗ 8/1 ΕΩΣ ΤΕΤΑΡΤΗ 14/1 \nKαθημερινά ώρα έναρξης 17:15 ( μεταγλωττισμένο)
URL:https://the-leros-way.com/el/event/%cf%84%ce%b1%ce%b9%ce%bd%ce%af%ce%b1-%cf%84%ce%b7%cf%82-%ce%b5%ce%b2%ce%b4%ce%bf%ce%bc%ce%ac%ce%b4%ce%b1%cf%82-%ce%bc%cf%80%ce%bf%ce%bc%cf%80-%cf%83%cf%86%ce%bf%cf%85%ce%b3%ce%b3%ce%b1%cf%81%ce%b1/
LOCATION:Leros Cinema\, Municipal Cinema Leros\, Leros\, 85400\, Greece
CATEGORIES:Movie,Σινεμά
ATTACH;FMTTYPE=image/webp:https://the-leros-way.com/wp-content/uploads/2026/01/612495534_1635640461172329_214585566204184504_n.webp
ORGANIZER;CN="Cine Leros":MAILTO:leros-cinema@leros.gr
END:VEVENT
BEGIN:VEVENT
DTSTART;TZID=UTC:20251211T193000
DTEND;TZID=UTC:20251217T233000
DTSTAMP:20260423T110949
CREATED:20251211T071917Z
LAST-MODIFIED:20251211T071917Z
UID:51517-1765481400-1766014200@the-leros-way.com
SUMMARY:Ταινία της εβδομάδας: ΤΑ ΚΑΛΑΝΤΑ ΤΩΝ ΧΡΙΣΤΟΥΓΕΝΝΩΝ
DESCRIPTION:ΑΠΟ ΠΕΜΠΤΗ 11/12 ΕΩΣ ΤΕΤΑΡΤΗ 17/12 \n\nΠέμπτη\, Σάββατο\, Δευτέρα\, Τετάρτη – ώρα έναρξης 19:30\nΠαρασκευή\, Κυριακή\, Τρίτη – ώρα έναρξης 21:30
URL:https://the-leros-way.com/el/event/%cf%84%ce%b1%ce%b9%ce%bd%ce%af%ce%b1-%cf%84%ce%b7%cf%82-%ce%b5%ce%b2%ce%b4%ce%bf%ce%bc%ce%ac%ce%b4%ce%b1%cf%82-%cf%84%ce%b1-%ce%ba%ce%b1%ce%bb%ce%b1%ce%bd%cf%84%ce%b1-%cf%84%cf%89%ce%bd-%cf%87%cf%81/
LOCATION:Leros Cinema\, Municipal Cinema Leros\, Leros\, 85400\, Greece
CATEGORIES:Movie,Σινεμά
ATTACH;FMTTYPE=image/webp:https://the-leros-way.com/wp-content/uploads/2025/12/596608693_1614235139979528_32388612361943007_n.webp
ORGANIZER;CN="Cine Leros":MAILTO:leros-cinema@leros.gr
END:VEVENT
BEGIN:VEVENT
DTSTART;TZID=UTC:20251211T193000
DTEND;TZID=UTC:20251217T213000
DTSTAMP:20260423T110949
CREATED:20251211T072400Z
LAST-MODIFIED:20251211T072400Z
UID:51523-1765481400-1766007000@the-leros-way.com
SUMMARY:Ταινία της εβδομάδας: ΠΕΘΑΝΕ ΑΓΑΠΗ ΜΟΥ
DESCRIPTION:ΑΠΟ ΠΕΜΠΤΗ 11/12 ΕΩΣ ΤΕΤΑΡΤΗ 17/12Πέμπτη\, Σάββατο\, Δευτέρα\, Τετάρτη – ώρα έναρξης 21:15Παρασκευή\, Κυριακή\, Τρίτη – ώρα έναρξης 19:30
URL:https://the-leros-way.com/el/event/%cf%84%ce%b1%ce%b9%ce%bd%ce%af%ce%b1-%cf%84%ce%b7%cf%82-%ce%b5%ce%b2%ce%b4%ce%bf%ce%bc%ce%ac%ce%b4%ce%b1%cf%82-%cf%80%ce%b5%ce%b8%ce%b1%ce%bd%ce%b5-%ce%b1%ce%b3%ce%b1%cf%80%ce%b7-%ce%bc%ce%bf%cf%85/
LOCATION:Leros Cinema\, Municipal Cinema Leros\, Leros\, 85400\, Greece
CATEGORIES:Movie,Σινεμά
ATTACH;FMTTYPE=image/webp:https://the-leros-way.com/wp-content/uploads/2025/12/597044903_1614235279979514_8393966714864856337_n.webp
ORGANIZER;CN="Cine Leros":MAILTO:leros-cinema@leros.gr
END:VEVENT
BEGIN:VEVENT
DTSTART;TZID=UTC:20251211T173000
DTEND;TZID=UTC:20251217T190000
DTSTAMP:20260423T110949
CREATED:20251127T072125Z
LAST-MODIFIED:20251211T072907Z
UID:51009-1765474200-1765998000@the-leros-way.com
SUMMARY:Ταινία της εβδομάδας: ΖΩΟΥΠΟΛΗ 2 (μεταγλωτισμένο)
DESCRIPTION:ΑΠΟ ΠΕΜΠΤΗ 11/12 ΕΩΣ ΤΕΤΑΡΤΗ 17/12 \nΚαθημερινά – ώρα έναρξης 17:30 (εκτός Τετάρτης)
URL:https://the-leros-way.com/el/event/%cf%84%ce%b1%ce%b9%ce%bd%ce%af%ce%b1-%cf%84%ce%b7%cf%82-%ce%b5%ce%b2%ce%b4%ce%bf%ce%bc%ce%ac%ce%b4%ce%b1%cf%82-%ce%b6%cf%89%ce%bf%cf%85%cf%80%ce%bf%ce%bb%ce%b7-2-%ce%bc%ce%b5%cf%84%ce%b1%ce%b3%ce%bb/
LOCATION:Leros Cinema\, Municipal Cinema Leros\, Leros\, 85400\, Greece
CATEGORIES:Movie,Σινεμά
ATTACH;FMTTYPE=image/webp:https://the-leros-way.com/wp-content/uploads/2025/11/589969371_1603330664403309_1267703756271186526_n.webp
ORGANIZER;CN="Cine Leros":MAILTO:leros-cinema@leros.gr
END:VEVENT
BEGIN:VEVENT
DTSTART;TZID=UTC:20251204T000000
DTEND;TZID=UTC:20251210T235900
DTSTAMP:20260423T110949
CREATED:20251127T071342Z
LAST-MODIFIED:20251204T084113Z
UID:50999-1764806400-1765411140@the-leros-way.com
SUMMARY:Ταινία της εβδομάδας: ΣΠΑΣΜΕΝΗ ΦΛΕΒΑ
DESCRIPTION:ΑΠΟ ΠΕΜΠΤΗ 4/12 ΕΩΣ ΤΕΤΑΡΤΗ 10/12 \nΚαθημερινά 19:15 (εκτός Παρασκευή & Σάββατο)
URL:https://the-leros-way.com/el/event/%cf%84%ce%b1%ce%b9%ce%bd%ce%af%ce%b1-%cf%84%ce%b7%cf%82-%ce%b5%ce%b2%ce%b4%ce%bf%ce%bc%ce%ac%ce%b4%ce%b1%cf%82-%cf%83%cf%80%ce%b1%cf%83%ce%bc%ce%b5%ce%bd%ce%b7-%cf%86%ce%bb%ce%b5%ce%b2%ce%b1/
LOCATION:Leros Cinema\, Municipal Cinema Leros\, Leros\, 85400\, Greece
CATEGORIES:Movie,Σινεμά
ATTACH;FMTTYPE=image/webp:https://the-leros-way.com/wp-content/uploads/2025/11/589739684_1603330594403316_7685572370530536645_n.webp
ORGANIZER;CN="Cine Leros":MAILTO:leros-cinema@leros.gr
END:VEVENT
BEGIN:VEVENT
DTSTART;TZID=UTC:20251129T210000
DTEND;TZID=UTC:20251129T230000
DTSTAMP:20260423T110949
CREATED:20251103T083024Z
LAST-MODIFIED:20251103T083024Z
UID:50609-1764450000-1764457200@the-leros-way.com
SUMMARY:13ο Φεστιβάλ – Ένας μήνας με τον ιταλικό κινηματογράφο
DESCRIPTION:Το ετήσιο φεστιβάλ ιταλικού κινηματογράφου στην Ελλάδα φτάνει φέτος στην 13η του διοργάνωση. Διοργανώνεται από το Ιταλικό Μορφωτικό Ινστιτούτο Αθηνών σε συνεργασία με τον Πολιτιστικό Σύλλογο AIAL. \nΣτη Λέρο\, πέντε ταινίες από το φεστιβάλ θα προβληθούν στο πλαίσιο του ετήσιου τοπικού φεστιβάλ «Ένας μήνας με τον ιταλικό κινηματογράφο»\,  με την υποστήριξη του Δήμου. Από την 1η έως τις 29 Νοεμβρίου\, οι προβολές θα πραγματοποιούνται κάθε εβδομάδα στις 9:00 μ.μ. στο Δημοτικό Θέατρο Λακκίου. Η είσοδος είναι ελεύθερη.   \nΟι ταινίες\, στην αυθεντική τους γλώσσα\, θα προβάλλονται με ελληνικούς υπότιτλους. \nΜάθετε περισσότερα για τις ταινίες εδώ.
URL:https://the-leros-way.com/el/event/13%ce%bf-%cf%86%ce%b5%cf%83%cf%84%ce%b9%ce%b2%ce%ac%ce%bb-%ce%ad%ce%bd%ce%b1%cf%82-%ce%bc%ce%ae%ce%bd%ce%b1%cf%82-%ce%bc%ce%b5-%cf%84%ce%bf%ce%bd-%ce%b9%cf%84%ce%b1%ce%bb%ce%b9%ce%ba%cf%8c/
LOCATION:Leros Cinema\, Municipal Cinema Leros\, Leros\, 85400\, Greece
CATEGORIES:Movie,Ελληνοιταλικός Σύλλογος,Σινεμά,Φεστιβάλ
ATTACH;FMTTYPE=image/webp:https://the-leros-way.com/wp-content/uploads/2025/11/ciak.2025_afisa-lrs.23-web.webp
ORGANIZER;CN="Greek-Italian Association of Friends of Leros %E2%80%9CAIAL%E2%80%9D":MAILTO:petrokaravo@yahoo.it
END:VEVENT
BEGIN:VEVENT
DTSTART;VALUE=DATE:20251127
DTEND;VALUE=DATE:20251204
DTSTAMP:20260423T110949
CREATED:20251127T071721Z
LAST-MODIFIED:20251127T071721Z
UID:51004-1764201600-1764806399@the-leros-way.com
SUMMARY:Ταινία της εβδομάδας: WICKED 2 (στα αγγλικά)
DESCRIPTION:ΑΠΟ ΠΕΜΠΤΗ 27/11 ΕΩΣ ΤΕΤΑΡΤΗ 3/12 \nΚαθημερινά ώρα έναρξης 19:15 (εκτός Σαββάτου)
URL:https://the-leros-way.com/el/event/%cf%84%ce%b1%ce%b9%ce%bd%ce%af%ce%b1-%cf%84%ce%b7%cf%82-%ce%b5%ce%b2%ce%b4%ce%bf%ce%bc%ce%ac%ce%b4%ce%b1%cf%82-wicked-2-%cf%83%cf%84%ce%b1-%ce%b1%ce%b3%ce%b3%ce%bb%ce%b9%ce%ba%ce%ac/
LOCATION:Leros Cinema\, Municipal Cinema Leros\, Leros\, 85400\, Greece
CATEGORIES:Movie,Σινεμά
ATTACH;FMTTYPE=image/webp:https://the-leros-way.com/wp-content/uploads/2025/11/590697524_1603330491069993_6108407034673731611_n.webp
ORGANIZER;CN="Cine Leros":MAILTO:leros-cinema@leros.gr
END:VEVENT
BEGIN:VEVENT
DTSTART;TZID=UTC:20251122T210000
DTEND;TZID=UTC:20251122T230000
DTSTAMP:20260423T110949
CREATED:20251103T082859Z
LAST-MODIFIED:20251103T082859Z
UID:50610-1763845200-1763852400@the-leros-way.com
SUMMARY:13ο Φεστιβάλ – Ένας μήνας με τον ιταλικό κινηματογράφο
DESCRIPTION:Το ετήσιο φεστιβάλ ιταλικού κινηματογράφου στην Ελλάδα φτάνει φέτος στην 13η του διοργάνωση. Διοργανώνεται από το Ιταλικό Μορφωτικό Ινστιτούτο Αθηνών σε συνεργασία με τον Πολιτιστικό Σύλλογο AIAL. \nΣτη Λέρο\, πέντε ταινίες από το φεστιβάλ θα προβληθούν στο πλαίσιο του ετήσιου τοπικού φεστιβάλ «Ένας μήνας με τον ιταλικό κινηματογράφο»\,  με την υποστήριξη του Δήμου. Από την 1η έως τις 29 Νοεμβρίου\, οι προβολές θα πραγματοποιούνται κάθε εβδομάδα στις 9:00 μ.μ. στο Δημοτικό Θέατρο Λακκίου. Η είσοδος είναι ελεύθερη.   \nΟι ταινίες\, στην αυθεντική τους γλώσσα\, θα προβάλλονται με ελληνικούς υπότιτλους. \nΜάθετε περισσότερα για τις ταινίες εδώ.
URL:https://the-leros-way.com/el/event/13%ce%bf-%cf%86%ce%b5%cf%83%cf%84%ce%b9%ce%b2%ce%ac%ce%bb-%ce%ad%ce%bd%ce%b1%cf%82-%ce%bc%ce%ae%ce%bd%ce%b1%cf%82-%ce%bc%ce%b5-%cf%84%ce%bf%ce%bd-%ce%b9%cf%84%ce%b1%ce%bb%ce%b9%ce%ba%cf%8c-2/
LOCATION:Leros Cinema\, Municipal Cinema Leros\, Leros\, 85400\, Greece
CATEGORIES:Movie,Ελληνοιταλικός Σύλλογος,Σινεμά,Φεστιβάλ
ATTACH;FMTTYPE=image/webp:https://the-leros-way.com/wp-content/uploads/2025/11/ciak.2025_afisa-lrs.23-web.webp
ORGANIZER;CN="Greek-Italian Association of Friends of Leros %E2%80%9CAIAL%E2%80%9D":MAILTO:petrokaravo@yahoo.it
END:VEVENT
BEGIN:VEVENT
DTSTART;TZID=UTC:20251120T210000
DTEND;TZID=UTC:20251126T230000
DTSTAMP:20260423T110949
CREATED:20251120T071355Z
LAST-MODIFIED:20251120T071355Z
UID:50821-1763672400-1764198000@the-leros-way.com
SUMMARY:Ταινία της εβδομάδας: SISU 2
DESCRIPTION:ΑΠΟ ΠΕΜΠΤΗ 20/11 ΕΩΣ ΤΕΤΑΡΤΗ 26/11\n \nΚαθημερινά ώρα έναρξης 21:15 ( εκτός Κυριακής)
URL:https://the-leros-way.com/el/event/%cf%84%ce%b1%ce%b9%ce%bd%ce%af%ce%b1-%cf%84%ce%b7%cf%82-%ce%b5%ce%b2%ce%b4%ce%bf%ce%bc%ce%ac%ce%b4%ce%b1%cf%82-sisu-2/
LOCATION:Leros Cinema\, Municipal Cinema Leros\, Leros\, 85400\, Greece
CATEGORIES:Movie,Σινεμά
ATTACH;FMTTYPE=image/webp:https://the-leros-way.com/wp-content/uploads/2025/11/585042932_1597527271650315_3276622094239454311_n.webp
ORGANIZER;CN="Cine Leros":MAILTO:leros-cinema@leros.gr
END:VEVENT
BEGIN:VEVENT
DTSTART;TZID=UTC:20251120T190000
DTEND;TZID=UTC:20251126T203000
DTSTAMP:20260423T110949
CREATED:20251120T071713Z
LAST-MODIFIED:20251120T071713Z
UID:50826-1763665200-1764189000@the-leros-way.com
SUMMARY:Ταινία της εβδομάδας: ANEMONE
DESCRIPTION:ΑΠΟ ΠΕΜΠΤΗ 20/11 ΕΩΣ ΤΕΤΑΡΤΗ 26/11 \nΚαθημερινά ώρα έναρξης 19:00 (εκτός Σαββάτου)
URL:https://the-leros-way.com/el/event/%cf%84%ce%b1%ce%b9%ce%bd%ce%af%ce%b1-%cf%84%ce%b7%cf%82-%ce%b5%ce%b2%ce%b4%ce%bf%ce%bc%ce%ac%ce%b4%ce%b1%cf%82-anemone/
LOCATION:Leros Cinema\, Municipal Cinema Leros\, Leros\, 85400\, Greece
CATEGORIES:Movie,Σινεμά
ATTACH;FMTTYPE=image/webp:https://the-leros-way.com/wp-content/uploads/2025/11/584414832_1597527308316978_2790297035732616349_n.webp
ORGANIZER;CN="Cine Leros":MAILTO:leros-cinema@leros.gr
END:VEVENT
BEGIN:VEVENT
DTSTART;TZID=UTC:20251115T210000
DTEND;TZID=UTC:20251115T230000
DTSTAMP:20260423T110949
CREATED:20251103T082726Z
LAST-MODIFIED:20251103T082726Z
UID:50613-1763240400-1763247600@the-leros-way.com
SUMMARY:13ο Φεστιβάλ – Ένας μήνας με τον ιταλικό κινηματογράφο
DESCRIPTION:Το ετήσιο φεστιβάλ ιταλικού κινηματογράφου στην Ελλάδα φτάνει φέτος στην 13η του διοργάνωση. Διοργανώνεται από το Ιταλικό Μορφωτικό Ινστιτούτο Αθηνών σε συνεργασία με τον Πολιτιστικό Σύλλογο AIAL. \nΣτη Λέρο\, πέντε ταινίες από το φεστιβάλ θα προβληθούν στο πλαίσιο του ετήσιου τοπικού φεστιβάλ «Ένας μήνας με τον ιταλικό κινηματογράφο»\, με την υποστήριξη του Δήμου. Από την 1η έως τις 29 Νοεμβρίου\, οι προβολές θα πραγματοποιούνται κάθε εβδομάδα στις 9:00 μ.μ. στο Δημοτικό Θέατρο Λακκίου. Η είσοδος είναι ελεύθερη.   \nΟι ταινίες\, στην αυθεντική τους γλώσσα\, θα προβάλλονται με ελληνικούς υπότιτλους. \nΜάθετε περισσότερα για τις ταινίες εδώ.
URL:https://the-leros-way.com/el/event/13%ce%bf-%cf%86%ce%b5%cf%83%cf%84%ce%b9%ce%b2%ce%ac%ce%bb-%ce%ad%ce%bd%ce%b1%cf%82-%ce%bc%ce%ae%ce%bd%ce%b1%cf%82-%ce%bc%ce%b5-%cf%84%ce%bf%ce%bd-%ce%b9%cf%84%ce%b1%ce%bb%ce%b9%ce%ba%cf%8c-4/
LOCATION:Leros Cinema\, Municipal Cinema Leros\, Leros\, 85400\, Greece
CATEGORIES:Movie,Ελληνοιταλικός Σύλλογος,Σινεμά,Φεστιβάλ
ATTACH;FMTTYPE=image/webp:https://the-leros-way.com/wp-content/uploads/2025/11/ciak.2025_afisa-lrs.23-web.webp
END:VEVENT
BEGIN:VEVENT
DTSTART;TZID=UTC:20251113T190000
DTEND;TZID=UTC:20251119T233000
DTSTAMP:20260423T110949
CREATED:20251113T083346Z
LAST-MODIFIED:20251113T083346Z
UID:50693-1763060400-1763595000@the-leros-way.com
SUMMARY:Ταινία της εβδομάδας: ΒΟΥΓΟΝΙΑ
DESCRIPTION:ΠΕΜΠΤΗ 13/11 ΕΩΣ ΤΕΤΑΡΤΗ 19/11\nKαθημερινά ώρα έναρξης 19:00 & 21:15 (εκτός Σαββάτου)
URL:https://the-leros-way.com/el/event/%cf%84%ce%b1%ce%b9%ce%bd%ce%af%ce%b1-%cf%84%ce%b7%cf%82-%ce%b5%ce%b2%ce%b4%ce%bf%ce%bc%ce%ac%ce%b4%ce%b1%cf%82-%ce%b2%ce%bf%cf%85%ce%b3%ce%bf%ce%bd%ce%b9%ce%b1/
LOCATION:Leros Cinema\, Municipal Cinema Leros\, Leros\, 85400\, Greece
CATEGORIES:Movie,Σινεμά
ATTACH;FMTTYPE=image/webp:https://the-leros-way.com/wp-content/uploads/2025/11/581428587_1591714562231586_6116885655620628555_n.webp
ORGANIZER;CN="Cine Leros":MAILTO:leros-cinema@leros.gr
END:VEVENT
END:VCALENDAR