BEGIN:VCALENDAR
VERSION:2.0
PRODID:-//The Leros Way - ECPv6.15.20//NONSGML v1.0//EN
CALSCALE:GREGORIAN
METHOD:PUBLISH
X-ORIGINAL-URL:https://the-leros-way.com/el/
X-WR-CALDESC:Events for The Leros Way
REFRESH-INTERVAL;VALUE=DURATION:PT1H
X-Robots-Tag:noindex
X-PUBLISHED-TTL:PT1H
BEGIN:VTIMEZONE
TZID:UTC
BEGIN:STANDARD
TZOFFSETFROM:+0000
TZOFFSETTO:+0000
TZNAME:UTC
DTSTART:20250101T000000
END:STANDARD
END:VTIMEZONE
BEGIN:VEVENT
DTSTART;VALUE=DATE:20260129
DTEND;VALUE=DATE:20260205
DTSTAMP:20260426T020841
CREATED:20260129T073258Z
LAST-MODIFIED:20260129T074842Z
UID:52054-1769644800-1770249599@the-leros-way.com
SUMMARY:Ταινία της εβδομάδας: ΑΓΙΟΣ ΠΑΪΣΙΟΣ
DESCRIPTION:ΑΠΟ ΠΕΜΠΤΗ 29/1 ΕΩΣ ΤΕΤΑΡΤΗ 4/2 (Εκτός Κυριακής)Καθημερινά\, 19:00 & 21:15
URL:https://the-leros-way.com/el/event/movie-of-the-week-saint-paisios-greek/
LOCATION:Leros Cinema\, Municipal Cinema Leros\, Leros\, 85400\, Greece
CATEGORIES:Movie,Σινεμά
ATTACH;FMTTYPE=image/jpeg:https://the-leros-way.com/wp-content/uploads/2026/01/623402332_1653147636088278_5532723088097725967_n.jpg
ORGANIZER;CN="Cine Leros":MAILTO:leros-cinema@leros.gr
END:VEVENT
BEGIN:VEVENT
DTSTART;VALUE=DATE:20260129
DTEND;VALUE=DATE:20260205
DTSTAMP:20260426T020841
CREATED:20260129T073808Z
LAST-MODIFIED:20260129T075046Z
UID:52060-1769644800-1770249599@the-leros-way.com
SUMMARY:Ταινία της εβδομάδας: ΟΙ ΦΥΛΑΚΕΣ ΤΟΥ ΧΙΟΝΙΟΥ (μεταγλωττισμένο)
DESCRIPTION:ΑΠΟ ΠΕΜΠΤΗ 29/1 ΕΩΣ ΤΕΤΑΡΤΗ 4/2 (εκτός Κυριακής)\nΚαθημερινά\, 17:30 (μεταγλωττισμένο)
URL:https://the-leros-way.com/el/event/movie-of-the-week-north-greek-dub/
LOCATION:Leros Cinema\, Municipal Cinema Leros\, Leros\, 85400\, Greece
CATEGORIES:Movie,Σινεμά
ATTACH;FMTTYPE=image/webp:https://the-leros-way.com/wp-content/uploads/2026/01/624148133_1653147846088257_3060989161875738348_n.webp
ORGANIZER;CN="Cine Leros":MAILTO:leros-cinema@leros.gr
END:VEVENT
BEGIN:VEVENT
DTSTART;VALUE=DATE:20260205
DTEND;VALUE=DATE:20260212
DTSTAMP:20260426T020841
CREATED:20260205T072041Z
LAST-MODIFIED:20260205T072751Z
UID:52148-1770249600-1770854399@the-leros-way.com
SUMMARY:Ταινία της εβδομάδας: ΑΜΝΕΤ
DESCRIPTION:ΑΠΟ ΠΕΜΠΤΗ 5/2 ΕΩΣ ΤΕΤΑΡΤΗ 11/2 (Εκτός Σαββάτου)\nΚαθημερινά\, ώρα έναρξης 19:00 & 21:15
URL:https://the-leros-way.com/el/event/movie-of-the-week-hamnet/
LOCATION:Leros Cinema\, Municipal Cinema Leros\, Leros\, 85400\, Greece
CATEGORIES:Movie,Σινεμά
ATTACH;FMTTYPE=image/webp:https://the-leros-way.com/wp-content/uploads/2026/02/images.webp
ORGANIZER;CN="Cine Leros":MAILTO:leros-cinema@leros.gr
END:VEVENT
BEGIN:VEVENT
DTSTART;VALUE=DATE:20260212
DTEND;VALUE=DATE:20260219
DTSTAMP:20260426T020841
CREATED:20260212T073806Z
LAST-MODIFIED:20260212T073806Z
UID:52338-1770854400-1771459199@the-leros-way.com
SUMMARY:Ταινία της εβδομάδας: SILENT HILL
DESCRIPTION:ΑΠΟ ΠΕΜΠΤΗ 12/2 ΕΩΣ ΤΕΤΑΡΤΗ 18/2 \nΚαθημερινά\, ώρα έναρξης 21:30
URL:https://the-leros-way.com/el/event/%cf%84%ce%b1%ce%b9%ce%bd%ce%af%ce%b1-%cf%84%ce%b7%cf%82-%ce%b5%ce%b2%ce%b4%ce%bf%ce%bc%ce%ac%ce%b4%ce%b1%cf%82-silent-hill/
LOCATION:Leros Cinema\, Municipal Cinema Leros\, Leros\, 85400\, Greece
CATEGORIES:Movie,Σινεμά
ATTACH;FMTTYPE=image/jpeg:https://the-leros-way.com/wp-content/uploads/2026/02/633719905_1665576741512034_3175670784672868204_n.jpg
ORGANIZER;CN="Cine Leros":MAILTO:leros-cinema@leros.gr
END:VEVENT
BEGIN:VEVENT
DTSTART;VALUE=DATE:20260212
DTEND;VALUE=DATE:20260219
DTSTAMP:20260426T020841
CREATED:20260212T074051Z
LAST-MODIFIED:20260212T074051Z
UID:52345-1770854400-1771459199@the-leros-way.com
SUMMARY:Ταινία της εβδομάδας: ΑΝΕΜΟΔΑΡΜΕΝΑ ΥΨΗ
DESCRIPTION:ΑΠΟ ΠΕΜΠΤΗ 12/2 ΕΩΣ ΤΕΤΑΡΤΗ 18/2 \nΚαθημερινά ώρα έναρξης 19:00
URL:https://the-leros-way.com/el/event/%cf%84%ce%b1%ce%b9%ce%bd%ce%af%ce%b1-%cf%84%ce%b7%cf%82-%ce%b5%ce%b2%ce%b4%ce%bf%ce%bc%ce%ac%ce%b4%ce%b1%cf%82-%ce%b1%ce%bd%ce%b5%ce%bc%ce%bf%ce%b4%ce%b1%cf%81%ce%bc%ce%b5%ce%bd%ce%b1-%cf%85%cf%88/
LOCATION:Leros Cinema\, Municipal Cinema Leros\, Leros\, 85400\, Greece
CATEGORIES:Movie,Σινεμά
ATTACH;FMTTYPE=image/webp:https://the-leros-way.com/wp-content/uploads/2026/02/632882080_1665576808178694_3588558900131389418_n.webp
ORGANIZER;CN="Cine Leros":MAILTO:leros-cinema@leros.gr
END:VEVENT
BEGIN:VEVENT
DTSTART;VALUE=DATE:20260219
DTEND;VALUE=DATE:20260226
DTSTAMP:20260426T020841
CREATED:20260219T074648Z
LAST-MODIFIED:20260219T074648Z
UID:52437-1771459200-1772063999@the-leros-way.com
SUMMARY:Ταινία της εβδομάδας: ΤΟ ΣΦΥΡΙΓΜΑ ΤΟΥ ΘΑΝΑΤΟΥ
DESCRIPTION:ΑΠΟ ΠΕΜΠΤΗ 19/2 ΕΩΣ ΤΕΤΑΡΤΗ 25/2 Καθημερινά\, ώρα έναρξης 21:15
URL:https://the-leros-way.com/el/event/%cf%84%ce%b1%ce%b9%ce%bd%ce%af%ce%b1-%cf%84%ce%b7%cf%82-%ce%b5%ce%b2%ce%b4%ce%bf%ce%bc%ce%ac%ce%b4%ce%b1%cf%82-%cf%84%ce%bf-%cf%83%cf%86%cf%85%cf%81%ce%b9%ce%b3%ce%bc%ce%b1-%cf%84%ce%bf%cf%85-%ce%b8/
LOCATION:Leros Cinema\, Municipal Cinema Leros\, Leros\, 85400\, Greece
CATEGORIES:Movie,Σινεμά
ATTACH;FMTTYPE=image/jpeg:https://the-leros-way.com/wp-content/uploads/2026/02/638897855_1672058924197149_1678117534595199897_n.jpg
ORGANIZER;CN="Cine Leros":MAILTO:leros-cinema@leros.gr
END:VEVENT
BEGIN:VEVENT
DTSTART;VALUE=DATE:20260219
DTEND;VALUE=DATE:20260226
DTSTAMP:20260426T020841
CREATED:20260219T075020Z
LAST-MODIFIED:20260219T075020Z
UID:52441-1771459200-1772063999@the-leros-way.com
SUMMARY:Ταινία της εβδομάδας: ΟΙΚΟΓΕΝΕΙΑ ΠΡΟΣ ΕΝΟΙΚΙΑΣΗ
DESCRIPTION:ΑΠΟ ΠΕΜΠΤΗ 19/2 ΕΩΣ ΤΕΤΑΡΤΗ 25/2Καθημερινά ώρα έναρξης 19:15
URL:https://the-leros-way.com/el/event/%cf%84%ce%b1%ce%b9%ce%bd%ce%af%ce%b1-%cf%84%ce%b7%cf%82-%ce%b5%ce%b2%ce%b4%ce%bf%ce%bc%ce%ac%ce%b4%ce%b1%cf%82-%ce%bf%ce%b9%ce%ba%ce%bf%ce%b3%ce%b5%ce%bd%ce%b5%ce%b9%ce%b1-%cf%80%cf%81%ce%bf%cf%83/
LOCATION:Leros Cinema\, Municipal Cinema Leros\, Leros\, 85400\, Greece
CATEGORIES:Movie,Σινεμά
ATTACH;FMTTYPE=image/jpeg:https://the-leros-way.com/wp-content/uploads/2026/02/638294764_1672059010863807_6346841468122793350_n.jpg
ORGANIZER;CN="Cine Leros":MAILTO:leros-cinema@leros.gr
END:VEVENT
BEGIN:VEVENT
DTSTART;VALUE=DATE:20260226
DTEND;VALUE=DATE:20260305
DTSTAMP:20260426T020841
CREATED:20260226T062647Z
LAST-MODIFIED:20260226T062647Z
UID:52609-1772064000-1772668799@the-leros-way.com
SUMMARY:Ταινία της εβδομάδας: SCREAM 7
DESCRIPTION:ΑΠΟ ΠΕΜΠΤΗ 26/2 ΕΩΣ ΤΕΤΑΡΤΗ 4/3 \nΚαθημερινά ώρα έναρξης 21:15
URL:https://the-leros-way.com/el/event/%cf%84%ce%b1%ce%b9%ce%bd%ce%af%ce%b1-%cf%84%ce%b7%cf%82-%ce%b5%ce%b2%ce%b4%ce%bf%ce%bc%ce%ac%ce%b4%ce%b1%cf%82-scream-7/
LOCATION:Leros Cinema\, Municipal Cinema Leros\, Leros\, 85400\, Greece
CATEGORIES:Movie,Σινεμά
ATTACH;FMTTYPE=image/webp:https://the-leros-way.com/wp-content/uploads/2026/02/642756354_1678366540233054_4480930510886487137_n.webp
ORGANIZER;CN="Cine Leros":MAILTO:leros-cinema@leros.gr
END:VEVENT
BEGIN:VEVENT
DTSTART;VALUE=DATE:20260226
DTEND;VALUE=DATE:20260305
DTSTAMP:20260426T020841
CREATED:20260226T063016Z
LAST-MODIFIED:20260226T063016Z
UID:52613-1772064000-1772668799@the-leros-way.com
SUMMARY:Ταινία της εβδομάδας: ΠΑΙΖΕΙ ΑΚΟΜΑ;
DESCRIPTION:ΑΠΟ ΠΕΜΠΤΗ 26/2 ΕΩΣ ΤΕΤΑΡΤΗ 4/3 \nKαθημερινά ώρα έναρξης 19:00
URL:https://the-leros-way.com/el/event/%cf%84%ce%b1%ce%b9%ce%bd%ce%af%ce%b1-%cf%84%ce%b7%cf%82-%ce%b5%ce%b2%ce%b4%ce%bf%ce%bc%ce%ac%ce%b4%ce%b1%cf%82-%cf%80%ce%b1%ce%b9%ce%b6%ce%b5%ce%b9-%ce%b1%ce%ba%ce%bf%ce%bc%ce%b1/
LOCATION:Leros Cinema\, Municipal Cinema Leros\, Leros\, 85400\, Greece
CATEGORIES:Movie,Σινεμά
ATTACH;FMTTYPE=image/webp:https://the-leros-way.com/wp-content/uploads/2026/02/642721299_1678366586899716_647338103475149519_n.webp
ORGANIZER;CN="Cine Leros":MAILTO:leros-cinema@leros.gr
END:VEVENT
END:VCALENDAR