BEGIN:VCALENDAR
VERSION:2.0
PRODID:-//The Leros Way - ECPv6.15.13.1//NONSGML v1.0//EN
CALSCALE:GREGORIAN
METHOD:PUBLISH
X-ORIGINAL-URL:https://the-leros-way.com/el/
X-WR-CALDESC:Events for The Leros Way
REFRESH-INTERVAL;VALUE=DURATION:PT1H
X-Robots-Tag:noindex
X-PUBLISHED-TTL:PT1H
BEGIN:VTIMEZONE
TZID:UTC
BEGIN:STANDARD
TZOFFSETFROM:+0000
TZOFFSETTO:+0000
TZNAME:UTC
DTSTART:20240101T000000
END:STANDARD
END:VTIMEZONE
BEGIN:VEVENT
DTSTART;TZID=UTC:20250522T203000
DTEND;TZID=UTC:20250604T233000
DTSTAMP:20260419T153148
CREATED:20250522T090858Z
LAST-MODIFIED:20250529T141531Z
UID:47935-1747945800-1749079800@the-leros-way.com
SUMMARY:Ταινία της εβδομάδας: ΕΠΙΚΙΝΔΥΝΗ ΑΠΟΣΤΟΛΗ- Η ΕΣΧΑΤΗ ΤΙΜΩΡΙΑ
DESCRIPTION:Πέμπτη 29/5 – Τετάρτη 4/6 21:15 \n  \n 
URL:https://the-leros-way.com/el/event/%cf%84%ce%b1%ce%b9%ce%bd%ce%af%ce%b1-%cf%84%ce%b7%cf%82-%ce%b5%ce%b2%ce%b4%ce%bf%ce%bc%ce%ac%ce%b4%ce%b1%cf%82-%ce%b5%cf%80%ce%b9%ce%ba%ce%b9%ce%bd%ce%b4%cf%85%ce%bd%ce%b7-%ce%b1%cf%80%ce%bf%cf%83/
LOCATION:Leros Cinema\, Municipal Cinema Leros\, Leros\, 85400\, Greece
CATEGORIES:Movie,Σινεμά
ATTACH;FMTTYPE=image/webp:https://the-leros-way.com/wp-content/uploads/2025/05/mission.webp
ORGANIZER;CN="Cine Leros":MAILTO:leros-cinema@leros.gr
END:VEVENT
BEGIN:VEVENT
DTSTART;TZID=UTC:20250612T193000
DTEND;TZID=UTC:20250618T230000
DTSTAMP:20260419T153149
CREATED:20250613T090709Z
LAST-MODIFIED:20250613T090709Z
UID:48627-1749756600-1750287600@the-leros-way.com
SUMMARY:Ταινία της εβδομάδας: ΦΟΙΝΙΚΙΚΟ ΣΧΕΔΙΟ
DESCRIPTION:ΑΠΟ ΠΕΜΠΤΗ 12/6 ΕΩΣ ΤΕΤΑΡΤΗ 18/6\nκαθημερινά ώρες έναρξης 19:30 & 21:15
URL:https://the-leros-way.com/el/event/%cf%84%ce%b1%ce%b9%ce%bd%ce%af%ce%b1-%cf%84%ce%b7%cf%82-%ce%b5%ce%b2%ce%b4%ce%bf%ce%bc%ce%ac%ce%b4%ce%b1%cf%82-%cf%86%ce%bf%ce%b9%ce%bd%ce%b9%ce%ba%ce%b9%ce%ba%ce%bf-%cf%83%cf%87%ce%b5%ce%b4%ce%b9/
LOCATION:Leros Cinema\, Municipal Cinema Leros\, Leros\, 85400\, Greece
CATEGORIES:Movie,Σινεμά
ATTACH;FMTTYPE=image/webp:https://the-leros-way.com/wp-content/uploads/2025/06/viber_image_2025-06-13_10-44-39-601.webp
ORGANIZER;CN="Cine Leros":MAILTO:leros-cinema@leros.gr
END:VEVENT
BEGIN:VEVENT
DTSTART;TZID=UTC:20250614T210000
DTEND;TZID=UTC:20250614T223000
DTSTAMP:20260419T153149
CREATED:20230628T062612Z
LAST-MODIFIED:20250610T084619Z
UID:41692-1749934800-1749940200@the-leros-way.com
SUMMARY:6° Moonlight Cinema: Ταινίες μικρού μήκους
DESCRIPTION:Η πρωτοβουλία AIAL\, που διοργανώνεται από τον Σύλλογο Άρτεμις στον υποβλητικό ανοιχτό χώρο με θέα στο Κάστρο\, προσφέρει κάθε χρόνο το καλοκαίρι ένα φεστιβάλ ταινιών μικρού μήκους με υπαίθριες προβολές με ελεύθερη είσοδο.\nΠαράλληλα με το ιταλικό φεστιβάλ ταινιών μικρού μήκους\, παρουσιάζει επίσης ένα πανόραμα διεθνών ταινιών μικρού μήκους με ταινίες που έχουν βραβευτεί από το Φεστιβάλ Κινηματογράφου Αλεξάνδρειας (IASFF)\, το Φεστιβάλ Δράμας (DISFF) και το Φεστιβάλ Ντοκιμαντέρ Καλαμάτας.\nΜόλις φτάνουν στις προβολές\, οι θεατές λαμβάνουν ένα φυλλάδιο με τις ταινίες μικρού μήκους που έχουν προγραμματιστεί για το βράδυ και… ένα «σφηνάκι»\, ένα ενισχυτικό ποτήρι τοπικής γράπας (τσικουδιά).
URL:https://the-leros-way.com/el/event/%cf%80%ce%bb%ce%ac%cf%84%ce%b1%ce%bd%ce%bf%cf%82-%ce%b1%ce%af%ce%b8%cf%81%ce%b9%ce%bf%cf%82-%cf%87%cf%8e%cf%81%ce%bf%cf%82-%cf%83%cf%85%ce%bb%ce%bb%cf%8c%ce%b3%ce%bf%cf%85-%ce%ac%cf%81%cf%84%ce%b5/
LOCATION:Artemis Courtyard\, Ειρηνοδικείο Λέρου\, Leros\, 85400\, Greece
CATEGORIES:Movie,Ελληνοιταλικός Σύλλογος,Μαρίνα Άρτεμις,Πολιτιστικό Κέντρο Άρτεμις
ATTACH;FMTTYPE=image/webp:https://the-leros-way.com/wp-content/uploads/2023/06/3.1.4_moonlight.cinema_poster.webp
ORGANIZER;CN="Artemis":MAILTO:artemis@leros.com
END:VEVENT
BEGIN:VEVENT
DTSTART;TZID=UTC:20250619T190000
DTEND;TZID=UTC:20250625T213000
DTSTAMP:20260419T153149
CREATED:20250619T104538Z
LAST-MODIFIED:20250619T104538Z
UID:48992-1750359600-1750887000@the-leros-way.com
SUMMARY:Ταινία της εβδομάδας: ΠΩΣ ΝΑ ΕΚΠΑΙΔΕΥΣΕΤΕ ΤΟΝ ΔΡΑΚΟ ΣΑΣ (μεταγλωτισμένο)
DESCRIPTION:ΑΠΟ ΠΕΜΠΤΗ 19/6 ΕΩΣ ΤΕΤΑΡΤΗ 25/6 \nΜεταγλωττισμένο \nΚαθημερινά ώρα έναρξης 19:00Σάββατο ώρα έναρξης 18:30
URL:https://the-leros-way.com/el/event/%cf%84%ce%b1%ce%b9%ce%bd%ce%af%ce%b1-%cf%84%ce%b7%cf%82-%ce%b5%ce%b2%ce%b4%ce%bf%ce%bc%ce%ac%ce%b4%ce%b1%cf%82-%cf%80%cf%89%cf%83-%ce%bd%ce%b1-%ce%b5%ce%ba%cf%80%ce%b1%ce%b9%ce%b4%ce%b5%cf%85%cf%83/
LOCATION:Leros Cinema\, Municipal Cinema Leros\, Leros\, 85400\, Greece
CATEGORIES:Movie,Σινεμά
ATTACH;FMTTYPE=image/jpeg:https://the-leros-way.com/wp-content/uploads/2025/06/508847368_1459368852132825_4090410412630421677_n.jpg
ORGANIZER;CN="Cine Leros":MAILTO:leros-cinema@leros.gr
END:VEVENT
BEGIN:VEVENT
DTSTART;TZID=UTC:20250619T210000
DTEND;TZID=UTC:20250625T233000
DTSTAMP:20260419T153149
CREATED:20250619T104127Z
LAST-MODIFIED:20250619T104127Z
UID:48987-1750366800-1750894200@the-leros-way.com
SUMMARY:Ταινία της εβδομάδας: Η ΙΕΡΟΤΕΛΕΣΤΙΑ
DESCRIPTION:ΑΠΟ ΠΕΜΠΤΗ 19/6 ΕΩΣ ΤΕΤΑΡΤΗ 25/6Kαθημερινά ώρα έναρξης 21:15( Σάββατο μεταμεσονύχτια προβολή ώρα 23:00)
URL:https://the-leros-way.com/el/event/%cf%84%ce%b1%ce%b9%ce%bd%ce%af%ce%b1-%cf%84%ce%b7%cf%82-%ce%b5%ce%b2%ce%b4%ce%bf%ce%bc%ce%ac%ce%b4%ce%b1%cf%82-%ce%b7-%ce%b9%ce%b5%cf%81%ce%bf%cf%84%ce%b5%ce%bb%ce%b5%cf%83%cf%84%ce%b9%ce%b1/
LOCATION:Leros Cinema\, Municipal Cinema Leros\, Leros\, 85400\, Greece
CATEGORIES:Movie,Σινεμά
ATTACH;FMTTYPE=image/webp:https://the-leros-way.com/wp-content/uploads/2025/06/509626766_1459368798799497_5667618912386879538_n.webp
ORGANIZER;CN="Cine Leros":MAILTO:leros-cinema@leros.gr
END:VEVENT
BEGIN:VEVENT
DTSTART;TZID=UTC:20250621T210000
DTEND;TZID=UTC:20250621T230000
DTSTAMP:20260419T153149
CREATED:20250610T134239Z
LAST-MODIFIED:20250610T135010Z
UID:48543-1750539600-1750546800@the-leros-way.com
SUMMARY:Ιταλική Ταινία: Funerailles (Non ti voglio-Δε σε θέλω)
DESCRIPTION:Προβολή της ταινίας Funerailles (Non ti voglio) παρουσία του σκηνοθέτη Antonio Bido. \nΑγγλικοί υπότιτλοι \nΕίσοδος ελεύθερη
URL:https://the-leros-way.com/el/event/%ce%b9%cf%84%ce%b1%ce%bb%ce%b9%ce%ba%ce%ae-%cf%84%ce%b1%ce%b9%ce%bd%ce%af%ce%b1-funerailles-non-ti-voglio-%ce%b4%ce%b5-%cf%83%ce%b5-%ce%b8%ce%ad%ce%bb%cf%89/
LOCATION:Leros Cinema\, Municipal Cinema Leros\, Leros\, 85400\, Greece
CATEGORIES:Movie,Special Event,Σινεμά
ATTACH;FMTTYPE=image/webp:https://the-leros-way.com/wp-content/uploads/2025/06/MV5BOThiYTMyM2EtNDE2OS00NmJhLWIwOTYtNGQ5ODk2NWRiMjA4XkEyXkFqcGc@._V1_.webp
ORGANIZER;CN="Greek-Italian Association of Friends of Leros %E2%80%9CAIAL%E2%80%9D":MAILTO:petrokaravo@yahoo.it
END:VEVENT
BEGIN:VEVENT
DTSTART;VALUE=DATE:20250626
DTEND;VALUE=DATE:20250703
DTSTAMP:20260419T153149
CREATED:20250627T110409Z
LAST-MODIFIED:20250627T110409Z
UID:49138-1750896000-1751500799@the-leros-way.com
SUMMARY:Ταινία της εβδομάδας: 28 ΧΡΟΝΙΑ ΜΕΤΑ
DESCRIPTION:ΑΠΟ ΠΕΜΠΤΗ 26/6 ΕΩΣ ΤΕΤΑΡΤΗ 2/7 \nKαθημερινά ώρα έναρξης 19:30 & 21:30
URL:https://the-leros-way.com/el/event/%cf%84%ce%b1%ce%b9%ce%bd%ce%af%ce%b1-%cf%84%ce%b7%cf%82-%ce%b5%ce%b2%ce%b4%ce%bf%ce%bc%ce%ac%ce%b4%ce%b1%cf%82-28-%cf%87%cf%81%ce%bf%ce%bd%ce%b9%ce%b1-%ce%bc%ce%b5%cf%84%ce%b1/
LOCATION:Leros Cinema\, Municipal Cinema Leros\, Leros\, 85400\, Greece
CATEGORIES:Movie,Σινεμά
ATTACH;FMTTYPE=image/webp:https://the-leros-way.com/wp-content/uploads/2025/06/512701696_1465169041552806_8194277684043084401_n.webp
ORGANIZER;CN="Cine Leros":MAILTO:leros-cinema@leros.gr
END:VEVENT
BEGIN:VEVENT
DTSTART;TZID=UTC:20250628T123000
DTEND;TZID=UTC:20250628T140000
DTSTAMP:20260419T153149
CREATED:20250625T123320Z
LAST-MODIFIED:20250625T123320Z
UID:49115-1751113800-1751119200@the-leros-way.com
SUMMARY:Προβολή Ντοκιμαντέρ: Portolago - Φαντάσματα στο Αιγαίο
DESCRIPTION:Στο πλαίσιο της έκθεσης του PERASMA\, το Σάββατο 28 Ιουνίου στις 12:30\, στο Κινηματοθέατρο Λακκίου\, θα προβληθεί το βραβευμένο ντοκιμαντέρ της Ιωάννας Ασμενιάδου-Φωκά «Portolago: Φαντάσματα στο Αιγαίο». \nΜετά την προβολή θα ακολουθήσει συζήτηση με τη σκηνοθέτη.  \nΗ ταινία θα προβληθεί με ελληνικούς και αγγλικούς υπότιτλους. \nΗ είσοδος είναι ελεύθερη.\nΔιάρκεια: 1 ώρα\nTrailer
URL:https://the-leros-way.com/el/event/%cf%80%cf%81%ce%bf%ce%b2%ce%bf%ce%bb%ce%ae-%ce%bd%cf%84%ce%bf%ce%ba%ce%b9%ce%bc%ce%b1%ce%bd%cf%84%ce%ad%cf%81-portolago-%cf%86%ce%b1%ce%bd%cf%84%ce%ac%cf%83%ce%bc%ce%b1%cf%84%ce%b1-%cf%83%cf%84/
LOCATION:Leros Cinema\, Municipal Cinema Leros\, Leros\, 85400\, Greece
CATEGORIES:Movie,Special Event,Σινεμά
ATTACH;FMTTYPE=image/webp:https://the-leros-way.com/wp-content/uploads/2025/06/portolago3.webp
END:VEVENT
END:VCALENDAR