BEGIN:VCALENDAR
VERSION:2.0
PRODID:-//The Leros Way - ECPv6.15.13.1//NONSGML v1.0//EN
CALSCALE:GREGORIAN
METHOD:PUBLISH
X-WR-CALNAME:The Leros Way
X-ORIGINAL-URL:https://the-leros-way.com/el/
X-WR-CALDESC:Events for The Leros Way
REFRESH-INTERVAL;VALUE=DURATION:PT1H
X-Robots-Tag:noindex
X-PUBLISHED-TTL:PT1H
BEGIN:VTIMEZONE
TZID:UTC
BEGIN:STANDARD
TZOFFSETFROM:+0000
TZOFFSETTO:+0000
TZNAME:UTC
DTSTART:20230101T000000
END:STANDARD
END:VTIMEZONE
BEGIN:VEVENT
DTSTART;TZID=UTC:20260218T203000
DTEND;TZID=UTC:20260218T213000
DTSTAMP:20260422T165406
CREATED:20260218T102043Z
LAST-MODIFIED:20260218T102043Z
UID:52424-1771446600-1771450200@the-leros-way.com
SUMMARY:Live Online Διαλογισμός
DESCRIPTION:“Το Σώμα μου είναι Φως” \nΟ διαλογισμός αποτελεί ένα πολύτιμο εργαλείο για τη σωματική\, ψυχική και συναισθηματική ευεξία\, ιδιαίτερα στη σύγχρονη καθημερινότητα. Μέσα από τη συγκεκριμένη καθοδηγούμενη εμπειρία\, οι συμμετέχοντες θα έχουν την ευκαιρία: \n\nνα μειώσουν το άγχος και την πνευματική κόπωση\nνα ενισχύσουν τη χαλάρωση και τη συγκέντρωση\nνα επανασυνδεθούν με το σώμα και την εσωτερική τους ισορροπία\n\nνα καλλιεργήσουν αίσθημα γαλήνης\, φωτεινότητας και αυτογνωσίας.\n\nΗ συμμετοχή είναι δωρεάν και πραγματοποιείται διαδικτυακά μέσω Zoom. \nΣύνδεσμος συμμετοχής\nMeeting ID: 821 8706 2567\nPasscode: 673307 \nΚαθίστε αναπαυτικά και μοιραστείτε αυτή τη φωτεινή εμπειρία!
URL:https://the-leros-way.com/el/event/live-online-%ce%b4%ce%b9%ce%b1%ce%bb%ce%bf%ce%b3%ce%b9%cf%83%ce%bc%cf%8c%cf%82/
CATEGORIES:Leros Municipality,Special Event
ATTACH;FMTTYPE=image/avif:https://the-leros-way.com/wp-content/uploads/2026/02/meditation-6270a982e660c.avif
ORGANIZER;CN="Leros Municipality":MAILTO:info@dopaisap.gr
END:VEVENT
BEGIN:VEVENT
DTSTART;TZID=UTC:20251218T170000
DTEND;TZID=UTC:20251218T183000
DTSTAMP:20260422T165406
CREATED:20251215T073314Z
LAST-MODIFIED:20251215T073623Z
UID:51572-1766077200-1766082600@the-leros-way.com
SUMMARY:Aφηγήσεις χριστουγεννιάτικων παραμυθιών
DESCRIPTION:Νιώστε τη μαγεία των χριστουγέννων σε ένα όμορφο απόγευμα για τους μικρούς μας φίλους. \nΔωρεάν γλυκίσματα.
URL:https://the-leros-way.com/el/event/a%cf%86%ce%b7%ce%b3%ce%ae%cf%83%ce%b5%ce%b9%cf%82-%cf%87%cf%81%ce%b9%cf%83%cf%84%ce%bf%cf%85%ce%b3%ce%b5%ce%bd%ce%bd%ce%b9%ce%b1%cf%84%ce%b9%ce%ba%cf%89%ce%bd-%cf%80%ce%b1%cf%81%ce%b1%ce%bc%cf%85/
LOCATION:Municipal Library\, Δημόσια Βιβλιοθήκη Λέρου\, Leros\, 85400\, Greece
CATEGORIES:Leros Municipality,Special Event,Διοργανώσεις για παιδιά,Θεατρική Ομάδα Λέρου
ATTACH;FMTTYPE=image/webp:https://the-leros-way.com/wp-content/uploads/2025/12/Storytime_3.webp
ORGANIZER;CN="Leros Municipality":MAILTO:info@dopaisap.gr
END:VEVENT
BEGIN:VEVENT
DTSTART;TZID=UTC:20251207T170000
DTEND;TZID=UTC:20251207T230000
DTSTAMP:20260422T165406
CREATED:20241203T163959Z
LAST-MODIFIED:20251202T111416Z
UID:43981-1765126800-1765148400@the-leros-way.com
SUMMARY:Φωταγώγηση Χριστουγενιάτικου Δέντρου
DESCRIPTION:The island is preparing to welcome the magic of Christmas with a unique festive program: \n16:00 ΧΡΙΣΤΟΥΓΕΝΝΙΑΤΙΚΟ BAZZAR17:00 ΠΑΙΧΝΙΔΙ ΚΡΥΜΜΕΝΟΥ ΘΗΣΑΥΡΟΥ17:45 ΔΗΜΟΤΙΚΗ ΦΙΛΑΡΜΟΝΙΚΗ & ΠΑΙΔΙΚΗ ΧΟΡΩΔΙΑ Κ. ΜΑΥΡΟΥΔΗ Χριστουγεννιάτικες μελωδίες18:00 ΦΩΤΑΓΩΓΗΣΗ ΧΡΙΣΤΟΥΓΕΝΝΙΑΤΙΚΟΥ ΔΕΝΤΡΟΥ από τον Δήμαρχο Λέρου Τιμόθεο Κωττάκη18:15 ΧΟΡΩΔΙΑ ΑΓ. ΝΙΚΟΛΑΟΥ Χριστουγεννιάτικες & Βυζαντινές μελωδίες \nΤΗΝ ΕΚΔΗΛΩΣΗ ΠΛΑΙΣΙΩΝΟΥΝ: Επαγγελματίες performers και ηθοποιοί\, Ξυλοπόδαροι\, Χιονάνθρωποι\, Fire Show\, Magic Show \nΔωρεάν γλυκίσματα από τον Άγιο Βασίλη για όλους τους μικρούς μας φίλους! \nΕίσοδος δωρεάν \n*Σε περίπτωση άσχημων καιρικών συνθηκών η εκδήλωση θα πραγματοποιηθεί στο Δημοτικό Κινηματοθέατρο Λακκιού στις 18:00
URL:https://the-leros-way.com/el/event/christmas-tree-lighting-ceremony/
LOCATION:Church of Saint Nikolaos\, Εκκλησία Άγιος Νικόλαος\, Lakki\, 854 00\, Greece
CATEGORIES:Leros Municipality,Special Event,Διοργανώσεις για παιδιά
ATTACH;FMTTYPE=image/jpeg:https://the-leros-way.com/wp-content/uploads/2024/12/7610e89b-5e3b-4993-9511-bb4dc3e12f8f.jpeg
ORGANIZER;CN="Leros Municipality":MAILTO:info@dopaisap.gr
END:VEVENT
BEGIN:VEVENT
DTSTART;TZID=UTC:20251206T180000
DTEND;TZID=UTC:20251206T193000
DTSTAMP:20260422T165406
CREATED:20251202T110522Z
LAST-MODIFIED:20251202T110522Z
UID:51191-1765044000-1765049400@the-leros-way.com
SUMMARY:Χριστουγεννιάτικες Εκδηλώσεις: Ο ΜΑΓΟΣ DANZEL
DESCRIPTION:Τα Χριστούγεννα γίνονται μαγικά! \nΟ Μάγος DANZEL σε μια παράσταση γεμάτη εκπλήξεις\, γέλιο και μαγεία που θα καθηλώσει τους μικρούς μας φίλους! \nΕίσοδος ελεύθερη.
URL:https://the-leros-way.com/el/event/%cf%87%cf%81%ce%b9%cf%83%cf%84%ce%bf%cf%85%ce%b3%ce%b5%ce%bd%ce%bd%ce%b9%ce%ac%cf%84%ce%b9%ce%ba%ce%b5%cf%82-%ce%b5%ce%ba%ce%b4%ce%b7%ce%bb%cf%8e%cf%83%ce%b5%ce%b9%cf%82-%ce%bf-%ce%bc%ce%b1%ce%b3/
LOCATION:Leros Cinema\, Municipal Cinema Leros\, Leros\, 85400\, Greece
CATEGORIES:Leros Municipality,Special Event,Διοργανώσεις για παιδιά,Σινεμά
ATTACH;FMTTYPE=image/jpeg:https://the-leros-way.com/wp-content/uploads/2025/12/476818338_1156237442655526_8914248810023803048_n.jpg
ORGANIZER;CN="Leros Municipality":MAILTO:info@dopaisap.gr
END:VEVENT
BEGIN:VEVENT
DTSTART;TZID=UTC:20251205T080000
DTEND;TZID=UTC:20251206T170000
DTSTAMP:20260422T165406
CREATED:20251128T115937Z
LAST-MODIFIED:20251128T115937Z
UID:51076-1764921600-1765040400@the-leros-way.com
SUMMARY:Εορτασμός Αγίου Νικολάου\, Πολιούχου Λακκιού
DESCRIPTION:ΠΑΡΑΣΚΕΥΗ 05/12/2025 \nΏρα 17:30 Μέγας πανηγυρικός Αρχιερατικός Εσπερινός με αρτοκλασία και στη συνέχεια ο παρακλητικός κανόνας του Αγ. Νικολάου. \nΣΑΒΒΑΤΟ 06/12/2025 \nΏρα 07:30 Όρθρος – Αρχιερατική Θεία Λειτουργία.Ώρα 09:45 Προσέλευση επισήμων στον Καθεδρικό Ναό Αγ. Νικολάου.Ώρα 10:00 Δοξολογία.Ώρα 10:15 Περιφορά Ιεράς Εικόνας Αγ. Νικολάου συνοδεία της Δημοτικής Φιλαρμονικής\, αντιπροσωπείας του Φρουραρχείου Λέρου και του 3ου Συστήματος Ναυτοπροσκόπων Λέρου.
URL:https://the-leros-way.com/el/event/%ce%b5%ce%bf%cf%81%cf%84%ce%b1%cf%83%ce%bc%cf%8c%cf%82-%ce%b1%ce%b3%ce%af%ce%bf%cf%85-%ce%bd%ce%b9%ce%ba%ce%bf%ce%bb%ce%ac%ce%bf%cf%85-%cf%80%ce%bf%ce%bb%ce%b9%ce%bf%cf%8d%cf%87%ce%bf%cf%85-%ce%bb/
LOCATION:Church of Saint Nikolaos\, Εκκλησία Άγιος Νικόλαος\, Lakki\, 854 00\, Greece
CATEGORIES:Leros Municipality,Παραδοσιακό
ATTACH;FMTTYPE=image/webp:https://the-leros-way.com/wp-content/uploads/2025/11/AGIOSNIKOLAOSLEROU1-285-1.webp
ORGANIZER;CN="Leros Municipality":MAILTO:info@dopaisap.gr
END:VEVENT
BEGIN:VEVENT
DTSTART;TZID=UTC:20251120T103000
DTEND;TZID=UTC:20251120T110000
DTSTAMP:20260422T165406
CREATED:20251118T111134Z
LAST-MODIFIED:20251118T111134Z
UID:50768-1763634600-1763636400@the-leros-way.com
SUMMARY:Αγιασμός στο λιμάνι του Λακκίου
DESCRIPTION:Αγιασμός για την έναρξη των εργασιών της Αποκατάστασης Λιμένος Λακκίου
URL:https://the-leros-way.com/el/event/%ce%b1%ce%b3%ce%b9%ce%b1%cf%83%ce%bc%cf%8c%cf%82-%cf%83%cf%84%ce%bf-%ce%bb%ce%b9%ce%bc%ce%ac%ce%bd%ce%b9-%cf%84%ce%bf%cf%85-%ce%bb%ce%b1%ce%ba%ce%ba%ce%af%ce%bf%cf%85/
LOCATION:Lakki Port\, Port of Leros\, Leros\, 85400\, Greece
CATEGORIES:Leros Municipality
ATTACH;FMTTYPE=image/jpeg:https://the-leros-way.com/wp-content/uploads/2025/11/images.jpeg
ORGANIZER;CN="Leros Municipality":MAILTO:info@dopaisap.gr
END:VEVENT
BEGIN:VEVENT
DTSTART;TZID=UTC:20250925T203000
DTEND;TZID=UTC:20250925T220000
DTSTAMP:20260422T165406
CREATED:20250918T072642Z
LAST-MODIFIED:20250919T075202Z
UID:50068-1758832200-1758837600@the-leros-way.com
SUMMARY:Φεστιβάλ ΜουσιΚώς 2025 από την Κρατική Ορχήστρα Αθηνών
DESCRIPTION:Μουσική που ταξιδεύει στα νησιά του Αιγαίου! \nΑπολαύστε μια συναυλία με τη μουσική του διακεκριμένου Έλληνα συνθέτη Μάνου Χατζιδάκι\, σε μια αφιερωματική εκδήλωση που τιμά τα 100 χρόνια από τη γέννησή του και εστιάζει στη μουσική του για το θέατρο και τον κινηματογράφο. \nΣυμμετέχουν:Το Κουιντέτο Ξύλινων Πνευστών της Κρατικής Ορχήστρας Αθηνών\, ο τυμπανίστα Δημήτρης Δεσύλλας\, και οι χαρισματικοί τραγουδιστές Βάσιας Ζαχαροπούλου και Σπύρου Κλείσσα\, \nΠαράλληλα\, εκπαιδευτικές δράσεις φέρνουν τους μαθητές πιο κοντά στην τέχνη. \nΜε στόχο τη συνεργασία\, την πολιτιστική ανάπτυξη και την επαφή με κάθε κοινωνική ομάδα\, το Φεστιβάλ ανοίγει τον δρόμο για μια μοναδική εμπειρία πολιτισμού. \nΕίσοδος ελεύθερη.
URL:https://the-leros-way.com/el/event/%cf%86%ce%b5%cf%83%cf%84%ce%b9%ce%b2%ce%ac%ce%bb-%ce%bc%ce%bf%cf%85%cf%83%ce%b9%ce%ba%cf%8e%cf%82-2025-%ce%b1%cf%80%cf%8c-%cf%84%ce%b7%ce%bd-%ce%ba%cf%81%ce%b1%cf%84%ce%b9%ce%ba%ce%ae-%ce%bf%cf%81/
LOCATION:«ΝΙΚΟΛΑΪΔΕΙΟ» ΔΗΜΟΤΙΚΟ ΣΧΟΛΕΙΟ ΑΓΙΑΣ ΜΑΡΙΝΑΣ ΛΕΡΟΥ\, «ΝΙΚΟΛΑΪΔΕΙΟ» ΔΗΜΟΤΙΚΟ ΣΧΟΛΕΙΟ ΑΓΙΑΣ ΜΑΡΙΝΑΣ ΛΕΡΟΥ\, Λέρος\, 85400\, Greece
CATEGORIES:Leros Municipality,Μουσική,Συναυλία
ATTACH;FMTTYPE=image/webp:https://the-leros-way.com/wp-content/uploads/2025/09/Μουσικώς-5.webp
ORGANIZER;CN="Leros Municipality":MAILTO:info@dopaisap.gr
END:VEVENT
BEGIN:VEVENT
DTSTART;TZID=UTC:20250817T200000
DTEND;TZID=UTC:20250817T233000
DTSTAMP:20260422T165406
CREATED:20230629T072053Z
LAST-MODIFIED:20250812T075339Z
UID:41717-1755460800-1755473400@the-leros-way.com
SUMMARY:Αναβίωση Λέρικου Παραδοσιακού Γάμου
DESCRIPTION:Kέφι τραγούδι και χορός. Οργάνωση: Δήμος Λέρου Ξηρόκαμπος : Αύλειος Χώρος Αγ. Φανουρίου  \nΠαραδοσιακά γλυκίσματα και άφθονο κρασί σας περιμένουν \nΕίσοδος ελεύθερη.
URL:https://the-leros-way.com/el/event/%ce%be%ce%b7%cf%81%cf%8c%ce%ba%ce%b1%ce%bc%cf%80%ce%bf%cf%82-%ce%b1%cf%8d%ce%bb%ce%b5%ce%b9%ce%bf%cf%82-%cf%87%cf%8e%cf%81%ce%bf%cf%82-%ce%b1%ce%b3-%cf%86%ce%b1%ce%bd%ce%bf%cf%85%cf%81%ce%af%ce%bf/
LOCATION:Agios Fanourios courtyard\, Xirokampos\, Agios Fanourios \, Xirokampos\, Leros\, 85400\, Greece
CATEGORIES:Leros Municipality,Special Event
ATTACH;FMTTYPE=image/jpeg:https://the-leros-way.com/wp-content/uploads/2023/06/xirokampos-agios-Fanourios.jpg
ORGANIZER;CN="Leros Municipality":MAILTO:info@dopaisap.gr
END:VEVENT
BEGIN:VEVENT
DTSTART;TZID=UTC:20250816T210000
DTEND;TZID=UTC:20250816T233000
DTSTAMP:20260422T165406
CREATED:20240729T071358Z
LAST-MODIFIED:20250613T141143Z
UID:42501-1755378000-1755387000@the-leros-way.com
SUMMARY:Παραδοσιακό πανηγύρι με φιλανθρωπικό χαρακτήρα
DESCRIPTION:Παραδοσιακό πανηγύρι με κέφι\, γλέντι και χαρά.\nΔιοργάνωση: Φιλανθρωπικός Σύλλογος Λέρου «Ο Άγιος Σάββας ο Νέος». \n  \n 
URL:https://the-leros-way.com/el/event/%cf%80%ce%b1%ce%bd%cf%85%ce%b3%ce%ae%cf%81%ce%b9-%ce%b1%ce%b3%ce%ac%cf%80%ce%b7%cf%82/
LOCATION:Drimonas bay\, Drimonas Bay\, Leros\, 85400\, Greece
CATEGORIES:Leros Municipality,Φεστιβάλ
ATTACH;FMTTYPE=image/webp:https://the-leros-way.com/wp-content/uploads/2024/07/d77c833c-d93a-4073-87b2-cbb46d8a5767-1.webp
ORGANIZER;CN="Leros Municipality":MAILTO:info@dopaisap.gr
END:VEVENT
BEGIN:VEVENT
DTSTART;TZID=UTC:20250810T200000
DTEND;TZID=UTC:20250810T213000
DTSTAMP:20260422T165406
CREATED:20250617T124056Z
LAST-MODIFIED:20250617T124056Z
UID:48825-1754856000-1754861400@the-leros-way.com
SUMMARY:Τιμητική διάκριση στον κ. Κωνσταντίνο Πάχο
DESCRIPTION:Τιμητική διάκριση στον κ. Κωνσταντίνο Πάχο\, επίτιμο δημότη Λέρου και υπεύθυνο των Λεριακών Νέων επί 48 συνεχή έτη\, για την πολύτιμη προσφορά του στη Λέρο και στους λεριούς συμπατριώτες.  \nΕίσοδος ελεύθερη.
URL:https://the-leros-way.com/el/event/%cf%84%ce%b9%ce%bc%ce%b7%cf%84%ce%b9%ce%ba%ce%ae-%ce%b4%ce%b9%ce%ac%ce%ba%cf%81%ce%b9%cf%83%ce%b7-%cf%83%cf%84%ce%bf%ce%bd-%ce%ba-%ce%ba%cf%89%ce%bd%cf%83%cf%84%ce%b1%ce%bd%cf%84%ce%af%ce%bd%ce%bf/
LOCATION:Municipal Library\, Δημόσια Βιβλιοθήκη Λέρου\, Leros\, 85400\, Greece
CATEGORIES:Leros Municipality,Special Event
ORGANIZER;CN="Leros Municipality":MAILTO:info@dopaisap.gr
END:VEVENT
BEGIN:VEVENT
DTSTART;TZID=UTC:20250807T213000
DTEND;TZID=UTC:20250807T233000
DTSTAMP:20260422T165406
CREATED:20250527T135326Z
LAST-MODIFIED:20250623T141534Z
UID:48065-1754602200-1754609400@the-leros-way.com
SUMMARY:Πολιτιστική εκδήλωση: ΦΡΥΚΤΩΡΙΕΣ
DESCRIPTION:Τετάρτη 06 Αυγούστου\, ώρα 21:30\, Αγία Μαρίνα στην περιοχή Μπούρτζι \nΟι Φρυκτωρίες ήταν ένα σύστημα επικοινωνίας που χρησιμοποιήθηκε στην Αρχαία Ελλάδα. Ήταν πύργοι χτισμένοι σε επιλεγμένες βουνοκορφές\, έτσι ώστε ο ένας πύργος να είναι ορατός από τον επόμενο πύργο με τη βοήθεια καπνού ή φωτιάς. \nΟ Δήμος Λέρου σε συνεργασία με τη Θεατρική Ομάδα Λέρου αναδεικνύουν για πρώτη φορά στο νησί μας τις Φρυκτωρίες.
URL:https://the-leros-way.com/el/event/%cf%80%ce%bf%ce%bb%ce%b9%cf%84%ce%b9%cf%83%cf%84%ce%b9%ce%ba%ce%ae-%ce%b5%ce%ba%ce%b4%ce%ae%ce%bb%cf%89%cf%83%ce%b7-%cf%86%cf%81%cf%85%ce%ba%cf%84%cf%89%cf%81%ce%b9%ce%b5%cf%83/
LOCATION:Bourtzi\, Agia Marina\, Δωρεάν χώρος στάθμευσης\, Leros\, 854 00\, Greece
CATEGORIES:Leros Municipality,Special Event,Θεατρική Ομάδα Λέρου
ATTACH;FMTTYPE=image/jpeg:https://the-leros-way.com/wp-content/uploads/2025/05/ΦΡΥΚΤΩΡΙΕΣ.jpg
END:VEVENT
BEGIN:VEVENT
DTSTART;TZID=UTC:20250720T210000
DTEND;TZID=UTC:20250720T230000
DTSTAMP:20260422T165406
CREATED:20230628T065840Z
LAST-MODIFIED:20250613T140302Z
UID:41694-1753045200-1753052400@the-leros-way.com
SUMMARY:Γιορτή του Αλωνάρη στη Γούρνα
DESCRIPTION:——– \nΠαραλία Γούρνας: «Γιορτή Αλωνάρη – Αγρότη». \nΑναπαράσταση αλωνίσματος με τον παραδοσιακό τρόπο \, λέρικο γλέντι με μεζέδες και κρασί δωρεάν. \nΟργάνωση: Δήμος Λέρου. Είσοδος ελεύθερη.
URL:https://the-leros-way.com/el/event/%ce%b3%ce%b9%ce%bf%cf%81%cf%84%ce%ae-%cf%84%ce%bf%cf%85-%ce%b1%ce%bb%cf%89%ce%bd%ce%ac%cf%81%ce%b7-%cf%83%cf%84%ce%b7-%ce%b3%ce%bf%cf%8d%cf%81%ce%bd%ce%b1/
LOCATION:Gourna Beach\, Gourna Beach\, Leros\, 85400\, Greece
CATEGORIES:Leros Municipality,Μουσική,Φεστιβάλ,Χορός
ATTACH;FMTTYPE=image/jpeg:https://the-leros-way.com/wp-content/uploads/2023/06/Gourna-Festival.jpg
ORGANIZER;CN="Leros Municipality":MAILTO:info@dopaisap.gr
END:VEVENT
BEGIN:VEVENT
DTSTART;TZID=UTC:20250716T210000
DTEND;TZID=UTC:20250716T233000
DTSTAMP:20260422T165406
CREATED:20250624T131442Z
LAST-MODIFIED:20250624T131442Z
UID:49050-1752699600-1752708600@the-leros-way.com
SUMMARY:Γλέντι Παραμονή Αγ. Μαρίνας
DESCRIPTION:Μπαρδάνης\, Πλατής\, Κοντιζάς\, Κουτούζος\, Δράκος και Παπαδάκης θα μας χαρίσουν μία υπέροχη παραδοσιακή βραδιά. \nΕίσοδος: 10€ \nΠληροφορίες: 6983685051
URL:https://the-leros-way.com/el/event/%ce%b3%ce%bb%ce%ad%ce%bd%cf%84%ce%b9-%cf%80%ce%b1%cf%81%ce%b1%ce%bc%ce%bf%ce%bd%ce%ae-%ce%b1%ce%b3-%ce%bc%ce%b1%cf%81%ce%af%ce%bd%ce%b1%cf%82/
LOCATION:War museum square\, Merikia\, War museum square\, Merikia\, Leros\, 85400\, Greece
CATEGORIES:Leros Municipality,Μουσική,Τοπικό Φεστιβάλ,Φεστιβάλ,Χορός
ATTACH;FMTTYPE=image/webp:https://the-leros-way.com/wp-content/uploads/2025/06/Screenshot-89.webp
ORGANIZER;CN="Leros Municipality":MAILTO:info@dopaisap.gr
END:VEVENT
BEGIN:VEVENT
DTSTART;TZID=UTC:20250713T193000
DTEND;TZID=UTC:20250713T220000
DTSTAMP:20260422T165406
CREATED:20250616T125325Z
LAST-MODIFIED:20250616T125325Z
UID:48721-1752435000-1752444000@the-leros-way.com
SUMMARY:Εγκαίνια φωτογραφικού αρχείου Νικολάου Νταλόγλου
DESCRIPTION:Εγκαίνια αρχείου κ. Νικολάου Νταλόγλου\, με έκθεση 200 περίπου άλμπουμ από την προσωπική του συλλογή\, που περιλαμβάνει φωτογραφικό υλικό από τη ζωή και την δραστηριότητα των Λεριών τα τελευταία 45 χρόνια. Τιμητική διάκριση από το Δήμο Λέρου για την προσφορά του στο νησί της Λέρου. Είσοδος Δωρεάν
URL:https://the-leros-way.com/el/event/%ce%b5%ce%b3%ce%ba%ce%b1%ce%af%ce%bd%ce%b9%ce%b1-%cf%86%cf%89%cf%84%ce%bf%ce%b3%cf%81%ce%b1%cf%86%ce%b9%ce%ba%ce%bf%cf%8d-%ce%b1%cf%81%cf%87%ce%b5%ce%af%ce%bf%cf%85-%ce%bd%ce%b9%ce%ba%ce%bf%ce%bb/
LOCATION:Municipal Library\, Δημόσια Βιβλιοθήκη Λέρου\, Leros\, 85400\, Greece
CATEGORIES:Leros Municipality,Special Event,Έκθεση
ORGANIZER;CN="Leros Municipality":MAILTO:info@dopaisap.gr
END:VEVENT
BEGIN:VEVENT
DTSTART;TZID=UTC:20250705T210000
DTEND;TZID=UTC:20250705T233000
DTSTAMP:20260422T165406
CREATED:20250613T144953Z
LAST-MODIFIED:20250613T144953Z
UID:48659-1751749200-1751758200@the-leros-way.com
SUMMARY:Διεθνές Φεστιβάλ παραδοσιακών χορών: Γιορτές Ιωνίας
DESCRIPTION:Tίτλος του φετινού Φεστιβάλ: «Από την Μήτρα της Μνήμης: Ο Γάμος των Ελλήνων». \nΔιοργάνωση: Περιφέρεια Νοτίου Αιγαίου – Δήμος Λέρου-Σύλλογος Μικρασιατών Λέρου υπό την αιγίδα της Ομοσπονδία Προσφυγικών Σωματείων Ελλάδος (Ο.Π.Σ.Ε.). \nΕίσοδος ελεύθερη.
URL:https://the-leros-way.com/el/event/%ce%b4%ce%b9%ce%b5%ce%b8%ce%bd%ce%ad%cf%82-%cf%86%ce%b5%cf%83%cf%84%ce%b9%ce%b2%ce%ac%ce%bb-%cf%80%ce%b1%cf%81%ce%b1%ce%b4%ce%bf%cf%83%ce%b9%ce%b1%ce%ba%cf%8e%ce%bd-%cf%87%ce%bf%cf%81%cf%8e%ce%bd/
LOCATION:«ΝΙΚΟΛΑΪΔΕΙΟ» ΔΗΜΟΤΙΚΟ ΣΧΟΛΕΙΟ ΑΓΙΑΣ ΜΑΡΙΝΑΣ ΛΕΡΟΥ\, «ΝΙΚΟΛΑΪΔΕΙΟ» ΔΗΜΟΤΙΚΟ ΣΧΟΛΕΙΟ ΑΓΙΑΣ ΜΑΡΙΝΑΣ ΛΕΡΟΥ\, Λέρος\, 85400\, Greece
CATEGORIES:Leros Municipality,Φεστιβάλ,Χορός
ATTACH;FMTTYPE=image/webp:https://the-leros-way.com/wp-content/uploads/2025/06/hq720.webp
ORGANIZER;CN="Leros Municipality":MAILTO:info@dopaisap.gr
END:VEVENT
BEGIN:VEVENT
DTSTART;TZID=UTC:20250705T210000
DTEND;TZID=UTC:20250705T233000
DTSTAMP:20260422T165406
CREATED:20250613T144953Z
LAST-MODIFIED:20250613T144953Z
UID:48659-1751749200-1751758200@the-leros-way.com
SUMMARY:Διεθνές Φεστιβάλ παραδοσιακών χορών: Γιορτές Ιωνίας
DESCRIPTION:Tίτλος του φετινού Φεστιβάλ: «Από την Μήτρα της Μνήμης: Ο Γάμος των Ελλήνων». \nΔιοργάνωση: Περιφέρεια Νοτίου Αιγαίου – Δήμος Λέρου-Σύλλογος Μικρασιατών Λέρου υπό την αιγίδα της Ομοσπονδία Προσφυγικών Σωματείων Ελλάδος (Ο.Π.Σ.Ε.). \nΕίσοδος ελεύθερη.
URL:https://the-leros-way.com/el/event/%ce%b4%ce%b9%ce%b5%ce%b8%ce%bd%ce%ad%cf%82-%cf%86%ce%b5%cf%83%cf%84%ce%b9%ce%b2%ce%ac%ce%bb-%cf%80%ce%b1%cf%81%ce%b1%ce%b4%ce%bf%cf%83%ce%b9%ce%b1%ce%ba%cf%8e%ce%bd-%cf%87%ce%bf%cf%81%cf%8e%ce%bd/
LOCATION:«ΝΙΚΟΛΑΪΔΕΙΟ» ΔΗΜΟΤΙΚΟ ΣΧΟΛΕΙΟ ΑΓΙΑΣ ΜΑΡΙΝΑΣ ΛΕΡΟΥ\, «ΝΙΚΟΛΑΪΔΕΙΟ» ΔΗΜΟΤΙΚΟ ΣΧΟΛΕΙΟ ΑΓΙΑΣ ΜΑΡΙΝΑΣ ΛΕΡΟΥ\, Λέρος\, 85400\, Greece
CATEGORIES:Leros Municipality,Φεστιβάλ,Χορός
ATTACH;FMTTYPE=image/webp:https://the-leros-way.com/wp-content/uploads/2025/06/hq720.webp
ORGANIZER;CN="Leros Municipality":MAILTO:info@dopaisap.gr
END:VEVENT
BEGIN:VEVENT
DTSTART;TZID=UTC:20250621T190000
DTEND;TZID=UTC:20250621T200000
DTSTAMP:20260422T165406
CREATED:20250610T132949Z
LAST-MODIFIED:20250610T132949Z
UID:48537-1750532400-1750536000@the-leros-way.com
SUMMARY:Παρουσίαση βιβλίου «Δημιουργία Ζωής»
DESCRIPTION:Η Μαρία Γκόσμα θα παρουσιάσει το βιβλίο της με τίτλο: «Δημιουργία Ζωής» (εκδόσεις ΑΡΜΟΣ)\nΕίσοδος ελεύθερη
URL:https://the-leros-way.com/el/event/%cf%80%ce%b1%cf%81%ce%bf%cf%85%cf%83%ce%af%ce%b1%cf%83%ce%b7-%ce%b2%ce%b9%ce%b2%ce%bb%ce%af%ce%bf%cf%85-%ce%b4%ce%b7%ce%bc%ce%b9%ce%bf%cf%85%cf%81%ce%b3%ce%af%ce%b1-%ce%b6%cf%89%ce%ae%cf%82/
LOCATION:Patriarchate of Leros\, Πατριαρχείο Λέρου\, Alinda\, 854 00\, Greece
CATEGORIES:Leros Municipality,Δημοσίευση Βιβλίου
ORGANIZER;CN="Leros Municipality":MAILTO:info@dopaisap.gr
END:VEVENT
BEGIN:VEVENT
DTSTART;TZID=UTC:20250323T110000
DTEND;TZID=UTC:20250323T130000
DTSTAMP:20260422T165406
CREATED:20250321T060030Z
LAST-MODIFIED:20250321T060031Z
UID:46203-1742727600-1742734800@the-leros-way.com
SUMMARY:Portolago: A Unique Monument of Fascist Italian Rationalist Architecture
DESCRIPTION:– What reasons led the Italians to occupy the Dodecanese once again?\n– When did the Dodecanese become an Italian “possession”?\n– Why did the Italian occupiers avoid the term “colony”?\n– Among which islands did they choose Leros for an Italian military base?\n– How was Portolago designed? \nOn Sunday\, March 23\, 2025\, at 11:00 AM\, the head of the General State Archives of Leros (G.A.K. Leros) invites you to the Municipal Cinema of Lakki for a presentation on: \n“Portolago: A Unique Monument of Fascist Italian Rationalist Architecture”
URL:https://the-leros-way.com/el/event/portolago-a-unique-monument-of-fascist-italian-rationalist-architecture/
LOCATION:Leros Cinema\, Municipal Cinema Leros\, Leros\, 85400\, Greece
CATEGORIES:Leros Municipality,Special Event
ATTACH;FMTTYPE=image/jpeg:https://the-leros-way.com/wp-content/uploads/2025/03/Screenshot-2025-03-21-075916.jpg
ORGANIZER;CN="Leros Municipality":MAILTO:info@dopaisap.gr
END:VEVENT
BEGIN:VEVENT
DTSTART;TZID=UTC:20241231T163000
DTEND;TZID=UTC:20250101T230000
DTSTAMP:20260422T165406
CREATED:20241224T072719Z
LAST-MODIFIED:20241224T073151Z
UID:45053-1735662600-1735772400@the-leros-way.com
SUMMARY:ΠΡΟΓΡΑΜΜΑ ΝΕΟΥ ΕΤΟΥΣ 2025
DESCRIPTION:Ο Δήμος Λέρου για το Νέο Έτος κατήρτισε το παρακάτω πρόγραμμα σε συνεργασία με \nτην Ιερά Μητρόπολη Λέρου. \n  \nΤΡΙΤΗ 31-12-2024 \n\n Ώρα 04:30 μ.μ. Εσπερινός εορτής Μεγάλου Βασtλείου εις Ιερό Ναό Αγ. Σωφρονίου\n\n(Πατριαρχείου) χ\,οροστατούvτος του Σεβασμιοτάτου Μητροπολίτου \nΛέρου\, Καλύμνου και Αστυπλαίας κ.κ. Παϊσίου. \n\n Ώρα 05:30 μ.μ. Κοπή Βασιλόπιτας lεράς Μητροπόλεως Λέρου στο Πατριαρχείο\n\nΑλίντων. \n  \nΤΕΤΑΡΤΗ 01-01-2025 \n\n Ώρα 10:00 π.μ. Συγκέντρωση επισήμων στο Δημαρχιακό Μέγαρο και μετάβαση από\n\nκοινού εις Ιερό Μητροπολιτικό Ναό «Ευαγγελισμός της Θεοτόκου». \n\n Ώρα 10:30 π.μ. Δοξολογία στον Ιερό Μητροπολιτικό Ναό «Ευαγγελισμός της\n\nΘεοτόκου» χοροστατούντος του Σεβασμιοτάτου Μητροπολίτου Λέρου\, \nΚαλύμνου και Αστυπλαίας κ.κ. Παϊσίου. \nΕν συνεχεία μετάβαση στο Δημαρχιακό Μέγαρο και κοπή της \nΠρωταχpονιάτιιcης πίτας από το Δήμαρχο Λέρου κ. Τιμόθεο Κωττάιcη \nπαρουσία αρχών και κοινού. \nΚατόπιν αυτού οι εκπρόσωποι των αρχών θα μεταβούν στο Ισιδώρειο \nΕκκλησιαστικό Γηροκομείο για την κοπή της Πρωτοχρονιάτικης πίτας. \nΤο παρόν επέχει. και θέση πρόσκλησης.
URL:https://the-leros-way.com/el/event/%cf%80%cf%81%ce%bf%ce%b3%cf%81%ce%b1%ce%bc%ce%bc%ce%b1-%ce%bd%ce%b5%ce%bf%cf%85-%ce%b5%cf%84%ce%bf%cf%85%cf%83-2025/
LOCATION:LEROS\, Katafigio Agrias Zois Koulouki - Merikia - Fitorio\, Ag. Marina\, Greece\, 854 00\, Greece
CATEGORIES:Leros Municipality,Special Event
ATTACH;FMTTYPE=image/jpeg:https://the-leros-way.com/wp-content/uploads/2024/12/viber_image_2024-07-08_19-13-58-030.jpg
ORGANIZER;CN="Leros Municipality":MAILTO:info@dopaisap.gr
END:VEVENT
BEGIN:VEVENT
DTSTART;TZID=UTC:20241123T183000
DTEND;TZID=UTC:20241123T203000
DTSTAMP:20260422T165406
CREATED:20241114T120811Z
LAST-MODIFIED:20241114T120811Z
UID:43936-1732386600-1732393800@the-leros-way.com
SUMMARY:Παρουσίαση Βιβλίου "Ένοχος Πολίτης"
DESCRIPTION:Δημοτική Βιβλιοθήκη στον Πλάτανο 23/11 στις 18:30
URL:https://the-leros-way.com/el/event/%cf%80%ce%b1%cf%81%ce%bf%cf%85%cf%83%ce%af%ce%b1%cf%83%ce%b7-%ce%b2%ce%b9%ce%b2%ce%bb%ce%af%ce%bf%cf%85-%ce%ad%ce%bd%ce%bf%cf%87%ce%bf%cf%82-%cf%80%ce%bf%ce%bb%ce%af%cf%84%ce%b7%cf%82/
LOCATION:Municipal Library\, Δημόσια Βιβλιοθήκη Λέρου\, Leros\, 85400\, Greece
CATEGORIES:Leros Municipality
ATTACH;FMTTYPE=image/webp:https://the-leros-way.com/wp-content/uploads/2024/11/POLITHS-ENOXOS-ΠΡΟΣΚΛΗΣΗ_ΛΕΡΟΣ.webp
ORGANIZER;CN="Leros Municipality":MAILTO:info@dopaisap.gr
END:VEVENT
BEGIN:VEVENT
DTSTART;TZID=UTC:20240820T210000
DTEND;TZID=UTC:20240820T230000
DTSTAMP:20260422T165406
CREATED:20230629T073006Z
LAST-MODIFIED:20230629T073006Z
UID:41718-1724187600-1724194800@the-leros-way.com
SUMMARY:Συναυλία με τίτλο: « Η δική μου παρτίδα έχει μοιραστεί στα δυο».
DESCRIPTION:Αύλειος χώρος: Δημοτικού Σχολείου Αγ. Μαρίνας. Συναυλία με τίτλο: « Η δική μου παρτίδα έχει μοιραστεί στα δυο». Πενήντα Χρόνια από την εισβολή του Τούρκικου στρατού στην Κύπρο. Οργάνωση: Μουσικά Εργαστήρια Κέντρου Πολιτισμού Έρευνας και Ανάπτυξης Λέρου «ΑΡΤΕΜΗΣ» σε συνεργασία με τον μουσικό σύνθετη Ζαφείρη Κουκουσέλη και με την υποστήριξη της Εταιρείας Μελέτης της Ιστορίας της Λέρου.  \nIn collaboration with the musical composer Zafiris Koukouselis and with the support of the Society for the Study of the History of Leros.
URL:https://the-leros-way.com/el/event/%cf%83%cf%85%ce%bd%ce%b1%cf%85%ce%bb%ce%af%ce%b1-%ce%bc%ce%b5-%cf%84%ce%af%cf%84%ce%bb%ce%bf-%ce%b7-%ce%b4%ce%b9%ce%ba%ce%ae-%ce%bc%ce%bf%cf%85-%cf%80%ce%b1%cf%81%cf%84%ce%af%ce%b4%ce%b1/
LOCATION:«ΝΙΚΟΛΑΪΔΕΙΟ» ΔΗΜΟΤΙΚΟ ΣΧΟΛΕΙΟ ΑΓΙΑΣ ΜΑΡΙΝΑΣ ΛΕΡΟΥ\, «ΝΙΚΟΛΑΪΔΕΙΟ» ΔΗΜΟΤΙΚΟ ΣΧΟΛΕΙΟ ΑΓΙΑΣ ΜΑΡΙΝΑΣ ΛΕΡΟΥ\, Λέρος\, 85400\, Greece
CATEGORIES:Leros Municipality,Μουσική,Συναυλία
ATTACH;FMTTYPE=image/webp:https://the-leros-way.com/wp-content/uploads/2023/06/Platanos-Stadium.webp
ORGANIZER;CN="Leros Municipality":MAILTO:info@dopaisap.gr
END:VEVENT
BEGIN:VEVENT
DTSTART;TZID=UTC:20240804T183000
DTEND;TZID=UTC:20240804T213000
DTSTAMP:20260422T165406
CREATED:20230629T054211Z
LAST-MODIFIED:20230629T054211Z
UID:41708-1722796200-1722807000@the-leros-way.com
SUMMARY:ΝΑΥΤΑΘΛΗΤΙΚΟΙ ΑΓΩΝΕΣ : «ΑΛΙΝΤΙΑ 2024».
DESCRIPTION:“Alindia 2024” nautical games \nΆλιντα – Πύργος Μπελλένη. ΝΑΥΤΑΘΛΗΤΙΚΟΙ ΑΓΩΝΕΣ : «ΑΛΙΝΤΙΑ 2024». Αγώνες και Απονομές. Συμμετέχουν: ΛΕΡΙΑΚΟΣ ΟΜΙΛΟΣ ΣΚΑΦΩΝ\, ΚΥΝΗΓΕΤΙΚΟΣ ΣΥΛΛΟΓΟΣ ΛΕΡΟΥ\, ΝΑΥΑΓΟΣΩΣΤΙΚΟΣ ΣΥΛΛΟΓΟΣ\, ΟΜΑΔΑ ΕΡΕΥΝΑΣ ΚΑΙ ΔΙΑΣΩΣΗΣ ΛΕΡΟΥ. Οργάνωση : Δήμος Λέρου. Συμμετοχή ελεύθερη.  \nRaces and Awards. \nΕίσοδος ελεύθερη.
URL:https://the-leros-way.com/el/event/%ce%bd%ce%b1%cf%85%cf%84%ce%b1%ce%b8%ce%bb%ce%b7%cf%84%ce%b9%ce%ba%ce%bf%ce%b9-%ce%b1%ce%b3%cf%89%ce%bd%ce%b5%cf%83-%ce%b1%ce%bb%ce%b9%ce%bd%cf%84%ce%b9%ce%b1-2024/
LOCATION:Alinda Beach\, Alinda Beach\, Leros\, 85400\, Greece
CATEGORIES:Leros Municipality,Special Event
ATTACH;FMTTYPE=image/webp:https://the-leros-way.com/wp-content/uploads/2023/06/Alindian-games-in-Leros.webp
ORGANIZER;CN="Leros Municipality":MAILTO:info@dopaisap.gr
END:VEVENT
END:VCALENDAR