BEGIN:VCALENDAR
VERSION:2.0
PRODID:-//The Leros Way - ECPv6.15.13.1//NONSGML v1.0//EN
CALSCALE:GREGORIAN
METHOD:PUBLISH
X-WR-CALNAME:The Leros Way
X-ORIGINAL-URL:https://the-leros-way.com/el/
X-WR-CALDESC:Events for The Leros Way
REFRESH-INTERVAL;VALUE=DURATION:PT1H
X-Robots-Tag:noindex
X-PUBLISHED-TTL:PT1H
BEGIN:VTIMEZONE
TZID:UTC
BEGIN:STANDARD
TZOFFSETFROM:+0000
TZOFFSETTO:+0000
TZNAME:UTC
DTSTART:20240101T000000
END:STANDARD
END:VTIMEZONE
BEGIN:VEVENT
DTSTART;TZID=UTC:20251105T120000
DTEND;TZID=UTC:20251105T200000
DTSTAMP:20260423T005350
CREATED:20251104T094411Z
LAST-MODIFIED:20251104T095726Z
UID:50634-1762344000-1762372800@the-leros-way.com
SUMMARY:MILWAUKEE DEMO DAY
DESCRIPTION:Επισκεφθείτε το NAVAL Chandlery και δοκιμάστε από κοντά τα επαγγελματικά εργαλεία\, τα νέα εξαρτήματα\, τα Μέσα Ατομικής Προστασίας (ΜΑΠ) και τα συστήματα αποθήκευσης της Milwaukee!Σας περιμένουν ειδικές τιμές και δώρα! \nΜην χάσετε την ευκαιρία να γνωρίσετε τον εξοπλισμό που κάνει τη διαφορά!
URL:https://the-leros-way.com/el/event/milwaukee-demo-day/
LOCATION:NAVAL Chandlery\, Vasileos Georgiou 3\, Lakki\, 854 00\, Greece
CATEGORIES:Sailing Event,Έκθεση
ATTACH;FMTTYPE=image/webp:https://the-leros-way.com/wp-content/uploads/2025/11/Screenshot-2025-11-04-114240.webp
END:VEVENT
BEGIN:VEVENT
DTSTART;TZID=UTC:20251129T180000
DTEND;TZID=UTC:20251129T210000
DTSTAMP:20260423T005350
CREATED:20251125T081707Z
LAST-MODIFIED:20251125T081707Z
UID:50939-1764439200-1764450000@the-leros-way.com
SUMMARY:Έκθεση λινογραφίας από τον Michael WInters
DESCRIPTION:Το Κέντρο Πολιτισμού\, Έρευνας και Ανάπτυξης Λέρου «Άρτεμις» οργανώνει έκθεση λινογραφίας-ζωγραφικής του επίτιμου δημότη Λέρου\, κ. Michael Winters.Στην ξεχωριστή αυτή εκδήλωση θα παρουσιαστεί μια επιλογή από τα πρόσφατα έργα του\, αναδεικνύοντας τη βαθιά σύνδεσή του με το νησί και τη μοναδική καλλιτεχνική του προσέγγιση.
URL:https://the-leros-way.com/el/event/%ce%ad%ce%ba%ce%b8%ce%b5%cf%83%ce%b7-%ce%bb%ce%b9%ce%bd%ce%bf%ce%b3%cf%81%ce%b1%cf%86%ce%af%ce%b1%cf%82-%ce%b1%cf%80%cf%8c-%cf%84%ce%bf%ce%bd-michael-winters/
LOCATION:«ΝΙΚΟΛΑΪΔΕΙΟ» ΔΗΜΟΤΙΚΟ ΣΧΟΛΕΙΟ ΑΓΙΑΣ ΜΑΡΙΝΑΣ ΛΕΡΟΥ\, «ΝΙΚΟΛΑΪΔΕΙΟ» ΔΗΜΟΤΙΚΟ ΣΧΟΛΕΙΟ ΑΓΙΑΣ ΜΑΡΙΝΑΣ ΛΕΡΟΥ\, Λέρος\, 85400\, Greece
CATEGORIES:Έκθεση,Πολιτιστικό Κέντρο Άρτεμις,Τέχνη
ATTACH;FMTTYPE=image/webp:https://the-leros-way.com/wp-content/uploads/2025/11/viber_image_2025-11-25_08-46-04-304.webp
END:VEVENT
END:VCALENDAR