BEGIN:VCALENDAR
VERSION:2.0
PRODID:-//The Leros Way - ECPv6.15.20//NONSGML v1.0//EN
CALSCALE:GREGORIAN
METHOD:PUBLISH
X-WR-CALNAME:The Leros Way
X-ORIGINAL-URL:https://the-leros-way.com/el/
X-WR-CALDESC:Events for The Leros Way
REFRESH-INTERVAL;VALUE=DURATION:PT1H
X-Robots-Tag:noindex
X-PUBLISHED-TTL:PT1H
BEGIN:VTIMEZONE
TZID:UTC
BEGIN:STANDARD
TZOFFSETFROM:+0000
TZOFFSETTO:+0000
TZNAME:UTC
DTSTART:20240101T000000
END:STANDARD
END:VTIMEZONE
BEGIN:VEVENT
DTSTART;VALUE=DATE:20250808
DTEND;VALUE=DATE:20250810
DTSTAMP:20260425T223015
CREATED:20230725T135623Z
LAST-MODIFIED:20250623T141353Z
UID:41702-1754611200-1754783999@the-leros-way.com
SUMMARY:Leros Art Festival
DESCRIPTION:Ομαδική έκθεση τέχνης και μουσικές συναυλίες με τίτλο: « Leros Art Festival 2025».\nΕίναι μια πρωτοβουλία καλλιτεχνών\, όλων των ηλικιών\, όπου πέραν των έργων που εκτίθενται συμμετέχουν και μουσικές μπάντες από μουσικούς του νησιού μας.\nΔιοργάνωση: Κολλεκτίβα Καλλιτεχνών Λέρου.\nΕίσοδος ελεύθερη. \n 
URL:https://the-leros-way.com/el/event/%ce%bb%ce%b1%ce%ba%ce%ba%ce%af-%ce%bd%ce%b1%cf%85%cf%84%ce%b9%ce%ba%cf%8c%cf%82-%cf%8c%ce%bc%ce%b9%ce%bb%ce%bf%cf%82-%ce%bb%ce%ad%cf%81%ce%bf%cf%85-3%ce%bf-%ce%ba%ce%bf%cf%85%ce%bb%ce%bf%cf%8d%ce%ba/
LOCATION:Sailing Club\, Ναυτικός όμιλος Λέρου\, Leros\, 85400\, Greece
CATEGORIES:Έκθεση,Μουσική,Πάρτυ για χορό,Συναυλία,Τέχνη,Φεστιβάλ
ATTACH;FMTTYPE=image/jpeg:https://the-leros-way.com/wp-content/uploads/2023/07/451424390_2234117016950339_2925731159159362382_n-1.jpg
END:VEVENT
BEGIN:VEVENT
DTSTART;TZID=UTC:20250820T210000
DTEND;TZID=UTC:20250820T230000
DTSTAMP:20260425T223015
CREATED:20250617T133137Z
LAST-MODIFIED:20250617T133137Z
UID:48854-1755723600-1755730800@the-leros-way.com
SUMMARY:Μπαζάρ Βιβλίου & Mουσική Bραδιά
DESCRIPTION:Μπαζάρ Βιβλίου- μουσικών εκδόσεων ΑΡΤΕΜΙΣ θα ακολουθήσει μουσική βραδιά με την κ. Αγγελική Καραγγέλου με τίτλο «Τα ερωτικά του Θεοδωράκη». \nΔιοργάνωση: Εκδόσεις Κέντρου Πολιτισμού Έρευνας και Ανάπτυξης Λέρου «ΑΡΤΕΜΙΣ» – Ίδρυμα Σίμωνα Καρά. \nΕίσοδος ελεύθερη.
URL:https://the-leros-way.com/el/event/%ce%bc%cf%80%ce%b1%ce%b6%ce%ac%cf%81-%ce%b2%ce%b9%ce%b2%ce%bb%ce%af%ce%bf%cf%85-m%ce%bf%cf%85%cf%83%ce%b9%ce%ba%ce%ae-b%cf%81%ce%b1%ce%b4%ce%b9%ce%ac/
LOCATION:Artemis Courtyard\, Ειρηνοδικείο Λέρου\, Leros\, 85400\, Greece
CATEGORIES:Special Event,Έκθεση,Μαρίνα Άρτεμις,Πολιτιστικό Κέντρο Άρτεμις,Συναυλία
ATTACH;FMTTYPE=image/jpeg:https://the-leros-way.com/wp-content/uploads/2025/06/03.jpg
ORGANIZER;CN="Artemis":MAILTO:artemis@leros.com
END:VEVENT
BEGIN:VEVENT
DTSTART;TZID=UTC:20250830T190000
DTEND;TZID=UTC:20250907T220000
DTSTAMP:20260425T223015
CREATED:20250618T113712Z
LAST-MODIFIED:20250618T115116Z
UID:48933-1756580400-1757282400@the-leros-way.com
SUMMARY:Έκθεση του Giovanni D'Alessandro
DESCRIPTION:Έκθεση με τίτλο: Let There Be Light! And There Was Light – Graphic Journeys Toward an Informal Genesis : Μονοτυπίες του Giovanni D’Alessandro. \nΟι τριάντα μονοτυπίες που παρουσιάζονται αποτελούν μια ιδεατή γραφιστική διαδρομή\, η οποία διατρέχει τη σύγχρονη καλλιτεχνική παραγωγή του δημιουργού\, με μια ιδιαίτερη αρμονία γραμμών και χρωμάτων – μια παραγωγή που έχει υλοποιηθεί τα τελευταία χρόνια κυρίως με αυτή τη γραφιστική τεχνική. \nΕγκαίνια έκθεσης: Σάββατο 30/08/2025 ώρα 19:00Ώρες λειτουργίας: 19:00-22:00. \nΔιοργάνωση: Πολιτιστικό Σωματείο AIAL\, Ακαδημία Καλών Τεχνών Παλέρμου\, Ιταλικό Μορφωτικό Ινστιτούτο Αθηνών\, Δήμος Λέρου. \nΕίσοδος ελεύθερη.
URL:https://the-leros-way.com/el/event/%ce%ad%ce%ba%ce%b8%ce%b5%cf%83%ce%b7-%ce%bc%ce%bf%ce%bd%ce%bf%cf%84%cf%85%cf%80%ce%b9%cf%8e%ce%bd/
LOCATION:Lakki elementary school courtyard\, Δημοτικό Σχολείο Λακκίου\, Leros\, 85400\, Greece
CATEGORIES:Έκθεση,Τέχνη
ATTACH;FMTTYPE=image/webp:https://the-leros-way.com/wp-content/uploads/2025/06/abapa_poster.2.7_sic.3logo.3_GRE.low_.webp
ORGANIZER;CN="Greek-Italian Association of Friends of Leros %E2%80%9CAIAL%E2%80%9D":MAILTO:petrokaravo@yahoo.it
END:VEVENT
END:VCALENDAR