BEGIN:VCALENDAR
VERSION:2.0
PRODID:-//The Leros Way - ECPv6.15.13.1//NONSGML v1.0//EN
CALSCALE:GREGORIAN
METHOD:PUBLISH
X-ORIGINAL-URL:https://the-leros-way.com/el/
X-WR-CALDESC:Events for The Leros Way
REFRESH-INTERVAL;VALUE=DURATION:PT1H
X-Robots-Tag:noindex
X-PUBLISHED-TTL:PT1H
BEGIN:VTIMEZONE
TZID:UTC
BEGIN:STANDARD
TZOFFSETFROM:+0000
TZOFFSETTO:+0000
TZNAME:UTC
DTSTART:20250101T000000
END:STANDARD
END:VTIMEZONE
BEGIN:VEVENT
DTSTART;TZID=UTC:20260308T140000
DTEND;TZID=UTC:20260308T140000
DTSTAMP:20260422T131824
CREATED:20260303T070602Z
LAST-MODIFIED:20260303T070602Z
UID:52710-1772978400-1772978400@the-leros-way.com
SUMMARY:Live για τη Γιορτή της Γυναίκας
DESCRIPTION:Ο Σύλλογος Γονέων και Κηδεμόνων Αγ. Μαρίνας διοργανώνει μια μοναδική βραδιά αφιερωμένη σε όλες τις γυναίκες! Ελάτε να διασκεδάσουμε\, να φάμε και να χορέψουμε σε μια γιορτή γεμάτη εκπλήξεις.  \nΖωντανή μουσική: Μανώλης Πλατής & Φλούριος Ασβεστάς \nΕίσοδος: 15€ (περιλαμβάνει φαγητό) \nΜην χάσετε τη μεγάλη λαχειοφόρο αγορά με πολλά και πλούσια δώρα!
URL:https://the-leros-way.com/el/event/live-%ce%b3%ce%b9%ce%b1-%cf%84%ce%b7-%ce%b3%ce%b9%ce%bf%cf%81%cf%84%ce%ae-%cf%84%ce%b7%cf%82-%ce%b3%cf%85%ce%bd%ce%b1%ce%af%ce%ba%ce%b1%cf%82/
LOCATION:Leon Limani\, Lakki\, 4RHX+4G Lakki\, Leros\, 85400\, Greece
CATEGORIES:Μουσική,Παραδοσιακό,Χορός
ATTACH;FMTTYPE=image/webp:https://the-leros-way.com/wp-content/uploads/2026/03/Screenshot-2026-03-03-085444.webp
END:VEVENT
END:VCALENDAR