BEGIN:VCALENDAR
VERSION:2.0
PRODID:-//The Leros Way - ECPv6.15.20//NONSGML v1.0//EN
CALSCALE:GREGORIAN
METHOD:PUBLISH
X-WR-CALNAME:The Leros Way
X-ORIGINAL-URL:https://the-leros-way.com/el/
X-WR-CALDESC:Events for The Leros Way
REFRESH-INTERVAL;VALUE=DURATION:PT1H
X-Robots-Tag:noindex
X-PUBLISHED-TTL:PT1H
BEGIN:VTIMEZONE
TZID:UTC
BEGIN:STANDARD
TZOFFSETFROM:+0000
TZOFFSETTO:+0000
TZNAME:UTC
DTSTART:20250101T000000
END:STANDARD
END:VTIMEZONE
BEGIN:VEVENT
DTSTART;TZID=UTC:20260208T133000
DTEND;TZID=UTC:20260208T220000
DTSTAMP:20260424T092824
CREATED:20260206T103355Z
LAST-MODIFIED:20260206T103355Z
UID:52191-1770557400-1770588000@the-leros-way.com
SUMMARY:Χοροημερίδα Δ.Σ. Ξηροκάμπου
DESCRIPTION:Ο ΣΥΛΛΟΓΟΣ ΓΟΝΕΩΝ & ΚΗΔΕΜΟΝΩΝ ΔΗΜΟΤΙΚΟΥ ΣΧΟΛΕΙΟΥ ΞΗΡΟΚΑΜΠΟΥ οργανώνει χοροημερίδα με live μουσική\, κέφι\, χορό και φαγητό. \nΟι μουσικοί: \n\nΣάββας Γιαννουκάς\nΑντώνης Γιαννουκάς\n\nΣτέλιος Ελένης\n\nΕίσοδος: €15 (περιλαμβάνονται: σαλάτα\, ορεκτικό & κυρίως πιάτο) \nΚρατήσεις:6942 57 6521 – Λεωνίδας Ηλίας \nΠροσκλήσεις:693 707 0669
URL:https://the-leros-way.com/el/event/%cf%87%ce%bf%cf%81%ce%bf%ce%b7%ce%bc%ce%b5%cf%81%ce%af%ce%b4%ce%b1-%ce%b4-%cf%83-%ce%be%ce%b7%cf%81%ce%bf%ce%ba%ce%ac%ce%bc%cf%80%ce%bf%cf%85/
LOCATION:Leon Limani\, Lakki\, 4RHX+4G Lakki\, Leros\, 85400\, Greece
CATEGORIES:Μουσική,Παραδοσιακό,Χορός
ATTACH;FMTTYPE=image/webp:https://the-leros-way.com/wp-content/uploads/2026/02/629583345_18399720952181585_1011902029713822747_n.webp
END:VEVENT
BEGIN:VEVENT
DTSTART;TZID=UTC:20260212T130000
DTEND;TZID=UTC:20260212T233000
DTSTAMP:20260424T092824
CREATED:20260203T072452Z
LAST-MODIFIED:20260203T072452Z
UID:52134-1770901200-1770939000@the-leros-way.com
SUMMARY:Τσικνοπέμπτη με live μουσική
DESCRIPTION:Το τελευταίο live της χρονιάς το μεζεδοπωλείο της Κακομοίρας μεταφέρεται σε μεγαλύτερο χώρο \, στο Leon Limani.\nΗ τσίκνα θέλει χώρο. Η μουσική θέλει άνεση. Το γλέντι… ποιότητα.  \nΗ κουζίνα ξεκινά από νωρίς το μεσημέρι Live μουσική με τους:– Μανώλη Πλατή– Φλούριο Ασβεστά \nΚρατήσεις: 694 545 3808
URL:https://the-leros-way.com/el/event/%cf%84%cf%83%ce%b9%ce%ba%ce%bd%ce%bf%cf%80%ce%ad%ce%bc%cf%80%cf%84%ce%b7-%ce%bc%ce%b5-live-%ce%bc%ce%bf%cf%85%cf%83%ce%b9%ce%ba%ce%ae/
LOCATION:Leon Limani\, Lakki\, 4RHX+4G Lakki\, Leros\, 85400\, Greece
CATEGORIES:Μουσική,Παραδοσιακό,Χορός
ATTACH;FMTTYPE=image/webp:https://the-leros-way.com/wp-content/uploads/2026/02/Screenshot-2026-02-03-091346.webp
END:VEVENT
BEGIN:VEVENT
DTSTART;TZID=UTC:20260214T200000
DTEND;TZID=UTC:20260214T233000
DTSTAMP:20260424T092824
CREATED:20260123T082245Z
LAST-MODIFIED:20260123T082245Z
UID:51994-1771099200-1771111800@the-leros-way.com
SUMMARY:Χοροεσπερίδα Δ.Σ. Αλίντων
DESCRIPTION:Ο Σύλλογος Γονέων και Κηδεμόνων του Δημοτικού Σχολείου Αλίντων και οι γονείς της ΣΤ’ τάξης διοργανώνουν μια χοροεσπερίδα με κέφι\, μουσική και χωρό. \nΔιαθέσιμοι κλήροι για τη λαχειοφόρο που θα πραγματοποιηθεί. \nΕίσοδος: 15€ \nΚρατήσεις: +30 22470 23063\, +30 69426 76521 \n+30 2247023063\, +30 6942676521 \nΌλα τα έσοδα θα διατεθούν για την εκπαιδευτική εκδρομή της ΣΤ’ τάξης στη Βουλή των Ελλήνων.
URL:https://the-leros-way.com/el/event/%cf%87%ce%bf%cf%81%ce%bf%ce%b5%cf%83%cf%80%ce%b5%cf%81%ce%af%ce%b4%ce%b1-%ce%b4-%cf%83-%ce%b1%ce%bb%ce%af%ce%bd%cf%84%cf%89%ce%bd/
LOCATION:Leon Limani\, Lakki\, 4RHX+4G Lakki\, Leros\, 85400\, Greece
CATEGORIES:Μουσική,Χορός
ATTACH;FMTTYPE=image/webp:https://the-leros-way.com/wp-content/uploads/2026/01/617011696_2061686868009987_3603834668276899379_n.webp
END:VEVENT
BEGIN:VEVENT
DTSTART;TZID=UTC:20260214T210000
DTEND;TZID=UTC:20260214T233000
DTSTAMP:20260424T092824
CREATED:20260211T091425Z
LAST-MODIFIED:20260211T091425Z
UID:52304-1771102800-1771111800@the-leros-way.com
SUMMARY:Disco Party
DESCRIPTION:Είσοδος ελεύθερη\nΦέρτε το ποτό σας \nΌλοι μασκαρεμένοι Disco
URL:https://the-leros-way.com/el/event/disco-party/
LOCATION:Theather at Agia Marina\, Leros\, 85400\, Greece
CATEGORIES:Special Event,Θεατρική Ομάδα Λέρου,Πάρτυ για χορό,Χορός
ATTACH;FMTTYPE=image/webp:https://the-leros-way.com/wp-content/uploads/2026/02/disco-party.webp
END:VEVENT
BEGIN:VEVENT
DTSTART;TZID=UTC:20260221T143000
DTEND;TZID=UTC:20260221T213000
DTSTAMP:20260424T092824
CREATED:20260213T113140Z
LAST-MODIFIED:20260213T113140Z
UID:52387-1771684200-1771709400@the-leros-way.com
SUMMARY:Καμουτζέλες
DESCRIPTION:Η έναρξη της πατινάδας με τα μουσικά όργανα θα πραγματοποιηθεί στον χώρο του ΚΠΕΑ Άρτεμις.\nΜε την επιστροφή των συμμετεχόντων θα ακολουθήσει γλέντι στο αίθριο «Άρτεμις».
URL:https://the-leros-way.com/el/event/%ce%ba%ce%b1%ce%bc%ce%bf%cf%85%cf%84%ce%b6%ce%ad%ce%bb%ce%b5%cf%82/
LOCATION:Artemis Courtyard\, Ειρηνοδικείο Λέρου\, Leros\, 85400\, Greece
CATEGORIES:Μαρίνα Άρτεμις,Μουσική,Παραδοσιακό,Πολιτιστικό Κέντρο Άρτεμις,Χορός
ATTACH;FMTTYPE=image/webp:https://the-leros-way.com/wp-content/uploads/2026/02/viber_image_2026-02-13_12-57-41-715.webp
ORGANIZER;CN="Artemis":MAILTO:artemis@leros.com
END:VEVENT
END:VCALENDAR