BEGIN:VCALENDAR
VERSION:2.0
PRODID:-//The Leros Way - ECPv6.15.13.1//NONSGML v1.0//EN
CALSCALE:GREGORIAN
METHOD:PUBLISH
X-WR-CALNAME:The Leros Way
X-ORIGINAL-URL:https://the-leros-way.com/el/
X-WR-CALDESC:Events for The Leros Way
REFRESH-INTERVAL;VALUE=DURATION:PT1H
X-Robots-Tag:noindex
X-PUBLISHED-TTL:PT1H
BEGIN:VTIMEZONE
TZID:UTC
BEGIN:STANDARD
TZOFFSETFROM:+0000
TZOFFSETTO:+0000
TZNAME:UTC
DTSTART:20250101T000000
END:STANDARD
END:VTIMEZONE
BEGIN:VEVENT
DTSTART;TZID=UTC:20260207T170000
DTEND;TZID=UTC:20260207T220000
DTSTAMP:20260422T232749
CREATED:20260121T115839Z
LAST-MODIFIED:20260121T115839Z
UID:51944-1770483600-1770501600@the-leros-way.com
SUMMARY:Αποκριάτικο Πάρτι για Παιδιά
DESCRIPTION:Ο Σύλλογος Γονέων και Κηδεμόνων του Δημοτικού Σχολείου Αλίντων θα οργανώσει το πιο τρελό\, πολύχρωμο και ξεσηκωτικό αποκριάτικο πάρτι της χρονιάς! \nΕτοιμάστε τις στολές σας\, ζεστάνετε τις φωνές σας και ακονίστε τις φιγούρες σας\, γιατί μας περιμένουν: \n\nΚαραόκε για μικρούς και μεγάλους 👑 Διαγωνισμός καλύτερης στολής 💃 Διαγωνισμός χορού 🎈 Πολλή μουσική\, γέλιο και αποκριάτικη μαγεία! Φορέστε το πιο τρελό σας χαμόγελο και ελάτε να γιορτάσουμε μαζί τις Απόκριες όπως τους αξίζει! 🥳🎊 Σας περιμένουμε όλους για ένα απόγευμα γεμάτο κέφι και ξεφάντωμα! 🎶✨\nΔιαγωνισμός καλύτερης στολής\nΔιαγωνισμός χορού\nΠολλή μουσική\, γέλιο και αποκριάτικη μαγεία! Φορέστε το πιο τρελό σας χαμόγελο και ελάτε να γιορτάσουμε μαζί τις Απόκριες όπως τους αξίζει! 🥳🎊 Σας περιμένουμε όλους για ένα απόγευμα γεμάτο κέφι και ξεφάντωμα! 🎶✨\n\nΦορέστε το πιο τρελό σας χαμόγελο και γιορτάστε τις Απόκριες όπως τους αξίζει! \nΕίσοδος: 3€ (1 λαχνό δώρο σε κάθε οικογένεια: Θα διεξαχθεί λαχείοφορος αγορα)
URL:https://the-leros-way.com/el/event/%ce%b1%cf%80%ce%bf%ce%ba%cf%81%ce%b9%ce%ac%cf%84%ce%b9%ce%ba%ce%bf-%cf%80%ce%ac%cf%81%cf%84%ce%b9-%ce%b3%ce%b9%ce%b1-%cf%80%ce%b1%ce%b9%ce%b4%ce%b9%ce%ac/
LOCATION:Paradisos All Day Restaurant\, Paradisos Beach Bar\, Leros\, 85400\, Greece
CATEGORIES:Special Event,Διοργανώσεις για παιδιά,Πάρτυ για χορό
ATTACH;FMTTYPE=image/webp:https://the-leros-way.com/wp-content/uploads/2026/01/apokries_b-1.webp
END:VEVENT
BEGIN:VEVENT
DTSTART;TZID=UTC:20260214T210000
DTEND;TZID=UTC:20260214T233000
DTSTAMP:20260422T232749
CREATED:20260211T091425Z
LAST-MODIFIED:20260211T091425Z
UID:52304-1771102800-1771111800@the-leros-way.com
SUMMARY:Disco Party
DESCRIPTION:Είσοδος ελεύθερη\nΦέρτε το ποτό σας \nΌλοι μασκαρεμένοι Disco
URL:https://the-leros-way.com/el/event/disco-party/
LOCATION:Theather at Agia Marina\, Leros\, 85400\, Greece
CATEGORIES:Special Event,Θεατρική Ομάδα Λέρου,Πάρτυ για χορό,Χορός
ATTACH;FMTTYPE=image/webp:https://the-leros-way.com/wp-content/uploads/2026/02/disco-party.webp
END:VEVENT
BEGIN:VEVENT
DTSTART;TZID=UTC:20260214T233000
DTEND;TZID=UTC:20260214T233000
DTSTAMP:20260422T232749
CREATED:20260206T072729Z
LAST-MODIFIED:20260206T072729Z
UID:52166-1771111800-1771111800@the-leros-way.com
SUMMARY:Anti-Valentines's Day Party
DESCRIPTION:Η ΑΕΛ διοργανώνει ένα αντισυμβατικό Πάρτυ για την Ημέρα του Αγίου Βαλεντίνου\, για όσους θέλουν να ξεχάσουν ότι είναι η ημέρα των ερωτευμένων!  \nΟι πόρτες ανοίγουν στις 00:00 \nΕίσοδος: 3€ για στήριξη της ΑΕΛ \nDress Code: Μαύρα \n 
URL:https://the-leros-way.com/el/event/anti-valentiness-day-party/
LOCATION:Apothiki CLub Agia Marina\, 5V43+R3\, Ag. Marina 854 00\, Leros\, 85400\, Greece
CATEGORIES:άθλημα,Πάρτυ για χορό
ATTACH;FMTTYPE=image/jpeg:https://the-leros-way.com/wp-content/uploads/2026/02/481663540_2806649549522516_3225683869629463836_n.jpg
END:VEVENT
BEGIN:VEVENT
DTSTART;TZID=UTC:20260215T180000
DTEND;TZID=UTC:20260215T220000
DTSTAMP:20260422T232749
CREATED:20260206T081808Z
LAST-MODIFIED:20260206T082600Z
UID:52175-1771178400-1771192800@the-leros-way.com
SUMMARY:Αποκριάτικο Πάρτι για Παιδιά
DESCRIPTION:Ο Σύλλογος Γονέων και Κηδεμόνων του Δημοτικού Σχολείου Λακκίου διοργανώνει Αποκριάτικο Πάρτι! \n\nFace Painting\nΜπαλόνια\nΛαχειοφόρος με Πλούσια Δώρα!\nΜειωμένη τιμή σε παιχνίδια Bowling!\n…και πολλά περισσότερα!\n\nΕίσοδος: €2 \nΜε κάθε είσοδο μπαίνετε αυτόματα στην κλήρωση!
URL:https://the-leros-way.com/el/event/%ce%b1%cf%80%ce%bf%ce%ba%cf%81%ce%b9%ce%ac%cf%84%ce%b9%ce%ba%ce%bf-%cf%80%ce%ac%cf%81%cf%84%ce%b9-%ce%b3%ce%b9%ce%b1-%cf%80%ce%b1%ce%b9%ce%b4%ce%b9%ce%ac-2/
LOCATION:Crescendo Bowling\, Crescendo Bowling\, Vromolithos\, Dodecanese\, 854 00\, Greece
CATEGORIES:Διοργανώσεις για παιδιά,Πάρτυ για χορό
ATTACH;FMTTYPE=image/webp:https://the-leros-way.com/wp-content/uploads/2026/01/apokries_b-1.webp
END:VEVENT
BEGIN:VEVENT
DTSTART;TZID=UTC:20260222T200000
DTEND;TZID=UTC:20260222T233000
DTSTAMP:20260422T232749
CREATED:20260212T072807Z
LAST-MODIFIED:20260212T072807Z
UID:52331-1771790400-1771803000@the-leros-way.com
SUMMARY:Πάρτυ Μασκέ
DESCRIPTION:Ετοιμαστείτε για μια βραδιά γεμάτη μουσική\, χορό και εκπλήξεις! \nΗ Γ’ τάξη του Μπελλενείου Γυμνασίου διοργανώνει αποκριάτικο πάρτυ μασκέ. \nΕίσοδος: 15€ – περιλαμβάνεται φαγητό \nΦορέστε τη στολή και την καλύτερη διάθεσή σας!
URL:https://the-leros-way.com/el/event/%cf%80%ce%ac%cf%81%cf%84%cf%85-%ce%bc%ce%b1%cf%83%ce%ba%ce%ad/
LOCATION:Navarone Estate\, Navarone\, Leros\, Dodecanese\, 85400\, Greece
CATEGORIES:Διοργανώσεις για παιδιά,Πάρτυ για χορό
ATTACH;FMTTYPE=image/webp:https://the-leros-way.com/wp-content/uploads/2026/02/629747845_3050337718489513_7243880752129955751_n.webp
END:VEVENT
END:VCALENDAR