BEGIN:VCALENDAR
VERSION:2.0
PRODID:-//The Leros Way - ECPv6.15.20//NONSGML v1.0//EN
CALSCALE:GREGORIAN
METHOD:PUBLISH
X-WR-CALNAME:The Leros Way
X-ORIGINAL-URL:https://the-leros-way.com/el/
X-WR-CALDESC:Events for The Leros Way
REFRESH-INTERVAL;VALUE=DURATION:PT1H
X-Robots-Tag:noindex
X-PUBLISHED-TTL:PT1H
BEGIN:VTIMEZONE
TZID:UTC
BEGIN:STANDARD
TZOFFSETFROM:+0000
TZOFFSETTO:+0000
TZNAME:UTC
DTSTART:20240101T000000
END:STANDARD
END:VTIMEZONE
BEGIN:VEVENT
DTSTART;VALUE=DATE:20251124
DTEND;VALUE=DATE:20251213
DTSTAMP:20260425T191602
CREATED:20251124T083744Z
LAST-MODIFIED:20251124T083744Z
UID:50924-1763942400-1765583999@the-leros-way.com
SUMMARY:Συγκέντρωση ειδών για τα αδέσποτα του νησιού
DESCRIPTION:Στο πλαίσιο του κοινωνικού έργου του Α.Ο.Κ. Πανιωνίου\, πραγματοποιείται συγκέντρωση τροφής για σκύλους και γάτες\, ενισχύοντας τα “Αδέσποτα Πατουσάκια”.\n\n\n\nΜπορείτε να συμβάλετε\, ώστε τις Άγιες Ημέρες των Χριστουγέννων να προσφέρουμε λίγη ζεστασιά και φροντίδα στα αδέσποτα του νησιού μας.\n\n\n\nΤι μπορείτε να προσφέρετε:\n\n\n\nΚονσέρβες\nΞηρά τροφή\nΑξεσουάρ για τα ζωάκια (κρεβατάκια\, κουβερτούλες\, δοχεία φαγητού\, λούτρινα παιχνίδια κ.λπ.)\nΔεν χρειάζεται να είναι καινούρια — μπορείτε να προσφέρετε και αντικείμενα από το σπίτι σας\, αρκεί να είναι σε καλή κατάσταση.\n\n\n\nΣημείο συλλογής:\nΣτην είσοδο του γηπέδου\, δεξιά\, υπάρχει ειδικά διαμορφωμένος χώρος διαλογής όπου μπορείτε να αφήνετε τις προσφορές σας.
URL:https://the-leros-way.com/el/event/%cf%83%cf%85%ce%b3%ce%ba%ce%ad%ce%bd%cf%84%cf%81%cf%89%cf%83%ce%b7-%ce%b5%ce%b9%ce%b4%cf%8e%ce%bd-%ce%b3%ce%b9%ce%b1-%cf%84%ce%b1-%ce%b1%ce%b4%ce%ad%cf%83%cf%80%ce%bf%cf%84%ce%b1-%cf%84%ce%bf%cf%85/
LOCATION:Basketball Court\, Δημοτικό Κλειστό Γυμναστήριο Μερικιάς\, Leros\, 85400\, Greece
CATEGORIES:Charity Event
ATTACH;FMTTYPE=image/webp:https://the-leros-way.com/wp-content/uploads/2025/11/588529349_1359975479250473_6963264775299778004_n.webp
END:VEVENT
END:VCALENDAR