BEGIN:VCALENDAR
VERSION:2.0
PRODID:-//The Leros Way - ECPv6.15.20//NONSGML v1.0//EN
CALSCALE:GREGORIAN
METHOD:PUBLISH
X-WR-CALNAME:The Leros Way
X-ORIGINAL-URL:https://the-leros-way.com/el/
X-WR-CALDESC:Events for The Leros Way
REFRESH-INTERVAL;VALUE=DURATION:PT1H
X-Robots-Tag:noindex
X-PUBLISHED-TTL:PT1H
BEGIN:VTIMEZONE
TZID:UTC
BEGIN:STANDARD
TZOFFSETFROM:+0000
TZOFFSETTO:+0000
TZNAME:UTC
DTSTART:20230101T000000
END:STANDARD
END:VTIMEZONE
BEGIN:VEVENT
DTSTART;VALUE=DATE:20240801
DTEND;VALUE=DATE:20240805
DTSTAMP:20260424T223056
CREATED:20240625T052220Z
LAST-MODIFIED:20240625T052220Z
UID:41701-1722470400-1722815999@the-leros-way.com
SUMMARY:Εκπαιδευτική δράση με τίτλο : «Παίζω και Μαθαίνω – Μαθαίνω και Παίζω» με το λαούτο
DESCRIPTION:Πλάτανος : Αίθριος χώρος Συλλόγου Άρτεμης. Εκπαιδευτική δράση με τίτλο : «Παίζω και Μαθαίνω – Μαθαίνω και Παίζω» με το λαούτο. Οργάνωση : Μουσικά Εργαστήρια «ΑΡΤΕΜΗΣ». \nOrganization: Music Workshops “ARTEMIS”. \n*A detailed program will be released onArtemis Facebook.
URL:https://the-leros-way.com/el/event/%ce%b5%ce%ba%cf%80%ce%b1%ce%b9%ce%b4%ce%b5%cf%85%cf%84%ce%b9%ce%ba%ce%ae-%ce%b4%cf%81%ce%ac%cf%83%ce%b7-%ce%bc%ce%b5-%cf%84%ce%af%cf%84%ce%bb%ce%bf-%cf%80%ce%b1%ce%af%ce%b6%cf%89-%ce%ba%ce%b1/
LOCATION:Artemis Courtyard\, Ειρηνοδικείο Λέρου\, Leros\, 85400\, Greece
CATEGORIES:Διοργανώσεις για παιδιά,Μαρίνα Άρτεμις,Πολιτιστικό Κέντρο Άρτεμις
ATTACH;FMTTYPE=image/webp:https://the-leros-way.com/wp-content/uploads/2024/06/Leros-3.webp
ORGANIZER;CN="Artemis":MAILTO:artemis@leros.com
END:VEVENT
BEGIN:VEVENT
DTSTART;TZID=UTC:20240810T210000
DTEND;TZID=UTC:20240810T230000
DTSTAMP:20260424T223057
CREATED:20230628T073512Z
LAST-MODIFIED:20240703T052058Z
UID:41713-1723323600-1723330800@the-leros-way.com
SUMMARY:Moonlight cinema: Ταινίες μικρού μήκους 1ο μέρος Ten Shorts around the World 2024.
DESCRIPTION:Πλάτανος: Αίθριος χώρος Συλλόγου Άρτεμης
URL:https://the-leros-way.com/el/event/%cf%80%ce%bb%ce%ac%cf%84%ce%b1%ce%bd%ce%bf%cf%82-%ce%b1%ce%af%ce%b8%cf%81%ce%b9%ce%bf%cf%82-%cf%87%cf%8e%cf%81%ce%bf%cf%82-%cf%83%cf%85%ce%bb%ce%bb%cf%8c%ce%b3%ce%bf%cf%85-%ce%ac%cf%81%cf%84%ce%b5-2/
LOCATION:Artemis Courtyard\, Ειρηνοδικείο Λέρου\, Leros\, 85400\, Greece
CATEGORIES:Movie,Μαρίνα Άρτεμις
ATTACH;FMTTYPE=image/jpeg:https://the-leros-way.com/wp-content/uploads/2023/05/Meeting-with-film-maker-1.jpg
ORGANIZER;CN="Greek-Italian Association of Friends of Leros %E2%80%9CAIAL%E2%80%9D":MAILTO:petrokaravo@yahoo.it
END:VEVENT
BEGIN:VEVENT
DTSTART;VALUE=DATE:20240823
DTEND;VALUE=DATE:20240826
DTSTAMP:20260424T223057
CREATED:20230629T054557Z
LAST-MODIFIED:20230629T054557Z
UID:41721-1724371200-1724630399@the-leros-way.com
SUMMARY:Πλάτανος: Αίθριος χώρος Συλλόγου Άρτεμης. Σεμινάριο Λύρας με εισηγητή τον Σταύρο Κοντό. Οργάνωση: Μουσικά Εργαστήρια «ΑΡΤΕΜΗΣ».
DESCRIPTION:Πλάτανος: Αίθριος χώρος Συλλόγου Άρτεμης. Σεμινάριο Λύρας με εισηγητή τον Σταύρο Κοντό. Οργάνωση: Μουσικά Εργαστήρια «ΑΡΤΕΜΗΣ». \n*A detailed program will be released onArtemis Facebook.
URL:https://the-leros-way.com/el/event/%cf%80%ce%bb%ce%ac%cf%84%ce%b1%ce%bd%ce%bf%cf%82-%ce%b1%ce%af%ce%b8%cf%81%ce%b9%ce%bf%cf%82-%cf%87%cf%8e%cf%81%ce%bf%cf%82-%cf%83%cf%85%ce%bb%ce%bb%cf%8c%ce%b3%ce%bf%cf%85-%ce%ac%cf%81%cf%84%ce%b5-3/
LOCATION:Artemis Courtyard\, Ειρηνοδικείο Λέρου\, Leros\, 85400\, Greece
CATEGORIES:Μαρίνα Άρτεμις,Μουσική,Πολιτιστικό Κέντρο Άρτεμις,ΣΕΜΙΝΑΡΙΟ
ATTACH;FMTTYPE=image/jpeg:https://the-leros-way.com/wp-content/uploads/2023/06/Musician-Artemis.jpg
ORGANIZER;CN="Artemis":MAILTO:artemis@leros.com
END:VEVENT
END:VCALENDAR