BEGIN:VCALENDAR
VERSION:2.0
PRODID:-//The Leros Way - ECPv6.15.20//NONSGML v1.0//EN
CALSCALE:GREGORIAN
METHOD:PUBLISH
X-ORIGINAL-URL:https://the-leros-way.com/el/
X-WR-CALDESC:Events for The Leros Way
REFRESH-INTERVAL;VALUE=DURATION:PT1H
X-Robots-Tag:noindex
X-PUBLISHED-TTL:PT1H
BEGIN:VTIMEZONE
TZID:UTC
BEGIN:STANDARD
TZOFFSETFROM:+0000
TZOFFSETTO:+0000
TZNAME:UTC
DTSTART:20250101T000000
END:STANDARD
END:VTIMEZONE
BEGIN:VEVENT
DTSTART;VALUE=DATE:20260306
DTEND;VALUE=DATE:20260309
DTSTAMP:20260424T122604
CREATED:20260306T103919Z
LAST-MODIFIED:20260306T103919Z
UID:52914-1772755200-1773014399@the-leros-way.com
SUMMARY:Δωρεάν Ιατρικές Εξετάσεις στη Λέρο
DESCRIPTION:Με γνώμονα τη φροντίδα για την υγεία των συμπολιτών μας\, διοργανώνεται μια σημαντική δράση προληπτικών και διαγνωστικών εξετάσεων στο νησί μας. \nΣε συνεργασία με τη Διοίκηση του Νοσοκομείου Λέρου\, την AHEPA και τις τοπικές αρχές —και με την επίσημη έγκριση του Ιατρικού Συλλόγου— εξειδικευμένοι ιατροί θα προσφέρουν τις υπηρεσίες τους δωρεάν. \nΕιδικότητες που συμμετέχουν:\n\n\nΠαιδίατρος \n\n\nΟφθαλμίατρος \n\n\nΩτορινολαρυγγολόγος (ΩΡΛ) \n\n\n Πρόγραμμα Ιατρικών Επισκέψεων\nΟι εξετάσεις θα πραγματοποιηθούν στους χώρους του Νοσοκομείου Λέρου: \n\n\nΠαρασκευή 6 Μαρτίου 2026: 10:30 – 13:30 & 17:00 – 19:00 \n\n\nΚυριακή 8 Μαρτίου 2026: 09:00 – 13:30 (με πιθανή παράταση το απόγευμα αν υπάρξει ανάγκη). \n\n\nΠώς θα κλείσετε το ραντεβού σας;\nΓια την καλύτερη εξυπηρέτησή σας\, η κράτηση ραντεβού είναι απαραίτητη. Επικοινωνήστε αποκλειστικά με το Γραφείο Υποστήριξης του Πολίτη:  \nΤηλέφωνο: 2247360140 \nΣημείωση: Θα τηρηθεί αυστηρή σειρά προτεραιότητας.
URL:https://the-leros-way.com/el/event/%ce%b4%cf%89%cf%81%ce%b5%ce%ac%ce%bd-%ce%b9%ce%b1%cf%84%cf%81%ce%b9%ce%ba%ce%ad%cf%82-%ce%b5%ce%be%ce%b5%cf%84%ce%ac%cf%83%ce%b5%ce%b9%cf%82-%cf%83%cf%84%ce%b7-%ce%bb%ce%ad%cf%81%ce%bf/
LOCATION:Leros Hospital\, Leros General Hospital - Health Center\, Lakki\, 85400\, Greece
CATEGORIES:Special Event,Υγεία
ATTACH;FMTTYPE=image/webp:https://the-leros-way.com/wp-content/uploads/2026/03/image-1-4.webp
END:VEVENT
END:VCALENDAR