BEGIN:VCALENDAR
VERSION:2.0
PRODID:-//The Leros Way - ECPv6.15.20//NONSGML v1.0//EN
CALSCALE:GREGORIAN
METHOD:PUBLISH
X-ORIGINAL-URL:https://the-leros-way.com/el/
X-WR-CALDESC:Events for The Leros Way
REFRESH-INTERVAL;VALUE=DURATION:PT1H
X-Robots-Tag:noindex
X-PUBLISHED-TTL:PT1H
BEGIN:VTIMEZONE
TZID:UTC
BEGIN:STANDARD
TZOFFSETFROM:+0000
TZOFFSETTO:+0000
TZNAME:UTC
DTSTART:20240101T000000
END:STANDARD
END:VTIMEZONE
BEGIN:VEVENT
DTSTART;VALUE=DATE:20250626
DTEND;VALUE=DATE:20250703
DTSTAMP:20260423T165308
CREATED:20240609T144021Z
LAST-MODIFIED:20250611T125814Z
UID:41120-1750896000-1751500799@the-leros-way.com
SUMMARY:Τα Σεμινάρια της Λέρου για τον Ανθρωπισμό
DESCRIPTION:Σειρά ανθρωπιστικών σεμιναρίων με επικεφαλής τους Έλληνες Καθηγητές του Πανεπιστημίου Columbia University of N.Y. Νένη Πανουργιά και Στάθη Γουργουρή.  \nΓια περισσότερες πληροφορίες και το πρόγραμμα:https://leros-humanism-seminars.com/
URL:https://the-leros-way.com/el/event/%cf%84%ce%b1-%cf%83%ce%b5%ce%bc%ce%b9%ce%bd%ce%ac%cf%81%ce%b9%ce%b1-%cf%84%ce%b7%cf%82-%ce%bb%ce%ad%cf%81%ce%bf%cf%85-%ce%b3%ce%b9%ce%b1-%cf%84%ce%bf%ce%bd-%ce%b1%ce%bd%ce%b8%cf%81%cf%89%cf%80%ce%b9/
LOCATION:«ΝΙΚΟΛΑΪΔΕΙΟ» ΔΗΜΟΤΙΚΟ ΣΧΟΛΕΙΟ ΑΓΙΑΣ ΜΑΡΙΝΑΣ ΛΕΡΟΥ\, «ΝΙΚΟΛΑΪΔΕΙΟ» ΔΗΜΟΤΙΚΟ ΣΧΟΛΕΙΟ ΑΓΙΑΣ ΜΑΡΙΝΑΣ ΛΕΡΟΥ\, Λέρος\, 85400\, Greece
CATEGORIES:ΣΕΜΙΝΑΡΙΟ
ATTACH;FMTTYPE=image/jpeg:https://the-leros-way.com/wp-content/uploads/2024/06/6911547066436299922.jpeg
ORGANIZER;CN="Artemis":MAILTO:artemis@leros.com
END:VEVENT
END:VCALENDAR