BEGIN:VCALENDAR
VERSION:2.0
PRODID:-//The Leros Way - ECPv6.15.13.1//NONSGML v1.0//EN
CALSCALE:GREGORIAN
METHOD:PUBLISH
X-WR-CALNAME:The Leros Way
X-ORIGINAL-URL:https://the-leros-way.com/el/
X-WR-CALDESC:Events for The Leros Way
REFRESH-INTERVAL;VALUE=DURATION:PT1H
X-Robots-Tag:noindex
X-PUBLISHED-TTL:PT1H
BEGIN:VTIMEZONE
TZID:UTC
BEGIN:STANDARD
TZOFFSETFROM:+0000
TZOFFSETTO:+0000
TZNAME:UTC
DTSTART:20250101T000000
END:STANDARD
END:VTIMEZONE
BEGIN:VEVENT
DTSTART;TZID=UTC:20260309T210000
DTEND;TZID=UTC:20260309T223000
DTSTAMP:20260419T191221
CREATED:20260224T083510Z
LAST-MODIFIED:20260224T085247Z
UID:52486-1773090000-1773095400@the-leros-way.com
SUMMARY:Θέατρο: Η ΓΕΝΝΗΣΗ ΕΝΟΣ ΦΑΣΙΣΤΑ - Η ΑΠΟΛΟΓΙΑ ΤΟΥ ΘΕΟΦΙΛΟΥ ΤΣΑΦΟΥ
DESCRIPTION:Μια αποτρόπαια Γυναικοκτονία συγκλονίζει την κοινή γνώμη στα χρόνια της χούντας. Ο Νικος Κουνδουρος πολιτικός μετανάστης στο Λονδίνο τότε\, παρακολουθεί τη μεγαλη κοινωνικη διάσταση που πήρε η πολυκροτη δικη και με αφορμή αυτό το γεγονός\, γράφει ένα συγκλονιστικό μονόδραμα.  \nΕνας φοιτητής της νομικής\, σκότωσε με αποτρόπαιο τρόπο το κορίτσι με το οποιο ειχε σχέση τρία χρόνια. Το πτώμα της νεαρής κοπέλας\, πετάχτηκε από τον τρίτο όροφο ενός κεντρικού ξενοδοχείου της Αθήνας\, ημίγυμνο μετά από ερωτική πράξη\, στο πεζοδρομιο σαν σκουπίδι. Ο Κούνδουρος μπαινει με μεγαλη μαεστρια στο θολωμένο μυαλό του δολοφόνου.   \nΓραφει με λεπτομέρεια ακολουθώντας την αγωνία και την μανία καταδίωξης\, του Θεόφιλου Τσάφου\, ενός δολοφόνου ο οποίος μπέρδεψε το δικαστήριο και χαρακτηρίστηκε και σχιζοφρενης και σε απόλυτη συνείδηση. \nΟ δολοφόνος δηλώνει στην απολογία του ότι είναι άνθρωπος των μυστικών υπηρεσιών πράγμα το οποίο δεν επιβεβαιώνεται. \nΣε αυτό το σημείο\, αρχίζει να ξετυλίγει αριστοτεχνικά το κουβάρι ο Κουνδουρος\, γυρίζοντας πίσω στα γεγονότα\, για να αποκαλύψει την παράνοια στη γέννηση ενός φασίστα. \nΤο έργο σκηνοθετήθηκε από την Γιώτα Κουνδουράκη με πρωταγωνιστή τον Νικο Πανόπουλο και παίχθηκε πριν από 15 χρόνια για 2 σεζόν\, με μεγάλη επιτυχία και επαναλαμβάνεται για λίγες παραστάσεις.  \nΤΙΜΕΣ ΕΙΣΙΤΗΡΙΩΝ \n\n15€ Γενική Είσοδος\n13€ Μειωμένο (Άνεργων – Φοιτητών – Παιδικά – ΑμεΑ )\n\nΠροπώληση : “ΜΠΑΚΑΛΙΚΟ ΜΕ ΤΣΙΠΟΥΡΟ” & TICKETMASTER.GR Kρατήσεις : 6936915422
URL:https://the-leros-way.com/el/event/%ce%b8%ce%ad%ce%b1%cf%84%cf%81%ce%bf-%ce%b7-%ce%b3%ce%b5%ce%bd%ce%bd%ce%b7%cf%83%ce%b7-%ce%b5%ce%bd%ce%bf%cf%83-%cf%86%ce%b1%cf%83%ce%b9%cf%83%cf%84%ce%b1-%ce%b7-%ce%b1%cf%80%ce%bf%ce%bb%ce%bf/
LOCATION:Leros Cinema\, Municipal Cinema Leros\, Leros\, 85400\, Greece
CATEGORIES:Θεατρική Παράσταση,Σινεμά
ATTACH;FMTTYPE=image/webp:https://the-leros-way.com/wp-content/uploads/2026/02/1759422908118-2.webp
END:VEVENT
BEGIN:VEVENT
DTSTART;TZID=UTC:20260314T200000
DTEND;TZID=UTC:20260316T213000
DTSTAMP:20260419T191221
CREATED:20260302T134905Z
LAST-MODIFIED:20260302T134905Z
UID:52704-1773518400-1773696600@the-leros-way.com
SUMMARY:Θέατρο: Ευτυχισμένες μέρες
DESCRIPTION:Ευτυχισμένες μέρες του Samuel Beckett \n14-15-16 Μαρτίου 2026\, ώρα 20:00Θεατρακι ΘΟΛ \nΛόγω περιορισμένου αριθμού θέσεων – 50 ανά παράσταση – είναι απαραίτητη η προπωλήση εισιτηρίων και η κράτηση θέσης. \nΤηλέφωνα: 6937409859 & 6944383920 \nΠΑΙΖΟΥΝΓουίννυ: Βασιλεία Αρχοντουλη\nΓουιλλυ: Νίκος Φωκάς \nΣΥΝΤΕΛΕΣΤΕΣ \n\nΜετάφραση: Σοφία Φιλιππίδου & Ζαφειρουλα Χοχ\nΣκηνοθεσία: Λευτέρης Διαμανταρας\nΣκηνικό – κοστούμια: Μιλκα Στογιανοβιτς\nΜουσική: Τάκης Φραγκους\nΒοηθός σκηνής – αφίσα: Γεωργία Παπαδοπουλου\nΥποβολειο: Ειρήνη Ντινακη\nΧειρισμός ήχου – φωτισμού: Γιώργος Δράκος\nΦωτογραφίες: Ουρανία Καραλη
URL:https://the-leros-way.com/el/event/%ce%b8%ce%ad%ce%b1%cf%84%cf%81%ce%bf-%ce%b5%cf%85%cf%84%cf%85%cf%87%ce%b9%cf%83%ce%bc%ce%ad%ce%bd%ce%b5%cf%82-%ce%bc%ce%ad%cf%81%ce%b5%cf%82/
LOCATION:Theather at Agia Marina\, Leros\, 85400\, Greece
CATEGORIES:Θεατρική Ομάδα Λέρου,Θεατρική Παράσταση
ATTACH;FMTTYPE=image/webp:https://the-leros-way.com/wp-content/uploads/2026/03/image-2.webp
END:VEVENT
BEGIN:VEVENT
DTSTART;TZID=UTC:20260323T100000
DTEND;TZID=UTC:20260323T100000
DTSTAMP:20260419T191221
CREATED:20260320T063346Z
LAST-MODIFIED:20260320T063346Z
UID:53348-1774260000-1774260000@the-leros-way.com
SUMMARY:Θέατρο: ΠΑΝΤΡΟΛΟΓΗΜΑΤΑ του Ν. Γκόγκολ
DESCRIPTION:Ο σύλλογος γονέων και κηδεμόνων του Μπουλαφέντειου ΓΕΛ ΛΕΡΟΥ σας προσκαλεί στην ένωση μετα ιερά δεσμά του γάμου των Ιβάν Κουσμίτς και Αγάφια που θα τελεστεί: \n\n23/3 – 10:00\n26&27/3 – 11:30\n27/3 – 20:30\n28/3 – 19:00\n\nστο κινηματοθέατρο του Λακκιού
URL:https://the-leros-way.com/el/event/%ce%b8%ce%ad%ce%b1%cf%84%cf%81%ce%bf-%cf%80%ce%b1%ce%bd%cf%84%cf%81%ce%bf%ce%bb%ce%bf%ce%b3%ce%b7%ce%bc%ce%b1%cf%84%ce%b1-%cf%84%ce%bf%cf%85-%ce%bd-%ce%b3%ce%ba%cf%8c%ce%b3%ce%ba%ce%bf%ce%bb/
LOCATION:Leros Cinema\, Municipal Cinema Leros\, Leros\, 85400\, Greece
CATEGORIES:Θεατρική Παράσταση,Σινεμά
ATTACH;FMTTYPE=image/webp:https://the-leros-way.com/wp-content/uploads/2026/03/image-1-6.webp
END:VEVENT
END:VCALENDAR