BEGIN:VCALENDAR
VERSION:2.0
PRODID:-//The Leros Way - ECPv6.15.20//NONSGML v1.0//EN
CALSCALE:GREGORIAN
METHOD:PUBLISH
X-ORIGINAL-URL:https://the-leros-way.com/el/
X-WR-CALDESC:Events for The Leros Way
REFRESH-INTERVAL;VALUE=DURATION:PT1H
X-Robots-Tag:noindex
X-PUBLISHED-TTL:PT1H
BEGIN:VTIMEZONE
TZID:UTC
BEGIN:STANDARD
TZOFFSETFROM:+0000
TZOFFSETTO:+0000
TZNAME:UTC
DTSTART:20230101T000000
END:STANDARD
END:VTIMEZONE
BEGIN:VEVENT
DTSTART;TZID=UTC:20240718T190000
DTEND;TZID=UTC:20240718T203000
DTSTAMP:20260424T225047
CREATED:20240610T163522Z
LAST-MODIFIED:20240702T161327Z
UID:41771-1721329200-1721334600@the-leros-way.com
SUMMARY:Xoρέψτε όπως οι Ντόπιοι!
DESCRIPTION:Είστε έτοιμοι να βουτήξετε στην ζωντανή κουλτούρα της Λέρου; \n“Ελάτε να μας συνοδεύσετε σε ένα Εργαστήριο Παραδοσιακών Χορών Λέρου όπου μπορείτε να μάθετε τους χορευτικούς κινήσεις\, να αισθανθείτε τον ρυθμό και να ζήσετε τη χαρά των παραδοσιακών χορών της Λέρου. Here’s the translation in Greek: “Οδηγούμενο από έναν έμπειρο δάσκαλο χορού από το Πολιτιστικό Σωματείο ‘Αρτεμις’\, αυτό το εργαστήριο είναι κατάλληλο για όλα τα επίπεδα\, από αρχάριους έως προχωρημένους χορευτές. Ο φιλικός μας εκπαιδευτής θα προσαρμόσει το μάθημα για να ταιριάζει στις προηγούμενες γνώσεις και τα ενδιαφέροντά σας\, παρέχοντας επίσης εισηγήσεις για την ιστορία και τη σημασία κάθε χορού. Μην ανησυχείτε αν δεν έχετε χορέψει ποτέ ελληνικού τύπου πριν! Θα ξεκινήσουμε με τις βασικές κινήσεις και συνδυασμούς των τοπικών χορών της Λέρου\, όπως το ‘Λερικό’\, το ‘Συρτό’ και η ‘Σούστα’\, ώστε να μπορείτε να ακολουθείτε εύκολα. Επιπλέον\, μπορείτε ακόμα να έχετε την ευκαιρία να δοκιμάσετε την τύχη σας στο παίξιμο του παραδοσιακού τοπικού οργάνου\, την Τσαμπούνα. Το μάθημα χορού θα πραγματοποιηθεί στην αυλή ενός παραδοσιακού ελληνικού σπιτιού\, μόλις 5 λεπτά οδήγηση από τη Λάκκι. Η μεταφορά προς τον χώρο διεξαγωγής περιλαμβάνεται στην τιμή του εισιτηρίου.” \n“Έλα και απόλαυσε τη χαρά των παραδοσιακών χορών της Λέρου μαζί μας – ας χορέψουμε με τον τρόπο της Λέρου!” \nΛεπτομέρειες για το εργαστήριο\n“Σημείο συνάντησης: Κέντρο Leros Way (Λακκί) – Γλώσσες: Ελληνικά-Αγγλικά – Τι να φέρετε: Αναπαυτικά παπούτσια Τιμή: 20€”  \n\nΕγγραφείτε εδώ\n\n 
URL:https://the-leros-way.com/el/event/xo%cf%81%ce%ad%cf%88%cf%84%ce%b5-%cf%8c%cf%80%cf%89%cf%82-%ce%bf%ce%b9-%ce%bd%cf%84%cf%8c%cf%80%ce%b9%ce%bf%ce%b9-6/
LOCATION:The Leros Way Hub\, The Leros Way Hub\, Leros\, 85400\, Greece
CATEGORIES:The Leros Hub,Εργαστήριο
ATTACH;FMTTYPE=image/jpeg:https://the-leros-way.com/wp-content/uploads/2024/06/350951801_3792903867642215_6464897974910980098_n.jpg
ORGANIZER;CN="The Leros Way":MAILTO:info@the-leros-way.com
END:VEVENT
BEGIN:VEVENT
DTSTART;TZID=UTC:20240713T180000
DTEND;TZID=UTC:20240713T210000
DTSTAMP:20260424T225047
CREATED:20240619T155901Z
LAST-MODIFIED:20240619T155901Z
UID:41770-1720893600-1720904400@the-leros-way.com
SUMMARY:Eργαστήριο Μαγειρικής: Η Λέρος σε ένα πιάτο
DESCRIPTION:Περιγραφή: \n“Εμβαθύνετε στις πλούσιες κουλιναρικές παραδόσεις της Ελλάδας και μάθετε να προετοιμάζετε γνήσια πιάτα όπως η μουσακάς\, το τζατζίκι και το σαγανάκι.” Here’s the translation in Greek: “Ελάτε να μας συνοδεύσετε σε ένα ξεχωριστό μάθημα μαγειρικής που θα λάβει χώρα σε ένα γοητευτικό\, παλιό ελληνικό σπίτι κρυμμένο ανάμεσα στο δάσος.” “Εδώ\, θα μαγειρεύετε σε ένα παραδοσιακό ξυλόφουρνο ενώ σας οδηγούμε στα μυστικά της ελληνικής κουζίνας που μεταδίδονται από γενιά σε γενιά.” \nTi να περιμένετε: \n\nΟδηγίες μαγειρικής βήμα προς βήμα: Οι έμπειροι σεφ μας θα σας καθοδηγήσουν σε κάθε βήμα της διαδικασίας μαγειρέματος\, από την προετοιμασία των συστατικών μέχρι την εκμάθηση των τεχνικών.\n\n\nΠρακτική εμπειρία: Λερώστε τα χέρια σας και συμμετέχετε ενεργά στη διαδικασία μαγειρέματος\, δημιουργώντας προσωπικά νόστιμα πιάτα με τα δικά σας χέρια.\n\n\nΠρακτική εμπειρία: Λερώστε τα χέρια σας και συμμετέχετε ενεργά στη διαδικασία μαγειρέματος\, δημιουργώντας προσωπικά νόστιμα πιάτα με τα δικά σας χέρια.\nΑπολαύστε ένα σπιτικό ελληνικό γεύμα: Γευτείτε τους καρπούς των κόπων σας καθώς καθόσαστε σε ένα απολαυστικό γεύμα με τα φρεσκομαγειρεμένα σας πιάτα\, συνοδευόμενα από παγωμένο τοπικό κρασί και ιστορίες από τα παλιά… * Το μάθημα μαγειρικής θα πραγματοποιηθεί σε ένα παλιό παραδοσιακό ελληνικό σπίτι\, 5 λεπτά από το Λακκί. Το σημείο παραλαβής θα είναι στο The Leros Way Hub 15 λεπτά πριν την έναρξη του μαθήματος.\n \n\nΠεριλαμβάνει: \n\nΈνα πλήρες γεύμα (Ελληνική σαλάτα\, σαγανάκι\, τζατζίκι\, μουσακάς\, μαγειρεμένα στον παραδοσιακό ξυλόφουρνο μας)\n\n\nNτόπιο κρασι\, νερο\, αναψυκτικά\n\n\nΣυνταγή για το σπίτι\nΜεταφορά με αυτοκίνητο στο σημείο του εργαστηρίου\n\nΤιμή: \n\n40\,00€ per person (Dinner\, drinks and transportation included)\n\nΠληροφορίες: \n\nΣτην αγγλική γλώσσα\n\n\nΜικρές ομάδες (μάθημα μαγειρικής: ελάχιστος αριθμός 6 – μέγιστος αριθμός 10 συμμετέχοντες)\n\n\nΑπαιτείται προκράτηση (έως την προηγούμενη ημέρα το βράδυ της εκδρομής)\nEπικοινωνήστε μαζί μας:\n\nEmail: info@the-leros-way.com  \nWhatsApp: (+30) 6947974447\nBuy online ticket here\n\n\n\nΤι να φέρετε: \n\nΆνετα παπούτσια\n\n\nΑπωθητικό κουνουπιων\n\nΠρόσθετες σημειώσεις : \n\nΑν θέλετε να συμμετάσχετε σε αυτό το εργαστήριο με τη δική σας ομάδα\, παρακαλούμε επικοινωνήστε μαζί μας εκ των προτέρων.\n\n\nΘα χαρούμε να οργανώσουμε ένα εργαστήριο μαγειρικής για εσάς..\n\nEmbrace the flavors\, stories\, and nature of Leros and create unforgettable memories during this unique cooking experience. \nBook your place in the workshop here
URL:https://the-leros-way.com/el/event/e%cf%81%ce%b3%ce%b1%cf%83%cf%84%ce%ae%cf%81%ce%b9%ce%bf-%ce%bc%ce%b1%ce%b3%ce%b5%ce%b9%cf%81%ce%b9%ce%ba%ce%ae%cf%82-%ce%b7-%ce%bb%ce%ad%cf%81%ce%bf%cf%82-%cf%83%ce%b5-%ce%ad%ce%bd%ce%b1-%cf%80-2/
LOCATION:The Leros Way Hub\, The Leros Way Hub\, Leros\, 85400\, Greece
CATEGORIES:The Leros Hub,Εργαστήριο
ATTACH;FMTTYPE=image/webp:https://the-leros-way.com/wp-content/uploads/2024/06/Cooking-Workshop-2-e1718811551991.webp
ORGANIZER;CN="The Leros Way":MAILTO:info@the-leros-way.com
END:VEVENT
BEGIN:VEVENT
DTSTART;TZID=UTC:20240711T190000
DTEND;TZID=UTC:20240711T203000
DTSTAMP:20260424T225047
CREATED:20240617T064559Z
LAST-MODIFIED:20240617T064559Z
UID:41769-1720724400-1720729800@the-leros-way.com
SUMMARY:Xoρέψτε όπως οι Ντόπιοι!
DESCRIPTION:Είστε έτοιμοι να βουτήξετε στην ζωντανή κουλτούρα της Λέρου; \nΣυμμετέχετε σε ένα Εργαστήρι Παραδοσιακού Χορού της Λέρου\, όπου μπορείτε να μάθετε τις κινήσεις\, να νιώσετε τον ρυθμό και να ζήσετε τη χαρά των παραδοσιακών χορών της Λέρου. Υπό την καθοδήγηση ενός έμπειρου δασκάλου χορού από τον Πολιτιστικό Σύλλογο Άρτεμις\, αυτό το εργαστήριο είναι κατάλληλο για όλα τα επίπεδα\, από αρχάριους μέχρι προχωρημένους χορευτές. Ο φιλικός μας δάσκαλος θα προσαρμόσει το μάθημα ανάλογα με τις γνώσεις και τα ενδιαφέροντά σας\, ενώ θα παρέχει και πληροφορίες για την ιστορία και τη σημασία κάθε χορού. Μην ανησυχείτε αν δεν έχετε ξαναχορέψει ελληνικούς χορούς! Θα ξεκινήσουμε με τα βασικά\, διδάσκοντάς σας τα θεμελιώδη βήματα και συνδυασμούς των τοπικών χορών της Λέρου\, όπως το “Λέρικο”\, το “Συρτός” και η “Σούστα”\, ώστε να μπορείτε εύκολα να ακολουθήσετε. Επιπλέον\, μπορεί να έχετε την ευκαιρία να δοκιμάσετε να παίξετε το παραδοσιακό τοπικό όργανο\, την Τσαμπούνα. Το μάθημα χορού θα πραγματοποιηθεί στην αυλή ενός παραδοσιακού ελληνικού σπιτιού\, μόλις 5 λεπτά με το αυτοκίνητο από το Λακκί. Η μεταφορά στον χώρο του εργαστηρίου περιλαμβάνεται στην τιμή του εισιτηρίου. \nCome and experience the joy of Leros traditional dances with us – let’s dance the Leros way! \nWorkshop Details\nΣημείο συνάντησης: The Leros Way Hub (Λακκί) – Γλώσσες: Ελληνικά-Αγγλικά – Τι να φέρετε: Άνετα παπούτσια Τιμή: 20€  \n\nΕγγραφείτε εδώ\n\n 
URL:https://the-leros-way.com/el/event/xo%cf%81%ce%ad%cf%88%cf%84%ce%b5-%cf%8c%cf%80%cf%89%cf%82-%ce%bf%ce%b9-%ce%bd%cf%84%cf%8c%cf%80%ce%b9%ce%bf%ce%b9-5/
CATEGORIES:The Leros Hub,Εργαστήριο
ATTACH;FMTTYPE=image/jpeg:https://the-leros-way.com/wp-content/uploads/2024/06/350951801_3792903867642215_6464897974910980098_n.jpg
END:VEVENT
BEGIN:VEVENT
DTSTART;TZID=UTC:20240706T180000
DTEND;TZID=UTC:20240706T210000
DTSTAMP:20260424T225047
CREATED:20240619T155653Z
LAST-MODIFIED:20240619T155653Z
UID:41765-1720288800-1720299600@the-leros-way.com
SUMMARY:Eργαστήριο Μαγειρικής: Η Λέρος σε ένα πιάτο
DESCRIPTION:Περιγραφή: \nΒυθιστείτε στις πλούσιες γαστρονομικές παραδόσεις της Ελλάδας και μάθετε να προετοιμάζετε αυθεντικά πιάτα όπως μουσακά\, τζατζίκι και σαγανάκι. Λάβετε μέρος σε ένα ειδικό μάθημα μαγειρικής σε ένα γοητευτικό\, παλιό ελληνικό σπίτι που κρύβεται ανάμεσα στο δάσος. Εδώ\, θα μαγειρεύετε σε έναν παραδοσιακό ξυλόφουρνο ενώ σας καθοδηγούμε στα μυστικά της ελληνικής κουζίνας που έχουν κληροδοτηθεί από γενιά σε γενιά.   \n\nΟδηγίες μαγειρικής βήμα προς βήμα: Οι έμπειροι σεφ μας θα σας καθοδηγήσουν σε κάθε βήμα της διαδικασίας μαγειρέματος\, από την προετοιμασία των συστατικών μέχρι την εκμάθηση των τεχνικών.\n\n\nΠρακτική εμπειρία: Λερώστε τα χέρια σας και συμμετέχετε ενεργά στη διαδικασία μαγειρέματος\, δημιουργώντας προσωπικά νόστιμα πιάτα με τα δικά σας χέρια.\n\n\nΠρακτική εμπειρία: Λερώστε τα χέρια σας και συμμετέχετε ενεργά στη διαδικασία μαγειρέματος\, δημιουργώντας προσωπικά νόστιμα πιάτα με τα δικά σας χέρια.\nΑπολαύστε ένα σπιτικό ελληνικό γεύμα: Γευτείτε τους καρπούς των κόπων σας καθώς καθόσαστε σε ένα απολαυστικό γεύμα με τα φρεσκομαγειρεμένα σας πιάτα\, συνοδευόμενα από παγωμένο τοπικό κρασί και ιστορίες από τα παλιά… * Το μάθημα μαγειρικής θα πραγματοποιηθεί σε ένα παλιό παραδοσιακό ελληνικό σπίτι\, 5 λεπτά από το Λακκί. Το σημείο παραλαβής θα είναι στο The Leros Way Hub 15 λεπτά πριν την έναρξη του μαθήματος.\n \n\nΠερολαμβάνει: \n\nΈνα πλήρες γεύμα (Ελληνική σαλάτα\, σαγανάκι\, τζατζίκι\, μουσακάς\, μαγειρεμένα στον παραδοσιακό ξυλόφουρνο μας)\n\n\nNτόπιο κρασι\, νερο\, αναψυκτικά\n\n\nΣυνταγή για το σπίτι\nΜεταφορά με αυτοκίνητο στο σημείο του εργαστηρίου\n\nΤιμή: \n\n40\,00€ per person (Dinner\, drinks and transportation included)\n\nΠληροφορίες: \n\nΣτην αγγλική γλώσσα\n\n\nΜικρές ομάδες (μάθημα μαγειρικής: ελάχιστος αριθμός 6 – μέγιστος αριθμός 10 συμμετέχοντες)\n\n\nΑπαιτείται προκράτηση (έως την προηγούμενη ημέρα το βράδυ της εκδρομής)\nEπικοινωνήστε μαζί μας:\n\nEmail: info@the-leros-way.com  \nWhatsApp: (+30) 6947974447\nBuy online ticket here\n\n\n\nΤι να φέρετε: \n\nΆνετα παπούτσια\n\n\nΑπωθητικό κουνουπιων\n\nΠρόσθετες σημειώσεις : \n\nΑν θέλετε να συμμετάσχετε σε αυτό το εργαστήριο με τη δική σας ομάδα\, παρακαλούμε επικοινωνήστε μαζί μας εκ των προτέρων.\n\n\nΘα χαρούμε να οργανώσουμε ένα εργαστήριο μαγειρικής για εσάς..\n\nΑποδεχτείτε τις γεύσεις\, τις ιστορίες και τη φύση της Λέρου και δημιουργήστε αξέχαστες αναμνήσεις κατά τη διάρκεια αυτής της μοναδικής εμπειρίας μαγειρικής. Κλείστε τη θέση σας στο εργαστήρι εδώ
URL:https://the-leros-way.com/el/event/e%cf%81%ce%b3%ce%b1%cf%83%cf%84%ce%ae%cf%81%ce%b9%ce%bf-%ce%bc%ce%b1%ce%b3%ce%b5%ce%b9%cf%81%ce%b9%ce%ba%ce%ae%cf%82-%ce%b7-%ce%bb%ce%ad%cf%81%ce%bf%cf%82-%cf%83%ce%b5-%ce%ad%ce%bd%ce%b1-%cf%80%ce%b9/
LOCATION:The Leros Way Hub\, The Leros Way Hub\, Leros\, 85400\, Greece
CATEGORIES:The Leros Hub,Εργαστήριο
ATTACH;FMTTYPE=image/webp:https://the-leros-way.com/wp-content/uploads/2024/06/Cooking-Workshop-2-e1718811551991.webp
ORGANIZER;CN="The Leros Way":MAILTO:info@the-leros-way.com
END:VEVENT
BEGIN:VEVENT
DTSTART;TZID=UTC:20240704T190000
DTEND;TZID=UTC:20240704T203000
DTSTAMP:20260424T225047
CREATED:20240617T071528Z
LAST-MODIFIED:20240617T071528Z
UID:41767-1720119600-1720125000@the-leros-way.com
SUMMARY:Xoρέψτε όπως οι Ντόπιοι!
DESCRIPTION:Είστε έτοιμοι να βουτήξετε στην ζωντανή κουλτούρα της Λέρου; \nΣυμμετέχετε σε ένα Εργαστήρι Παραδοσιακού Χορού της Λέρου\, όπου μπορείτε να μάθετε τις κινήσεις\, να νιώσετε τον ρυθμό και να ζήσετε τη χαρά των παραδοσιακών χορών της Λέρου. Υπό την καθοδήγηση ενός έμπειρου δασκάλου χορού από τον Πολιτιστικό Σύλλογο Άρτεμις\, αυτό το εργαστήριο είναι κατάλληλο για όλα τα επίπεδα\, από αρχάριους μέχρι προχωρημένους χορευτές. Ο φιλικός μας δάσκαλος θα προσαρμόσει το μάθημα ανάλογα με τις γνώσεις και τα ενδιαφέροντά σας\, ενώ θα παρέχει και πληροφορίες για την ιστορία και τη σημασία κάθε χορού. Μην ανησυχείτε αν δεν έχετε ξαναχορέψει ελληνικούς χορούς! Θα ξεκινήσουμε με τα βασικά\, διδάσκοντάς σας τα θεμελιώδη βήματα και συνδυασμούς των τοπικών χορών της Λέρου\, όπως το “Λέρικο”\, το “Συρτός” και η “Σούστα”\, ώστε να μπορείτε εύκολα να ακολουθήσετε. Επιπλέον\, μπορεί να έχετε την ευκαιρία να δοκιμάσετε να παίξετε το παραδοσιακό τοπικό όργανο\, την Τσαμπούνα. Το μάθημα χορού θα πραγματοποιηθεί στην αυλή ενός παραδοσιακού ελληνικού σπιτιού\, μόλις 5 λεπτά με το αυτοκίνητο από το Λακκί. Η μεταφορά στον χώρο του εργαστηρίου περιλαμβάνεται στην τιμή του εισιτηρίου. \nCome and experience the joy of Leros traditional dances with us – let’s dance the Leros way! \nWorkshop Details\nΣημείο συνάντησης: The Leros Way Hub (Λακκί) – Γλώσσες: Ελληνικά-Αγγλικά – Τι να φέρετε: Άνετα παπούτσια Τιμή: 20€  \n\nΕγγραφείτε εδώ\n\n 
URL:https://the-leros-way.com/el/event/xo%cf%81%ce%ad%cf%88%cf%84%ce%b5-%cf%8c%cf%80%cf%89%cf%82-%ce%bf%ce%b9-%ce%bd%cf%84%cf%8c%cf%80%ce%b9%ce%bf%ce%b9-3/
CATEGORIES:The Leros Hub,Εργαστήριο
ATTACH;FMTTYPE=image/jpeg:https://the-leros-way.com/wp-content/uploads/2024/06/350951801_3792903867642215_6464897974910980098_n.jpg
END:VEVENT
BEGIN:VEVENT
DTSTART;TZID=UTC:20240702T190000
DTEND;TZID=UTC:20240702T203000
DTSTAMP:20260424T225047
CREATED:20240617T070359Z
LAST-MODIFIED:20240702T154220Z
UID:41761-1719946800-1719952200@the-leros-way.com
SUMMARY:Xoρέψτε όπως οι Ντόπιοι!
DESCRIPTION:Είστε έτοιμοι να βουτήξετε στην ζωντανή κουλτούρα της Λέρου; \nΣυμμετέχετε σε ένα Εργαστήρι Παραδοσιακού Χορού της Λέρου\, όπου μπορείτε να μάθετε τις κινήσεις\, να νιώσετε τον ρυθμό και να ζήσετε τη χαρά των παραδοσιακών χορών της Λέρου. Υπό την καθοδήγηση ενός έμπειρου δασκάλου χορού από τον Πολιτιστικό Σύλλογο Άρτεμις\, αυτό το εργαστήριο είναι κατάλληλο για όλα τα επίπεδα\, από αρχάριους μέχρι προχωρημένους χορευτές. Ο φιλικός μας δάσκαλος θα προσαρμόσει το μάθημα ανάλογα με τις γνώσεις και τα ενδιαφέροντά σας\, ενώ θα παρέχει και πληροφορίες για την ιστορία και τη σημασία κάθε χορού. Μην ανησυχείτε αν δεν έχετε ξαναχορέψει ελληνικούς χορούς! Θα ξεκινήσουμε με τα βασικά\, διδάσκοντάς σας τα θεμελιώδη βήματα και συνδυασμούς των τοπικών χορών της Λέρου\, όπως το “Λέρικο”\, το “Συρτός” και η “Σούστα”\, ώστε να μπορείτε εύκολα να ακολουθήσετε. Επιπλέον\, μπορεί να έχετε την ευκαιρία να δοκιμάσετε να παίξετε το παραδοσιακό τοπικό όργανο\, την Τσαμπούνα. Το μάθημα χορού θα πραγματοποιηθεί στην αυλή ενός παραδοσιακού ελληνικού σπιτιού\, μόλις 5 λεπτά με το αυτοκίνητο από το Λακκί. Η μεταφορά στον χώρο του εργαστηρίου περιλαμβάνεται στην τιμή του εισιτηρίου. \nCome and experience the joy of Leros traditional dances with us – let’s dance the Leros way! \nWorkshop Details\nΣημείο συνάντησης: The Leros Way Hub (Λακκί) – Γλώσσες: Ελληνικά-Αγγλικά – Τι να φέρετε: Άνετα παπούτσια Τιμή: 20€  \n\nΕγγραφείτε εδώ\n\n 
URL:https://the-leros-way.com/el/event/xo%cf%81%ce%ad%cf%88%cf%84%ce%b5-%cf%8c%cf%80%cf%89%cf%82-%ce%bf%ce%b9-%ce%bd%cf%84%cf%8c%cf%80%ce%b9%ce%bf%ce%b9/
CATEGORIES:The Leros Hub,Εργαστήριο
ATTACH;FMTTYPE=image/jpeg:https://the-leros-way.com/wp-content/uploads/2024/06/350951801_3792903867642215_6464897974910980098_n.jpg
END:VEVENT
END:VCALENDAR