BEGIN:VCALENDAR
VERSION:2.0
PRODID:-//The Leros Way - ECPv6.15.13.1//NONSGML v1.0//EN
CALSCALE:GREGORIAN
METHOD:PUBLISH
X-WR-CALNAME:The Leros Way
X-ORIGINAL-URL:https://the-leros-way.com
X-WR-CALDESC:Events for The Leros Way
REFRESH-INTERVAL;VALUE=DURATION:PT1H
X-Robots-Tag:noindex
X-PUBLISHED-TTL:PT1H
BEGIN:VTIMEZONE
TZID:UTC
BEGIN:STANDARD
TZOFFSETFROM:+0000
TZOFFSETTO:+0000
TZNAME:UTC
DTSTART:20240101T000000
END:STANDARD
END:VTIMEZONE
BEGIN:VEVENT
DTSTART;TZID=UTC:20250605T180000
DTEND;TZID=UTC:20250605T200000
DTSTAMP:20260420T205005
CREATED:20250512T063109Z
LAST-MODIFIED:20251003T085718Z
UID:47249-1749146400-1749153600@the-leros-way.com
SUMMARY:Wine Tasting - Walk Through the Vines
DESCRIPTION:An introduction to the wines and vineyards of Leros \nIf you want to discover how great wine begins — from the soil\, the sun\, and the sea — this is the perfect experience for you. \nJoin our winemaker for a walk through the vineyard\, where you’ll learn about the local grape varieties\, the traditions of Aegean winemaking\, and how the island’s unique climate shapes each bottle. \nAfter the tour\, we’ll sit down to taste five of our wines\, accompanied by a generous platter of cheeses\, cold cuts\, olives\, and traditional Greek tapas — served family-style. \nThis tasting is ideal for those curious about wine and the story behind it. \nHighlights: \n\nA 45-minute guided vineyard tour\nTasting of 5 wines (40 ml each)\nLight Greek food platters to share\n\nLed by the winemaker in English or Greek \nPrice: €42 per person. Discounts available for groups of more than 4 — just give us a call to schedule and ask about group rates! \nHow to Secure Your Spot in This Workshop?\nChoose the option that works best for you: \nRegister online here \nSend us a message on WhatsApp \nVisit us at The Leros Way Hub \n  \nThis workshop is organized and delivered by ‘Isichi Ampelones’ winery. For any questions or further information\, please contact them directly at (+30) 697 3956 270 or email: efdrossou@hotmail.com
URL:https://the-leros-way.com/event/wine-tasting-walk-through-the-vines/
LOCATION:‘Isichi Ampelones’ winery\, 5RMF+6M Partheni\, Leros\, 85400\, Greece
CATEGORIES:Workshop
ATTACH;FMTTYPE=image/webp:https://the-leros-way.com/wp-content/uploads/2025/05/Winery1.webp
ORGANIZER;CN="%E2%80%98Isichi Ampelones%E2%80%99 winery":MAILTO:efdrossou@hotmail.com
END:VEVENT
BEGIN:VEVENT
DTSTART;TZID=UTC:20250605T180000
DTEND;TZID=UTC:20250605T200000
DTSTAMP:20260420T205005
CREATED:20250512T063109Z
LAST-MODIFIED:20251003T085718Z
UID:47249-1749146400-1749153600@the-leros-way.com
SUMMARY:Wine Tasting - Walk Through the Vines
DESCRIPTION:An introduction to the wines and vineyards of Leros \nIf you want to discover how great wine begins — from the soil\, the sun\, and the sea — this is the perfect experience for you. \nJoin our winemaker for a walk through the vineyard\, where you’ll learn about the local grape varieties\, the traditions of Aegean winemaking\, and how the island’s unique climate shapes each bottle. \nAfter the tour\, we’ll sit down to taste five of our wines\, accompanied by a generous platter of cheeses\, cold cuts\, olives\, and traditional Greek tapas — served family-style. \nThis tasting is ideal for those curious about wine and the story behind it. \nHighlights: \n\nA 45-minute guided vineyard tour\nTasting of 5 wines (40 ml each)\nLight Greek food platters to share\n\nLed by the winemaker in English or Greek \nPrice: €42 per person. Discounts available for groups of more than 4 — just give us a call to schedule and ask about group rates! \nHow to Secure Your Spot in This Workshop?\nChoose the option that works best for you: \nRegister online here \nSend us a message on WhatsApp \nVisit us at The Leros Way Hub \n  \nThis workshop is organized and delivered by ‘Isichi Ampelones’ winery. For any questions or further information\, please contact them directly at (+30) 697 3956 270 or email: efdrossou@hotmail.com
URL:https://the-leros-way.com/event/wine-tasting-walk-through-the-vines/
LOCATION:‘Isichi Ampelones’ winery\, 5RMF+6M Partheni\, Leros\, 85400\, Greece
CATEGORIES:Workshop
ATTACH;FMTTYPE=image/webp:https://the-leros-way.com/wp-content/uploads/2025/05/Winery1.webp
ORGANIZER;CN="%E2%80%98Isichi Ampelones%E2%80%99 winery":MAILTO:efdrossou@hotmail.com
END:VEVENT
BEGIN:VEVENT
DTSTART;TZID=UTC:20250608T190000
DTEND;TZID=UTC:20250608T210000
DTSTAMP:20260420T205005
CREATED:20250513T092605Z
LAST-MODIFIED:20251024T113041Z
UID:47320-1749409200-1749416400@the-leros-way.com
SUMMARY:Sunset Over Patela
DESCRIPTION:A Walk Through History and Stunning Views\nStarting Point: Agios Efstratios Chapel. See on the map. \nDuration: 2 hours \nLevel: Moderate uphill walk \nPrice: €25 per person. Discounts available for groups of more than 4 or when booking multiple tours — contact us to schedule and ask about group rates or tour packages! \nYou may have passed by the hills of Patela without knowing what lies just above—but this walk reveals a different side of Leros: quiet\, raw\, and full of history. Located between Lakki and Agia Marina\, Patela is a ridge that once played a key role in the island’s military defense. If you’re curious about this hidden chapter of Leros\, this is a great way to explore it—with a camera in one hand and a breeze from the Aegean in the air. \nWe begin at the small chapel of Agios Efstratios and walk uphill toward Aerofono. As the road climbs\, so does the sense of stepping into another time—one marked by bunkers\, tunnels\, and silent outposts. \nAt the top\, we explore the old air defense center\, including machine-gun nests\, concrete tunnels\, and a military monument that still stands watch over the island. You’ll also see where radar stations and command centers once operated—now quiet\, but still powerful in presence. \nA short walk brings us to the abandoned barracks nearby\, before we continue to the highest point of Aerofono. This is the moment to pause—here\, the 360° view opens up in every direction. The sea\, the islets\, the horizon. It’s a perfect place for photos—or just to take it all in. \nWe return at an easy pace\, with time to stop for more photos or a short rest along the way. \nThis is a themed\, historical walk with moderate effort—best enjoyed slowly and with curiosity. Wear comfortable shoes\, especially if you’d like to step into the tunnels or explore the ruins. For the best light and views\, aim for late afternoon into sunset. Spaces are limited\, so booking ahead is a good idea—we’d love to have you along. \nHow to Secure Your Spot in This Workshop? \nChoose the option that works best for you: \n\nRegister online here\nSend us a message on WhatsApp\nVisit us at The Leros Way Hub
URL:https://the-leros-way.com/event/sunset-over-patela/
ATTACH;FMTTYPE=image/webp:https://the-leros-way.com/wp-content/uploads/2025/05/Workshops-AnyRoad-2.webp
END:VEVENT
BEGIN:VEVENT
DTSTART;TZID=UTC:20250605T180000
DTEND;TZID=UTC:20250605T200000
DTSTAMP:20260420T205005
CREATED:20250512T063109Z
LAST-MODIFIED:20251003T085718Z
UID:47249-1749146400-1749153600@the-leros-way.com
SUMMARY:Wine Tasting - Walk Through the Vines
DESCRIPTION:An introduction to the wines and vineyards of Leros \nIf you want to discover how great wine begins — from the soil\, the sun\, and the sea — this is the perfect experience for you. \nJoin our winemaker for a walk through the vineyard\, where you’ll learn about the local grape varieties\, the traditions of Aegean winemaking\, and how the island’s unique climate shapes each bottle. \nAfter the tour\, we’ll sit down to taste five of our wines\, accompanied by a generous platter of cheeses\, cold cuts\, olives\, and traditional Greek tapas — served family-style. \nThis tasting is ideal for those curious about wine and the story behind it. \nHighlights: \n\nA 45-minute guided vineyard tour\nTasting of 5 wines (40 ml each)\nLight Greek food platters to share\n\nLed by the winemaker in English or Greek \nPrice: €42 per person. Discounts available for groups of more than 4 — just give us a call to schedule and ask about group rates! \nHow to Secure Your Spot in This Workshop?\nChoose the option that works best for you: \nRegister online here \nSend us a message on WhatsApp \nVisit us at The Leros Way Hub \n  \nThis workshop is organized and delivered by ‘Isichi Ampelones’ winery. For any questions or further information\, please contact them directly at (+30) 697 3956 270 or email: efdrossou@hotmail.com
URL:https://the-leros-way.com/event/wine-tasting-walk-through-the-vines/
LOCATION:‘Isichi Ampelones’ winery\, 5RMF+6M Partheni\, Leros\, 85400\, Greece
CATEGORIES:Workshop
ATTACH;FMTTYPE=image/webp:https://the-leros-way.com/wp-content/uploads/2025/05/Winery1.webp
ORGANIZER;CN="%E2%80%98Isichi Ampelones%E2%80%99 winery":MAILTO:efdrossou@hotmail.com
END:VEVENT
BEGIN:VEVENT
DTSTART;TZID=UTC:20250605T180000
DTEND;TZID=UTC:20250605T200000
DTSTAMP:20260420T205005
CREATED:20250512T063109Z
LAST-MODIFIED:20251003T085718Z
UID:47249-1749146400-1749153600@the-leros-way.com
SUMMARY:Wine Tasting - Walk Through the Vines
DESCRIPTION:An introduction to the wines and vineyards of Leros \nIf you want to discover how great wine begins — from the soil\, the sun\, and the sea — this is the perfect experience for you. \nJoin our winemaker for a walk through the vineyard\, where you’ll learn about the local grape varieties\, the traditions of Aegean winemaking\, and how the island’s unique climate shapes each bottle. \nAfter the tour\, we’ll sit down to taste five of our wines\, accompanied by a generous platter of cheeses\, cold cuts\, olives\, and traditional Greek tapas — served family-style. \nThis tasting is ideal for those curious about wine and the story behind it. \nHighlights: \n\nA 45-minute guided vineyard tour\nTasting of 5 wines (40 ml each)\nLight Greek food platters to share\n\nLed by the winemaker in English or Greek \nPrice: €42 per person. Discounts available for groups of more than 4 — just give us a call to schedule and ask about group rates! \nHow to Secure Your Spot in This Workshop?\nChoose the option that works best for you: \nRegister online here \nSend us a message on WhatsApp \nVisit us at The Leros Way Hub \n  \nThis workshop is organized and delivered by ‘Isichi Ampelones’ winery. For any questions or further information\, please contact them directly at (+30) 697 3956 270 or email: efdrossou@hotmail.com
URL:https://the-leros-way.com/event/wine-tasting-walk-through-the-vines/
LOCATION:‘Isichi Ampelones’ winery\, 5RMF+6M Partheni\, Leros\, 85400\, Greece
CATEGORIES:Workshop
ATTACH;FMTTYPE=image/webp:https://the-leros-way.com/wp-content/uploads/2025/05/Winery1.webp
ORGANIZER;CN="%E2%80%98Isichi Ampelones%E2%80%99 winery":MAILTO:efdrossou@hotmail.com
END:VEVENT
BEGIN:VEVENT
DTSTART;TZID=UTC:20250614T180000
DTEND;TZID=UTC:20250614T210000
DTSTAMP:20260420T205005
CREATED:20250512T064015Z
LAST-MODIFIED:20251003T085851Z
UID:47267-1749924000-1749934800@the-leros-way.com
SUMMARY:Winery ‘Isichi Ampelones’ - An Evening at the Winery
DESCRIPTION:For those who want to slow down and enjoy wine\, food\, and the vineyard at sunset \nIf you’re looking for a longer\, deeper experience\, join us for a magical evening at Isichi Ampelones. \nWe’ll start with a walk among the vines as the sun begins to set. After tasting five of our wines\, you’ll sit down to a full winemaker’s dinner — “Le menu de vigneron” — featuring a changing menu of homemade Greek dishes\, all prepared with seasonal ingredients from Leros. \nThis is not just a tasting — it’s a full Greek evening of wine\, food\, and connection. \nWhat’s included: \n\nA 45-minute sunset vineyard walk\nTasting of 5 wines (40 ml each)\nFull traditional dinner with local recipes\nPlatters of local cheeses\, meats\, and vegetables\n\nHosted by the winemakers in English or Greek \nPrice: €65 per person. Discounts available for groups of more than 4 — just give us a call to schedule and ask about group rates! \nHow to Secure Your Spot in This Workshop?\nChoose the option that works best for you: \nRegister online here \nSend us a message on WhatsApp \nVisit us at The Leros Way Hub
URL:https://the-leros-way.com/event/winery-isichi-ampelones-an-evening-at-the-winery/
CATEGORIES:Workshop
ATTACH;FMTTYPE=image/webp:https://the-leros-way.com/wp-content/uploads/2025/05/Winery2.webp
END:VEVENT
BEGIN:VEVENT
DTSTART;TZID=UTC:20250615T090000
DTEND;TZID=UTC:20250615T120000
DTSTAMP:20260420T205005
CREATED:20250513T093426Z
LAST-MODIFIED:20251024T113219Z
UID:47324-1749978000-1749988800@the-leros-way.com
SUMMARY:Leros by Car: Leros Highlights Tour
DESCRIPTION:Meeting Point: The Leros Way Hub. Get directions here \nDuration: 2–3 hours \nStyle: Self-drive tour (you follow with your own car) \nLevel: Easy\, relaxed pace \nPrice: €25 per person. Discounts available for groups of more than 4 or when booking multiple tours — contact us to schedule and ask about group rates or tour packages! \nExplore some of Leros’s most meaningful and scenic spots with your own car\, guided along the way by a local expert. This tour offers a great mix of history\, culture\, and stunning views—without much walking. \nWe begin at Agia Kioura Chapel\, known for its powerful frescoes painted by political exiles in the 1960s. From there\, we head to the picture-perfect Agios Isidoros\, a tiny chapel on a rocky islet. \nNext is the Castle of the Virgin Mary above Panteli\, offering panoramic views and stories from Leros’s Byzantine past. We then stop at the Deposito di Guerra\, a small but rich collection of war and folklore items (€2 entry). \nA short visit to Asyrmatos\, a former WWII communications building\, gives insight into the island’s military history. Finally\, we end at the War Tunnel Museum\, located in original WWII tunnels (€2 entry)\, for a moving look at the Battle of Leros. \nIt’s a relaxed\, easy tour—perfect for families or anyone who wants to explore Leros by car with guided context. \nHow to Secure Your Spot in This Workshop?\nChoose the option that works best for you: \n\nRegister online here\nSend us a message on WhatsApp\nVisit us at The Leros Way Hub
URL:https://the-leros-way.com/event/leros-by-car-leros-highlights-tour/
CATEGORIES:The Leros Hub,Workshop
ATTACH;FMTTYPE=image/webp:https://the-leros-way.com/wp-content/uploads/2025/05/Workshops-AnyRoad-3.webp
ORGANIZER;CN="The Leros Way":MAILTO:info@the-leros-way.com
END:VEVENT
BEGIN:VEVENT
DTSTART;TZID=UTC:20250605T180000
DTEND;TZID=UTC:20250605T200000
DTSTAMP:20260420T205005
CREATED:20250512T063109Z
LAST-MODIFIED:20251003T085718Z
UID:47249-1749146400-1749153600@the-leros-way.com
SUMMARY:Wine Tasting - Walk Through the Vines
DESCRIPTION:An introduction to the wines and vineyards of Leros \nIf you want to discover how great wine begins — from the soil\, the sun\, and the sea — this is the perfect experience for you. \nJoin our winemaker for a walk through the vineyard\, where you’ll learn about the local grape varieties\, the traditions of Aegean winemaking\, and how the island’s unique climate shapes each bottle. \nAfter the tour\, we’ll sit down to taste five of our wines\, accompanied by a generous platter of cheeses\, cold cuts\, olives\, and traditional Greek tapas — served family-style. \nThis tasting is ideal for those curious about wine and the story behind it. \nHighlights: \n\nA 45-minute guided vineyard tour\nTasting of 5 wines (40 ml each)\nLight Greek food platters to share\n\nLed by the winemaker in English or Greek \nPrice: €42 per person. Discounts available for groups of more than 4 — just give us a call to schedule and ask about group rates! \nHow to Secure Your Spot in This Workshop?\nChoose the option that works best for you: \nRegister online here \nSend us a message on WhatsApp \nVisit us at The Leros Way Hub \n  \nThis workshop is organized and delivered by ‘Isichi Ampelones’ winery. For any questions or further information\, please contact them directly at (+30) 697 3956 270 or email: efdrossou@hotmail.com
URL:https://the-leros-way.com/event/wine-tasting-walk-through-the-vines/
LOCATION:‘Isichi Ampelones’ winery\, 5RMF+6M Partheni\, Leros\, 85400\, Greece
CATEGORIES:Workshop
ATTACH;FMTTYPE=image/webp:https://the-leros-way.com/wp-content/uploads/2025/05/Winery1.webp
ORGANIZER;CN="%E2%80%98Isichi Ampelones%E2%80%99 winery":MAILTO:efdrossou@hotmail.com
END:VEVENT
BEGIN:VEVENT
DTSTART;TZID=UTC:20250605T180000
DTEND;TZID=UTC:20250605T200000
DTSTAMP:20260420T205005
CREATED:20250512T063109Z
LAST-MODIFIED:20251003T085718Z
UID:47249-1749146400-1749153600@the-leros-way.com
SUMMARY:Wine Tasting - Walk Through the Vines
DESCRIPTION:An introduction to the wines and vineyards of Leros \nIf you want to discover how great wine begins — from the soil\, the sun\, and the sea — this is the perfect experience for you. \nJoin our winemaker for a walk through the vineyard\, where you’ll learn about the local grape varieties\, the traditions of Aegean winemaking\, and how the island’s unique climate shapes each bottle. \nAfter the tour\, we’ll sit down to taste five of our wines\, accompanied by a generous platter of cheeses\, cold cuts\, olives\, and traditional Greek tapas — served family-style. \nThis tasting is ideal for those curious about wine and the story behind it. \nHighlights: \n\nA 45-minute guided vineyard tour\nTasting of 5 wines (40 ml each)\nLight Greek food platters to share\n\nLed by the winemaker in English or Greek \nPrice: €42 per person. Discounts available for groups of more than 4 — just give us a call to schedule and ask about group rates! \nHow to Secure Your Spot in This Workshop?\nChoose the option that works best for you: \nRegister online here \nSend us a message on WhatsApp \nVisit us at The Leros Way Hub \n  \nThis workshop is organized and delivered by ‘Isichi Ampelones’ winery. For any questions or further information\, please contact them directly at (+30) 697 3956 270 or email: efdrossou@hotmail.com
URL:https://the-leros-way.com/event/wine-tasting-walk-through-the-vines/
LOCATION:‘Isichi Ampelones’ winery\, 5RMF+6M Partheni\, Leros\, 85400\, Greece
CATEGORIES:Workshop
ATTACH;FMTTYPE=image/webp:https://the-leros-way.com/wp-content/uploads/2025/05/Winery1.webp
ORGANIZER;CN="%E2%80%98Isichi Ampelones%E2%80%99 winery":MAILTO:efdrossou@hotmail.com
END:VEVENT
BEGIN:VEVENT
DTSTART;TZID=UTC:20250608T190000
DTEND;TZID=UTC:20250608T210000
DTSTAMP:20260420T205005
CREATED:20250513T092605Z
LAST-MODIFIED:20251024T113041Z
UID:47320-1749409200-1749416400@the-leros-way.com
SUMMARY:Sunset Over Patela
DESCRIPTION:A Walk Through History and Stunning Views\nStarting Point: Agios Efstratios Chapel. See on the map. \nDuration: 2 hours \nLevel: Moderate uphill walk \nPrice: €25 per person. Discounts available for groups of more than 4 or when booking multiple tours — contact us to schedule and ask about group rates or tour packages! \nYou may have passed by the hills of Patela without knowing what lies just above—but this walk reveals a different side of Leros: quiet\, raw\, and full of history. Located between Lakki and Agia Marina\, Patela is a ridge that once played a key role in the island’s military defense. If you’re curious about this hidden chapter of Leros\, this is a great way to explore it—with a camera in one hand and a breeze from the Aegean in the air. \nWe begin at the small chapel of Agios Efstratios and walk uphill toward Aerofono. As the road climbs\, so does the sense of stepping into another time—one marked by bunkers\, tunnels\, and silent outposts. \nAt the top\, we explore the old air defense center\, including machine-gun nests\, concrete tunnels\, and a military monument that still stands watch over the island. You’ll also see where radar stations and command centers once operated—now quiet\, but still powerful in presence. \nA short walk brings us to the abandoned barracks nearby\, before we continue to the highest point of Aerofono. This is the moment to pause—here\, the 360° view opens up in every direction. The sea\, the islets\, the horizon. It’s a perfect place for photos—or just to take it all in. \nWe return at an easy pace\, with time to stop for more photos or a short rest along the way. \nThis is a themed\, historical walk with moderate effort—best enjoyed slowly and with curiosity. Wear comfortable shoes\, especially if you’d like to step into the tunnels or explore the ruins. For the best light and views\, aim for late afternoon into sunset. Spaces are limited\, so booking ahead is a good idea—we’d love to have you along. \nHow to Secure Your Spot in This Workshop? \nChoose the option that works best for you: \n\nRegister online here\nSend us a message on WhatsApp\nVisit us at The Leros Way Hub
URL:https://the-leros-way.com/event/sunset-over-patela/
ATTACH;FMTTYPE=image/webp:https://the-leros-way.com/wp-content/uploads/2025/05/Workshops-AnyRoad-2.webp
END:VEVENT
BEGIN:VEVENT
DTSTART;TZID=UTC:20250605T180000
DTEND;TZID=UTC:20250605T200000
DTSTAMP:20260420T205005
CREATED:20250512T063109Z
LAST-MODIFIED:20251003T085718Z
UID:47249-1749146400-1749153600@the-leros-way.com
SUMMARY:Wine Tasting - Walk Through the Vines
DESCRIPTION:An introduction to the wines and vineyards of Leros \nIf you want to discover how great wine begins — from the soil\, the sun\, and the sea — this is the perfect experience for you. \nJoin our winemaker for a walk through the vineyard\, where you’ll learn about the local grape varieties\, the traditions of Aegean winemaking\, and how the island’s unique climate shapes each bottle. \nAfter the tour\, we’ll sit down to taste five of our wines\, accompanied by a generous platter of cheeses\, cold cuts\, olives\, and traditional Greek tapas — served family-style. \nThis tasting is ideal for those curious about wine and the story behind it. \nHighlights: \n\nA 45-minute guided vineyard tour\nTasting of 5 wines (40 ml each)\nLight Greek food platters to share\n\nLed by the winemaker in English or Greek \nPrice: €42 per person. Discounts available for groups of more than 4 — just give us a call to schedule and ask about group rates! \nHow to Secure Your Spot in This Workshop?\nChoose the option that works best for you: \nRegister online here \nSend us a message on WhatsApp \nVisit us at The Leros Way Hub \n  \nThis workshop is organized and delivered by ‘Isichi Ampelones’ winery. For any questions or further information\, please contact them directly at (+30) 697 3956 270 or email: efdrossou@hotmail.com
URL:https://the-leros-way.com/event/wine-tasting-walk-through-the-vines/
LOCATION:‘Isichi Ampelones’ winery\, 5RMF+6M Partheni\, Leros\, 85400\, Greece
CATEGORIES:Workshop
ATTACH;FMTTYPE=image/webp:https://the-leros-way.com/wp-content/uploads/2025/05/Winery1.webp
ORGANIZER;CN="%E2%80%98Isichi Ampelones%E2%80%99 winery":MAILTO:efdrossou@hotmail.com
END:VEVENT
BEGIN:VEVENT
DTSTART;TZID=UTC:20250605T180000
DTEND;TZID=UTC:20250605T200000
DTSTAMP:20260420T205005
CREATED:20250512T063109Z
LAST-MODIFIED:20251003T085718Z
UID:47249-1749146400-1749153600@the-leros-way.com
SUMMARY:Wine Tasting - Walk Through the Vines
DESCRIPTION:An introduction to the wines and vineyards of Leros \nIf you want to discover how great wine begins — from the soil\, the sun\, and the sea — this is the perfect experience for you. \nJoin our winemaker for a walk through the vineyard\, where you’ll learn about the local grape varieties\, the traditions of Aegean winemaking\, and how the island’s unique climate shapes each bottle. \nAfter the tour\, we’ll sit down to taste five of our wines\, accompanied by a generous platter of cheeses\, cold cuts\, olives\, and traditional Greek tapas — served family-style. \nThis tasting is ideal for those curious about wine and the story behind it. \nHighlights: \n\nA 45-minute guided vineyard tour\nTasting of 5 wines (40 ml each)\nLight Greek food platters to share\n\nLed by the winemaker in English or Greek \nPrice: €42 per person. Discounts available for groups of more than 4 — just give us a call to schedule and ask about group rates! \nHow to Secure Your Spot in This Workshop?\nChoose the option that works best for you: \nRegister online here \nSend us a message on WhatsApp \nVisit us at The Leros Way Hub \n  \nThis workshop is organized and delivered by ‘Isichi Ampelones’ winery. For any questions or further information\, please contact them directly at (+30) 697 3956 270 or email: efdrossou@hotmail.com
URL:https://the-leros-way.com/event/wine-tasting-walk-through-the-vines/
LOCATION:‘Isichi Ampelones’ winery\, 5RMF+6M Partheni\, Leros\, 85400\, Greece
CATEGORIES:Workshop
ATTACH;FMTTYPE=image/webp:https://the-leros-way.com/wp-content/uploads/2025/05/Winery1.webp
ORGANIZER;CN="%E2%80%98Isichi Ampelones%E2%80%99 winery":MAILTO:efdrossou@hotmail.com
END:VEVENT
BEGIN:VEVENT
DTSTART;TZID=UTC:20250614T180000
DTEND;TZID=UTC:20250614T210000
DTSTAMP:20260420T205005
CREATED:20250512T064015Z
LAST-MODIFIED:20251003T085851Z
UID:47267-1749924000-1749934800@the-leros-way.com
SUMMARY:Winery ‘Isichi Ampelones’ - An Evening at the Winery
DESCRIPTION:For those who want to slow down and enjoy wine\, food\, and the vineyard at sunset \nIf you’re looking for a longer\, deeper experience\, join us for a magical evening at Isichi Ampelones. \nWe’ll start with a walk among the vines as the sun begins to set. After tasting five of our wines\, you’ll sit down to a full winemaker’s dinner — “Le menu de vigneron” — featuring a changing menu of homemade Greek dishes\, all prepared with seasonal ingredients from Leros. \nThis is not just a tasting — it’s a full Greek evening of wine\, food\, and connection. \nWhat’s included: \n\nA 45-minute sunset vineyard walk\nTasting of 5 wines (40 ml each)\nFull traditional dinner with local recipes\nPlatters of local cheeses\, meats\, and vegetables\n\nHosted by the winemakers in English or Greek \nPrice: €65 per person. Discounts available for groups of more than 4 — just give us a call to schedule and ask about group rates! \nHow to Secure Your Spot in This Workshop?\nChoose the option that works best for you: \nRegister online here \nSend us a message on WhatsApp \nVisit us at The Leros Way Hub
URL:https://the-leros-way.com/event/winery-isichi-ampelones-an-evening-at-the-winery/
CATEGORIES:Workshop
ATTACH;FMTTYPE=image/webp:https://the-leros-way.com/wp-content/uploads/2025/05/Winery2.webp
END:VEVENT
BEGIN:VEVENT
DTSTART;TZID=UTC:20250615T090000
DTEND;TZID=UTC:20250615T120000
DTSTAMP:20260420T205005
CREATED:20250513T093426Z
LAST-MODIFIED:20251024T113219Z
UID:47324-1749978000-1749988800@the-leros-way.com
SUMMARY:Leros by Car: Leros Highlights Tour
DESCRIPTION:Meeting Point: The Leros Way Hub. Get directions here \nDuration: 2–3 hours \nStyle: Self-drive tour (you follow with your own car) \nLevel: Easy\, relaxed pace \nPrice: €25 per person. Discounts available for groups of more than 4 or when booking multiple tours — contact us to schedule and ask about group rates or tour packages! \nExplore some of Leros’s most meaningful and scenic spots with your own car\, guided along the way by a local expert. This tour offers a great mix of history\, culture\, and stunning views—without much walking. \nWe begin at Agia Kioura Chapel\, known for its powerful frescoes painted by political exiles in the 1960s. From there\, we head to the picture-perfect Agios Isidoros\, a tiny chapel on a rocky islet. \nNext is the Castle of the Virgin Mary above Panteli\, offering panoramic views and stories from Leros’s Byzantine past. We then stop at the Deposito di Guerra\, a small but rich collection of war and folklore items (€2 entry). \nA short visit to Asyrmatos\, a former WWII communications building\, gives insight into the island’s military history. Finally\, we end at the War Tunnel Museum\, located in original WWII tunnels (€2 entry)\, for a moving look at the Battle of Leros. \nIt’s a relaxed\, easy tour—perfect for families or anyone who wants to explore Leros by car with guided context. \nHow to Secure Your Spot in This Workshop?\nChoose the option that works best for you: \n\nRegister online here\nSend us a message on WhatsApp\nVisit us at The Leros Way Hub
URL:https://the-leros-way.com/event/leros-by-car-leros-highlights-tour/
CATEGORIES:The Leros Hub,Workshop
ATTACH;FMTTYPE=image/webp:https://the-leros-way.com/wp-content/uploads/2025/05/Workshops-AnyRoad-3.webp
ORGANIZER;CN="The Leros Way":MAILTO:info@the-leros-way.com
END:VEVENT
END:VCALENDAR