BEGIN:VCALENDAR
VERSION:2.0
PRODID:-//The Leros Way - ECPv6.15.20//NONSGML v1.0//EN
CALSCALE:GREGORIAN
METHOD:PUBLISH
X-ORIGINAL-URL:https://the-leros-way.com
X-WR-CALDESC:Events for The Leros Way
REFRESH-INTERVAL;VALUE=DURATION:PT1H
X-Robots-Tag:noindex
X-PUBLISHED-TTL:PT1H
BEGIN:VTIMEZONE
TZID:UTC
BEGIN:STANDARD
TZOFFSETFROM:+0000
TZOFFSETTO:+0000
TZNAME:UTC
DTSTART:20240101T000000
END:STANDARD
END:VTIMEZONE
BEGIN:VEVENT
DTSTART;VALUE=DATE:20251231
DTEND;VALUE=DATE:20260102
DTSTAMP:20260425T215420
CREATED:20251216T113216Z
LAST-MODIFIED:20251216T113336Z
UID:51605-1767139200-1767311999@the-leros-way.com
SUMMARY:Festive Dinners at Persiana
DESCRIPTION:Festive Season at PERSIANA \nCelebrate the most magical time of the year with PERSIANA.Join for elegant festive dinners on Christmas Eve\, Christmas Day\, New Year’s Eve\, and New Year’s Day\, featuring a specially curated menu created for the occasion. \nRefined flavors\, a warm festive atmosphere\, and thoughtfully selected beverages. \nAvailability is limited. Please make sure to secure your reservation as early as possible. \nRESERVATIONS \n+30 2247026466\n+30 6972034606
URL:https://the-leros-way.com/event/festive-dinners-at-persiana-2/
LOCATION:PERSIANA Burger House\, https://maps.app.goo.gl/Qh2hsHUfTcdwtXYM7\, LEROS\, 85400\, Greece
CATEGORIES:Special Event
ATTACH;FMTTYPE=image/webp:https://the-leros-way.com/wp-content/uploads/2025/12/image.webp
END:VEVENT
BEGIN:VEVENT
DTSTART;TZID=UTC:20260108T170000
DTEND;TZID=UTC:20260114T183000
DTSTAMP:20260425T215420
CREATED:20260113T141136Z
LAST-MODIFIED:20260113T141139Z
UID:51773-1767891600-1768415400@the-leros-way.com
SUMMARY:Movie of the week: SPONGEBOB (greek dub)
DESCRIPTION:From Thursday 8/1 to Wednesday 14/1 \nDaily\, starting at 17:15 (dubbed)
URL:https://the-leros-way.com/event/movie-of-the-week-spongebob-greek-dub/
LOCATION:Leros Cinema\, Municipal Cinema Leros\, Leros\, 85400\, Greece
CATEGORIES:Leros Cinema,Movie
ATTACH;FMTTYPE=image/webp:https://the-leros-way.com/wp-content/uploads/2026/01/612495534_1635640461172329_214585566204184504_n.webp
ORGANIZER;CN="Cine Leros":MAILTO:leros-cinema@leros.gr
END:VEVENT
BEGIN:VEVENT
DTSTART;TZID=UTC:20260108T190000
DTEND;TZID=UTC:20260114T210000
DTSTAMP:20260425T215420
CREATED:20260113T140724Z
LAST-MODIFIED:20260113T140726Z
UID:51766-1767898800-1768424400@the-leros-way.com
SUMMARY:Movie of the week: KAPODISTRIAS (greek movie)
DESCRIPTION:From Thursday 8/1 to Wednesday 14/1 \nDaily\, starting at 19:00
URL:https://the-leros-way.com/event/movie-of-the-week-kapodistrias-greek-movie/
LOCATION:Leros Cinema\, Municipal Cinema Leros\, Leros\, 85400\, Greece
CATEGORIES:Leros Cinema,Movie
ATTACH;FMTTYPE=image/webp:https://the-leros-way.com/wp-content/uploads/2026/01/613542737_1635640391172336_3705025332750546466_n.webp
ORGANIZER;CN="Cine Leros":MAILTO:leros-cinema@leros.gr
END:VEVENT
BEGIN:VEVENT
DTSTART;TZID=UTC:20260108T210000
DTEND;TZID=UTC:20260114T233000
DTSTAMP:20260425T215420
CREATED:20260113T140225Z
LAST-MODIFIED:20260113T140228Z
UID:51761-1767906000-1768433400@the-leros-way.com
SUMMARY:Movie of the week: ANACONDA
DESCRIPTION:Thursday 8/1 to Wednesday 14/1: \nDaily\, starting at 21:15
URL:https://the-leros-way.com/event/movie-of-the-week-anaconda/
LOCATION:Leros Cinema\, Municipal Cinema Leros\, Leros\, 85400\, Greece
CATEGORIES:Leros Cinema,Movie
ATTACH;FMTTYPE=image/webp:https://the-leros-way.com/wp-content/uploads/2026/01/613427235_1635640324505676_8660127327716543512_n.webp
ORGANIZER;CN="Cine Leros":MAILTO:leros-cinema@leros.gr
END:VEVENT
BEGIN:VEVENT
DTSTART;TZID=UTC:20260117T170000
DTEND;TZID=UTC:20260119T210000
DTSTAMP:20260425T215420
CREATED:20260113T083311Z
LAST-MODIFIED:20260115T083921Z
UID:51738-1768669200-1768856400@the-leros-way.com
SUMMARY:Theater seminar: Εmotional Dialectics
DESCRIPTION:The Leros Theatre Group is organizing an experiential seminar titled “Emotional Dialectics”\, led by Stelios Kalathas.A pioneering\, theatre-based method that focuses on emotion\, authentic communication\, and free self-expression through speech\, music\, movement\, and theatrical play. \nThe seminar is open to everyone\, regardless of age or prior theatre experience\, who wish to activate their personal creative material and discover new expressive outlets in everyday life.The Emotional Dialectics method has been taught since 2005 and was awarded by UNESCO in 2012. \nSaturday 17/01/2026: 17:00-21:00\nSunday 18/01/2026: 10:30-13:30 &  17:30 – 20:30\nMonday 19/01/2026: 17:00-21:00 \nInformation & registrations: +30 6944383920
URL:https://the-leros-way.com/event/%ce%b5xperiential-seminar-%ce%b5motional-dialectics/
LOCATION:Theather at Agia Marina\, Leros\, 85400\, Greece
CATEGORIES:Art,Leros Theater Group,Seminars
ATTACH;FMTTYPE=image/webp:https://the-leros-way.com/wp-content/uploads/2026/01/ΑΦΙΣΑ.webp
END:VEVENT
BEGIN:VEVENT
DTSTART;TZID=UTC:20260122T080000
DTEND;TZID=UTC:20260128T170000
DTSTAMP:20260425T215420
CREATED:20260122T073814Z
LAST-MODIFIED:20260122T075614Z
UID:51950-1769068800-1769619600@the-leros-way.com
SUMMARY:Movie of the week: MERCY
DESCRIPTION:FROM THURSDAY 22/1 TO WEDNESDAY 28/1 \nDaily\, 21:15 \nTrailer here. \n 
URL:https://the-leros-way.com/event/movie-of-the-week-mercy/
LOCATION:Leros Cinema\, Municipal Cinema Leros\, Leros\, 85400\, Greece
CATEGORIES:Leros Cinema,Movie
ATTACH;FMTTYPE=image/webp:https://the-leros-way.com/wp-content/uploads/2026/01/618858983_1646786270057748_3125539250192034136_n.webp
ORGANIZER;CN="Cine Leros":MAILTO:leros-cinema@leros.gr
END:VEVENT
BEGIN:VEVENT
DTSTART;TZID=UTC:20260122T193000
DTEND;TZID=UTC:20260128T213000
DTSTAMP:20260425T215420
CREATED:20260122T074206Z
LAST-MODIFIED:20260122T080054Z
UID:51956-1769110200-1769635800@the-leros-way.com
SUMMARY:Movie of the week: MY PEOPLE
DESCRIPTION:FROM THURSDAY 22/1 TO WEDNESDAY 28/1 \nDaily\, 19:30 \nTrailer here.
URL:https://the-leros-way.com/event/movie-of-the-week-my-people/
LOCATION:Leros Cinema\, Municipal Cinema Leros\, Leros\, 85400\, Greece
CATEGORIES:Leros Cinema,Movie
ATTACH;FMTTYPE=image/webp:https://the-leros-way.com/wp-content/uploads/2026/01/618246320_1646786330057742_4427337109467880136_n.webp
ORGANIZER;CN="Cine Leros":MAILTO:leros-cinema@leros.gr
END:VEVENT
BEGIN:VEVENT
DTSTART;VALUE=DATE:20260124
DTEND;VALUE=DATE:20260126
DTSTAMP:20260425T215420
CREATED:20260123T074345Z
LAST-MODIFIED:20260123T074347Z
UID:51981-1769212800-1769385599@the-leros-way.com
SUMMARY:Panionios' Basketball Games
DESCRIPTION:A Full Weekend at the Merikas Indoor Gym for Our Team\, with Friendly Matches and Championship Games! \nSaturday – vs E.A. Kalymnou \n\n10:00-11:00 – U11\n11:00-12:00 – U13\n13:00 – Boys (U15)\n15:00-16:00 – Girls (Friendly)\n16:00-17:00 – Mini Boys (Friendly)\n\nSunday – vs Xanthos Patmos \n\n15:00-16:00 – Junior Boys (U18)\n\nLet’s support our team!
URL:https://the-leros-way.com/event/panionios-basketball-games/
LOCATION:Basketball Court\, Δημοτικό Κλειστό Γυμναστήριο Μερικιάς\, Leros\, 85400\, Greece
CATEGORIES:Sport
ATTACH;FMTTYPE=image/webp:https://the-leros-way.com/wp-content/uploads/2026/01/619107510_1400481865199834_5322139606868347841_n.webp
END:VEVENT
BEGIN:VEVENT
DTSTART;VALUE=DATE:20260129
DTEND;VALUE=DATE:20260205
DTSTAMP:20260425T215420
CREATED:20260129T073258Z
LAST-MODIFIED:20260129T073353Z
UID:52047-1769644800-1770249599@the-leros-way.com
SUMMARY:Movie of the week: SAINT PAISIOS (greek)
DESCRIPTION:From Thursday 29/1 to Wednesday 4/2 (except Sunday)Daily\, 19:00 & 21:15
URL:https://the-leros-way.com/event/movie-of-the-week-saint-paisios-greek/
LOCATION:Leros Cinema\, Municipal Cinema Leros\, Leros\, 85400\, Greece
CATEGORIES:Leros Cinema,Movie
ATTACH;FMTTYPE=image/jpeg:https://the-leros-way.com/wp-content/uploads/2026/01/623402332_1653147636088278_5532723088097725967_n.jpg
ORGANIZER;CN="Cine Leros":MAILTO:leros-cinema@leros.gr
END:VEVENT
BEGIN:VEVENT
DTSTART;VALUE=DATE:20260129
DTEND;VALUE=DATE:20260205
DTSTAMP:20260425T215420
CREATED:20260129T073808Z
LAST-MODIFIED:20260129T073811Z
UID:52056-1769644800-1770249599@the-leros-way.com
SUMMARY:Movie of the week: NORTH (greek dub)
DESCRIPTION:From Thursday 29/1 to Wednesday 4/2 (except Sunday) \nDaily\, 17:30
URL:https://the-leros-way.com/event/movie-of-the-week-north-greek-dub/
LOCATION:Leros Cinema\, Municipal Cinema Leros\, Leros\, 85400\, Greece
CATEGORIES:Leros Cinema,Movie
ATTACH;FMTTYPE=image/webp:https://the-leros-way.com/wp-content/uploads/2026/01/624148133_1653147846088257_3060989161875738348_n.webp
ORGANIZER;CN="Cine Leros":MAILTO:leros-cinema@leros.gr
END:VEVENT
BEGIN:VEVENT
DTSTART;TZID=UTC:20260131T210000
DTEND;TZID=UTC:20260131T233000
DTSTAMP:20260425T215420
CREATED:20260129T142951Z
LAST-MODIFIED:20260129T142955Z
UID:52066-1769893200-1769902200@the-leros-way.com
SUMMARY:Artemis yearly traditional Ball
DESCRIPTION:An evening of dance and music\, filled with sounds\, memories\, and culture.Leros and the Aegean meet the coasts of Asia Minor and the Rebetiko of Piraeus\, in a night where music becomes a bridge of tradition and soul. \nGuests on the island \n\nMaria Ploumi – Lute\nGiorgos Chatzigeorgiou – Violin\n\nWelcomed and accompanied by• Kyriakos Fylakouris – Guitar• Tassos Kypriotis – Bouzouki• Giannis Koumoundouros – Violin• Grigoris Paraponiaris – Lute• Antonis Dallaris – Lyra \nA musical gathering that unites places\, eras\, and people\, highlighting the richness of our folk and island traditions. \nEntrance fee: 15€ with food \nReservations: +30 6942676521 \nPre-sales: +30 6979684986
URL:https://the-leros-way.com/event/artemis-yearly-traditional-ball/
LOCATION:Leon Limani\, Lakki\, 4RHX+4G Lakki\, Leros\, 85400\, Greece
CATEGORIES:Artemis Centre for Culture,Dancing,Music,Traditional
ATTACH;FMTTYPE=image/jpeg:https://the-leros-way.com/wp-content/uploads/2026/01/615451568_10240318341566376_8626976289519429390_n.jpg
ORGANIZER;CN="Artemis":MAILTO:artemis@leros.com
END:VEVENT
END:VCALENDAR