BEGIN:VCALENDAR
VERSION:2.0
PRODID:-//The Leros Way - ECPv6.15.13.1//NONSGML v1.0//EN
CALSCALE:GREGORIAN
METHOD:PUBLISH
X-WR-CALNAME:The Leros Way
X-ORIGINAL-URL:https://the-leros-way.com
X-WR-CALDESC:Events for The Leros Way
REFRESH-INTERVAL;VALUE=DURATION:PT1H
X-Robots-Tag:noindex
X-PUBLISHED-TTL:PT1H
BEGIN:VTIMEZONE
TZID:UTC
BEGIN:STANDARD
TZOFFSETFROM:+0000
TZOFFSETTO:+0000
TZNAME:UTC
DTSTART:20230101T000000
END:STANDARD
END:VTIMEZONE
BEGIN:VEVENT
DTSTART;TZID=UTC:20240516T190000
DTEND;TZID=UTC:20240522T211500
DTSTAMP:20260422T111146
CREATED:20240516T111246Z
LAST-MODIFIED:20240517T054510Z
UID:34830-1715886000-1716412500@the-leros-way.com
SUMMARY:The Movie of the Week: Kingdom of the planet of the Apes
DESCRIPTION:Τhursday-Sunday-Tuesday    Time: 19:oo \nΤhursday-Saturday-Monday-Wednesday  Time: 21:30 \n 
URL:https://the-leros-way.com/event/the-movie-of-the-week-kingdom-of-the-planet-of-the-apes/
LOCATION:Leros Cinema\, Municipal Cinema Leros\, Leros\, 85400\, Greece
CATEGORIES:Leros Cinema,Movie
ORGANIZER;CN="Cine Leros":MAILTO:leros-cinema@leros.gr
END:VEVENT
BEGIN:VEVENT
DTSTART;TZID=UTC:20240509T190000
DTEND;TZID=UTC:20240515T213000
DTSTAMP:20260422T111146
CREATED:20240508T065513Z
LAST-MODIFIED:20240508T065516Z
UID:34630-1715281200-1715808600@the-leros-way.com
SUMMARY:Τhe Movie of the Week : "Civil War"
DESCRIPTION:Thursday-Saturday-Monday-Wednesday  time-19:00 \nFriday-Sunday-Tuesday time-21:15  
URL:https://the-leros-way.com/event/%cf%84he-movie-of-the-week-civil-war/
LOCATION:Leros Cinema\, Municipal Cinema Leros\, Leros\, 85400\, Greece
CATEGORIES:Leros Cinema
ORGANIZER;CN="Cine Leros":MAILTO:leros-cinema@leros.gr
END:VEVENT
BEGIN:VEVENT
DTSTART;TZID=UTC:20240509T190000
DTEND;TZID=UTC:20240515T213000
DTSTAMP:20260422T111146
CREATED:20240508T064217Z
LAST-MODIFIED:20240508T064220Z
UID:34611-1715281200-1715808600@the-leros-way.com
SUMMARY:Τhe Movie of the Week: Τhe Opponents
DESCRIPTION:Thursday-Saturday-Monday-Wednesday  time 21:15 \nFriday-Sunday-Tuesday  time 19:00
URL:https://the-leros-way.com/event/%cf%84he-movie-of-the-week-%cf%84he-opponents/
LOCATION:Leros Cinema\, Municipal Cinema Leros\, Leros\, 85400\, Greece
CATEGORIES:Leros Cinema
ORGANIZER;CN="Cine Leros":MAILTO:leros-cinema@leros.gr
END:VEVENT
BEGIN:VEVENT
DTSTART;TZID=UTC:20240509T080000
DTEND;TZID=UTC:20240509T170000
DTSTAMP:20260422T111146
CREATED:20240508T070240Z
LAST-MODIFIED:20240508T070244Z
UID:34636-1715241600-1715274000@the-leros-way.com
SUMMARY:The Movie of the Week : Garfield
DESCRIPTION:Every day translated in Greek language  time- 17:30
URL:https://the-leros-way.com/event/the-movie-of-the-week-garfield/
LOCATION:Leros Cinema\, Municipal Cinema Leros\, Leros\, 85400\, Greece
CATEGORIES:Leros Cinema
ORGANIZER;CN="Cine Leros":MAILTO:leros-cinema@leros.gr
END:VEVENT
BEGIN:VEVENT
DTSTART;TZID=UTC:20240508T203000
DTEND;TZID=UTC:20240508T223000
DTSTAMP:20260422T111146
CREATED:20240503T045546Z
LAST-MODIFIED:20240503T045548Z
UID:34534-1715200200-1715207400@the-leros-way.com
SUMMARY:Lecture in Artemis Association
DESCRIPTION:“Nature-Life-the role of the woman \nBy Professor Vaggelis Xrisos \nWendsday 08/05/24 time 20:30 \nArtemis Association Platanos
URL:https://the-leros-way.com/event/lecture-in-artemis-association/
LOCATION:Artemis Courtyard\, Ειρηνοδικείο Λέρου\, Leros\, 85400\, Greece
CATEGORIES:Artemis Courtyard
ATTACH;FMTTYPE=image/jpeg:https://the-leros-way.com/wp-content/uploads/2024/05/viber_image_2024-05-03_07-35-31-186.jpg
ORGANIZER;CN="Artemis":MAILTO:artemis@leros.com
END:VEVENT
BEGIN:VEVENT
DTSTART;TZID=UTC:20240508T080000
DTEND;TZID=UTC:20240508T170000
DTSTAMP:20260422T111146
CREATED:20240508T071220Z
LAST-MODIFIED:20240508T071224Z
UID:34641-1715155200-1715187600@the-leros-way.com
SUMMARY:Live Music " Women without Frontiers"
DESCRIPTION:Charity Event-Live Traditional Music in Leon Limani (Central Port Lakki) \n12/05/2024  time : 13:00  Price Entrance (included food) 14€ \n 
URL:https://the-leros-way.com/event/live-music-women-without-frontiers/
LOCATION:Lakki Port\, Port of Leros\, Leros\, 85400\, Greece
CATEGORIES:Dancing,Music,Special Event
END:VEVENT
BEGIN:VEVENT
DTSTART;TZID=UTC:20240502T213000
DTEND;TZID=UTC:20240508T230000
DTSTAMP:20260422T111146
CREATED:20240502T055037Z
LAST-MODIFIED:20240503T045104Z
UID:34506-1714685400-1715209200@the-leros-way.com
SUMMARY:The Movie of the Week: ΑBIGAIL
DESCRIPTION:Holy Thursday till Wednesday  21:30  (except Holy Friday)
URL:https://the-leros-way.com/event/the-movie-of-the-week-%ce%b1bigail/
CATEGORIES:Leros Cinema
END:VEVENT
BEGIN:VEVENT
DTSTART;TZID=UTC:20240502T180000
DTEND;TZID=UTC:20240508T193000
DTSTAMP:20260422T111146
CREATED:20240503T044700Z
LAST-MODIFIED:20240503T044703Z
UID:34524-1714672800-1715196600@the-leros-way.com
SUMMARY:The Movie of the Week: "The Noah's Ark"
DESCRIPTION:Εvery day 18:00 in Greek Language
URL:https://the-leros-way.com/event/the-movie-of-the-week-the-noahs-ark/
LOCATION:Leros Cinema\, Municipal Cinema Leros\, Leros\, 85400\, Greece
CATEGORIES:Movie
ORGANIZER;CN="Cine Leros":MAILTO:leros-cinema@leros.gr
END:VEVENT
BEGIN:VEVENT
DTSTART;TZID=UTC:20240430T173000
DTEND;TZID=UTC:20240430T193000
DTSTAMP:20260422T111146
CREATED:20240427T150538Z
LAST-MODIFIED:20240427T150541Z
UID:34381-1714498200-1714505400@the-leros-way.com
SUMMARY:Magic Show
DESCRIPTION:Magician Alexandros \nHoly Tuesday 30/04 \n17:30 Cinema Theater \n5€ Τicket price
URL:https://the-leros-way.com/event/magic-show/
LOCATION:Leros Cinema\, Municipal Cinema Leros\, Leros\, 85400\, Greece
CATEGORIES:Leros Cinema
ORGANIZER;CN="Leros Municipality":MAILTO:info@dopaisap.gr
END:VEVENT
BEGIN:VEVENT
DTSTART;VALUE=DATE:20240430
DTEND;VALUE=DATE:20240502
DTSTAMP:20260422T111146
CREATED:20240423T045841Z
LAST-MODIFIED:20240423T045847Z
UID:34219-1714435200-1714607999@the-leros-way.com
SUMMARY:Charity  Easter Bazaar
DESCRIPTION:Fund raising for the families and  patients of the island who need our support . \n30/04 and 01/05/24  Elementary School in Lakki \n9:00 am till 21:00 pm
URL:https://the-leros-way.com/event/charity-easter-bazaar/
LOCATION:Lakki elementary school courtyard\, Δημοτικό Σχολείο Λακκίου\, Leros\, 85400\, Greece
CATEGORIES:Charity Event
ORGANIZER;CN="The Leros Way":MAILTO:info@the-leros-way.com
END:VEVENT
BEGIN:VEVENT
DTSTART;TZID=UTC:20240428T110000
DTEND;TZID=UTC:20240428T143000
DTSTAMP:20260422T111146
CREATED:20240403T062001Z
LAST-MODIFIED:20240403T203258Z
UID:33511-1714302000-1714314600@the-leros-way.com
SUMMARY:Cleaning the beaches of our island  (Blefouti)
DESCRIPTION:Sunday morning 28/04  11:00 beach Blefouti \nIn cooperation with Motorcycle association and Rescue Team Association
URL:https://the-leros-way.com/event/we-clean-the-beaches-of-our-island-blefouti/
LOCATION:Blefouti Beach\, Blefoutis Beach\, Leros\, 85400
CATEGORIES:Special Event
ORGANIZER;CN="The Leros Way":MAILTO:info@the-leros-way.com
END:VEVENT
BEGIN:VEVENT
DTSTART;TZID=UTC:20240426T163000
DTEND;TZID=UTC:20240427T210000
DTSTAMP:20260422T111146
CREATED:20240423T051541Z
LAST-MODIFIED:20240423T061149Z
UID:34224-1714149000-1714251600@the-leros-way.com
SUMMARY:BASKETBALL FINAL FOUR IN LEROS
DESCRIPTION:4 Teams from Rhodes\, Kos\, Kalymnos\, compete for the 1st place in Dodecanese Championship \nFriday and Saturday 26/27-04-2024 \n 
URL:https://the-leros-way.com/event/basketball-final-four-in-leros/
LOCATION:Basketball Court\, Δημοτικό Κλειστό Γυμναστήριο Μερικιάς\, Leros\, 85400\, Greece
CATEGORIES:Sport
END:VEVENT
BEGIN:VEVENT
DTSTART;TZID=UTC:20240425T213000
DTEND;TZID=UTC:20240503T233000
DTSTAMP:20260422T111146
CREATED:20240425T153558Z
LAST-MODIFIED:20240502T055507Z
UID:34254-1714080600-1714779000@the-leros-way.com
SUMMARY:Movie of the Week : "Don't open the door"
DESCRIPTION:Every day from  Η. Thursday 02/05  till  Wednesday  08/05 \nEvery day 20:00 (except H. Friday)
URL:https://the-leros-way.com/event/movie-of-the-week-dont-open-the-door/
LOCATION:Leros Cinema\, Municipal Cinema Leros\, Leros\, 85400\, Greece
CATEGORIES:Leros Cinema
ORGANIZER;CN="Cine Leros":MAILTO:leros-cinema@leros.gr
END:VEVENT
BEGIN:VEVENT
DTSTART;TZID=UTC:20240425T190000
DTEND;TZID=UTC:20240501T210000
DTSTAMP:20260422T111146
CREATED:20240425T154517Z
LAST-MODIFIED:20240425T154520Z
UID:34260-1714071600-1714597200@the-leros-way.com
SUMMARY:Movie of the Week : "Τhe Gods Boy"
DESCRIPTION:Thursday-Saturday-Sunday- Holy Monday-Holy Wednesday 19:00
URL:https://the-leros-way.com/event/movie-of-the-week-%cf%84he-gods-boy/
LOCATION:Leros Cinema\, Municipal Cinema Leros\, Leros\, 85400\, Greece
CATEGORIES:Leros Cinema
ORGANIZER;CN="Cine Leros":MAILTO:leros-cinema@leros.gr
END:VEVENT
BEGIN:VEVENT
DTSTART;TZID=UTC:20240425T173000
DTEND;TZID=UTC:20240501T200000
DTSTAMP:20260422T111146
CREATED:20240425T155242Z
LAST-MODIFIED:20240425T155248Z
UID:34265-1714066200-1714593600@the-leros-way.com
SUMMARY:Τhe Movie of the Week: Τhe Ghost's Dances
DESCRIPTION:Every day 17:30 (except Friday and H. Tuesday ) translated in Greek
URL:https://the-leros-way.com/event/%cf%84he-movie-of-the-week-%cf%84he-ghosts-dances/
LOCATION:Leros Cinema\, Municipal Cinema Leros\, Leros\, 85400\, Greece
CATEGORIES:Leros Cinema
ORGANIZER;CN="Cine Leros":MAILTO:leros-cinema@leros.gr
END:VEVENT
BEGIN:VEVENT
DTSTART;TZID=UTC:20240421T103000
DTEND;TZID=UTC:20240421T140000
DTSTAMP:20260422T111146
CREATED:20240403T055854Z
LAST-MODIFIED:20240420T045045Z
UID:33504-1713695400-1713708000@the-leros-way.com
SUMMARY:Cleaning the beaches (Gourna beach )
DESCRIPTION:We clean the beaches in April \nSunday  morning 21/04  11:00 \nGourna Beach \nWith Tennis association Iones
URL:https://the-leros-way.com/event/cleaning-the-beaches-gourna-beach/
LOCATION:Gourna Beach\, Gourna Beach\, Leros\, 85400\, Greece
CATEGORIES:Special Event
ORGANIZER;CN="The Leros Way":MAILTO:info@the-leros-way.com
END:VEVENT
BEGIN:VEVENT
DTSTART;TZID=UTC:20240421T100000
DTEND;TZID=UTC:20240421T113000
DTSTAMP:20260422T111146
CREATED:20240420T071745Z
LAST-MODIFIED:20240420T071748Z
UID:34156-1713693600-1713699000@the-leros-way.com
SUMMARY:"We walk for Autism"
DESCRIPTION:Meeting point Cinema Theater in Lakki \n10:00
URL:https://the-leros-way.com/event/we-walk-for-autism/
LOCATION:LEROS\, Katafigio Agrias Zois Koulouki - Merikia - Fitorio\, Ag. Marina\, Greece\, 854 00\, Greece
CATEGORIES:Special Event
ORGANIZER;CN="Leros Municipality":MAILTO:info@dopaisap.gr
END:VEVENT
BEGIN:VEVENT
DTSTART;TZID=UTC:20240419T130000
DTEND;TZID=UTC:20240419T170000
DTSTAMP:20260422T111146
CREATED:20240416T132551Z
LAST-MODIFIED:20240416T132557Z
UID:34024-1713531600-1713546000@the-leros-way.com
SUMMARY:Friday lunch at Bakaliko for Fundraising (Animal Shelter)
DESCRIPTION:The Animal Shelter organize a Friday lunch at Bakaliko. \nGeneral entrance : 4€ \nWith the money they will gather they will buy food for the 80 dogs of the shelter .
URL:https://the-leros-way.com/event/friday-lunch-at-bakaliko-for-fundraising-animal-shelter/
LOCATION:Bakaliko me Tsipouro\, Μπακάλικο με τσίπουρο\, Leros\, 85400\, Greece
CATEGORIES:Special Event
ORGANIZER;CN="Animal shelter association 'Stray Paws of Leros'":MAILTO:straypawsofleros@yahoo.com
END:VEVENT
BEGIN:VEVENT
DTSTART;TZID=UTC:20240418T213000
DTEND;TZID=UTC:20240424T233000
DTSTAMP:20260422T111146
CREATED:20240416T130622Z
LAST-MODIFIED:20240416T130627Z
UID:34010-1713475800-1714001400@the-leros-way.com
SUMMARY:The Movie of the Week : Βack to Black
DESCRIPTION:Thursday- Saturday-Monday-Wednesday 21:30 \nFriday-Tuesday-Sunday 19:30
URL:https://the-leros-way.com/event/the-movie-of-the-week-%ce%b2ack-to-black/
LOCATION:Leros Cinema\, Municipal Cinema Leros\, Leros\, 85400\, Greece
CATEGORIES:Leros Cinema
ORGANIZER;CN="Cine Leros":MAILTO:leros-cinema@leros.gr
END:VEVENT
BEGIN:VEVENT
DTSTART;TZID=UTC:20240418T193000
DTEND;TZID=UTC:20240424T230000
DTSTAMP:20260422T111146
CREATED:20240416T125955Z
LAST-MODIFIED:20240416T131051Z
UID:34005-1713468600-1713999600@the-leros-way.com
SUMMARY:Movie of the Week : Ghostbusters
DESCRIPTION:Thursday- Saturday-Monday-Wednesday 19:30 \nFriday-Tuesday-Sunday 21:30
URL:https://the-leros-way.com/event/movie-of-the-week-ghostbusters/
LOCATION:Leros Cinema\, Municipal Cinema Leros\, Leros\, 85400\, Greece
CATEGORIES:Leros Cinema
ORGANIZER;CN="Cine Leros":MAILTO:leros-cinema@leros.gr
END:VEVENT
BEGIN:VEVENT
DTSTART;TZID=UTC:20240418T180000
DTEND;TZID=UTC:20240424T193000
DTSTAMP:20260422T111146
CREATED:20240416T131417Z
LAST-MODIFIED:20240416T131636Z
UID:34017-1713463200-1713987000@the-leros-way.com
SUMMARY:The Movie of the Week : Κung fu Panda 4
DESCRIPTION:Every Day 18:00  (Greek Language)
URL:https://the-leros-way.com/event/the-movie-of-the-week-%ce%baung-fu-panda-4/
LOCATION:Leros Cinema\, Municipal Cinema Leros\, Leros\, 85400\, Greece
CATEGORIES:Leros Cinema
ORGANIZER;CN="Cine Leros":MAILTO:leros-cinema@leros.gr
END:VEVENT
BEGIN:VEVENT
DTSTART;TZID=UTC:20240416T183000
DTEND;TZID=UTC:20240416T203000
DTSTAMP:20260422T111146
CREATED:20240412T055528Z
LAST-MODIFIED:20240412T055531Z
UID:33936-1713292200-1713299400@the-leros-way.com
SUMMARY:Puppet Theater: The Fish Terror
DESCRIPTION:Τuesday 16/04/2024 time 18:30 \nmobile: 6977987248 \nΕntrance : 7€
URL:https://the-leros-way.com/event/puppet-theater-the-fish-terror/
LOCATION:Leros Cinema\, Municipal Cinema Leros\, Leros\, 85400\, Greece
ATTACH;FMTTYPE=image/jpeg:https://the-leros-way.com/wp-content/uploads/2024/04/437606940_1136313957771651_6435704961178655705_n-1.jpg
ORGANIZER;CN="Cine Leros":MAILTO:leros-cinema@leros.gr
END:VEVENT
BEGIN:VEVENT
DTSTART;TZID=UTC:20240414T103000
DTEND;TZID=UTC:20240414T130000
DTSTAMP:20260422T111146
CREATED:20240402T082749Z
LAST-MODIFIED:20240402T084120Z
UID:33469-1713090600-1713099600@the-leros-way.com
SUMMARY:Cleaning the Beaches (Xirokampos )
DESCRIPTION:We clean the beaches in April \nSunday Morning 10:30 \nMeeting point : Open Stadium parking \nBasketball team Panionios
URL:https://the-leros-way.com/event/cleaning-the-beaches-xirokampos/
LOCATION:Xirokampos Beach\, Δημοτικό Στάδιο Λέρου\, Leros\, 85400\, Greece
CATEGORIES:Special Event
ORGANIZER;CN="The Leros Way":MAILTO:info@the-leros-way.com
END:VEVENT
BEGIN:VEVENT
DTSTART;TZID=UTC:20240411T080000
DTEND;TZID=UTC:20240411T170000
DTSTAMP:20260422T111146
CREATED:20240408T085034Z
LAST-MODIFIED:20240408T085037Z
UID:33587-1712822400-1712854800@the-leros-way.com
SUMMARY:The Movie of the Week : Gonzilla vs Kong " The New Empire "
DESCRIPTION:Τhursday  (Τhe time is not announced yet )
URL:https://the-leros-way.com/event/the-movie-of-the-week-gonzilla-vs-kong-the-new-empire/
CATEGORIES:Leros Cinema
END:VEVENT
BEGIN:VEVENT
DTSTART;TZID=UTC:20240411T080000
DTEND;TZID=UTC:20240411T170000
DTSTAMP:20260422T111146
CREATED:20240408T084328Z
LAST-MODIFIED:20240408T084331Z
UID:33582-1712822400-1712854800@the-leros-way.com
SUMMARY:The Movie of the Week: Τhe First Sign
DESCRIPTION:Thursday (the time is not announced yet )
URL:https://the-leros-way.com/event/the-movie-of-the-week-%cf%84he-first-sign/
LOCATION:Leros Cinema\, Municipal Cinema Leros\, Leros\, 85400\, Greece
CATEGORIES:Movie
ORGANIZER;CN="Cine Leros":MAILTO:leros-cinema@leros.gr
END:VEVENT
BEGIN:VEVENT
DTSTART;TZID=UTC:20240410T103000
DTEND;TZID=UTC:20240411T193000
DTSTAMP:20260422T111146
CREATED:20240330T065401Z
LAST-MODIFIED:20240330T065403Z
UID:33436-1712745000-1712863800@the-leros-way.com
SUMMARY:Theater Play : "Let the Souls speak"
DESCRIPTION:Organised by Boulafentio High School \nWednesday 10/04 time 10:30 am and afternoon 18:00 \nThursday  11/04 time 10:30 am and afternoon 18:00 \nCinema Theater \nTickets : \n1€ for children \n2€ for adults \nThe money will be donated to the charity Organization “The Smile of the Child”.
URL:https://the-leros-way.com/event/theater-play-let-the-souls-speak/
LOCATION:High School Platanos\, Μπελλένειο Γυμνάσιο Λέρου\, LEROS\, DODECANESE\, 85400\, Greece
CATEGORIES:Theater Play
ORGANIZER;CN="Cine Leros":MAILTO:leros-cinema@leros.gr
END:VEVENT
BEGIN:VEVENT
DTSTART;TZID=UTC:20240408T211500
DTEND;TZID=UTC:20240408T233000
DTSTAMP:20260422T111146
CREATED:20240408T083538Z
LAST-MODIFIED:20240408T083541Z
UID:33577-1712610900-1712619000@the-leros-way.com
SUMMARY:Movie of the Week-Gonzilla vs Kong " The New Empire "
DESCRIPTION:Monday-Tuesday-Wednesday 21:15   08/04-10/04
URL:https://the-leros-way.com/event/movie-of-the-week-gonzilla-vs-kong-the-new-empire/
LOCATION:Leros Cinema\, Municipal Cinema Leros\, Leros\, 85400\, Greece
CATEGORIES:Leros Cinema
ORGANIZER;CN="Cine Leros":MAILTO:leros-cinema@leros.gr
END:VEVENT
BEGIN:VEVENT
DTSTART;TZID=UTC:20240406T210000
DTEND;TZID=UTC:20240407T223000
DTSTAMP:20260422T111146
CREATED:20240326T081744Z
LAST-MODIFIED:20240327T065811Z
UID:33329-1712437200-1712529000@the-leros-way.com
SUMMARY:THEATER PLAY " The Misunderstanding "
DESCRIPTION:Writer : Αlbert Camus \n6-7 of April \n21:00
URL:https://the-leros-way.com/event/theater-play-the-misunderstanding/
LOCATION:Leros Cinema\, Municipal Cinema Leros\, Leros\, 85400\, Greece
CATEGORIES:Leros Cinema
END:VEVENT
BEGIN:VEVENT
DTSTART;TZID=UTC:20240405T210000
DTEND;TZID=UTC:20240405T233000
DTSTAMP:20260422T111146
CREATED:20240330T063759Z
LAST-MODIFIED:20240403T053328Z
UID:33413-1712350800-1712359800@the-leros-way.com
SUMMARY:Live Music "Cafe Calvo Bar"
DESCRIPTION:Organised by the High School of Leros \nFund Raising for the charity organization “The Smile of the Child”. \nFriday 05/04/2024 21:00 \nEntrance : 3 euro
URL:https://the-leros-way.com/event/live-music-cafe-calvo-bar/
LOCATION:Calvo Cafe Bar Agia Marina\, Calvo Cafe Pub\, Leros\, 85400\, Greece
CATEGORIES:Music
END:VEVENT
BEGIN:VEVENT
DTSTART;TZID=UTC:20240325T103000
DTEND;TZID=UTC:20240325T120000
DTSTAMP:20260422T111146
CREATED:20240320T103036Z
LAST-MODIFIED:20240320T103038Z
UID:33261-1711362600-1711368000@the-leros-way.com
SUMMARY:Parade for Independence Day
DESCRIPTION:Agia Marina\, Port Location \nStarts 10:30
URL:https://the-leros-way.com/event/parade-for-independence-day/
LOCATION:Theather at Agia Marina\, Leros\, 85400\, Greece
CATEGORIES:Lerian Festival
ATTACH;FMTTYPE=image/jpeg:https://the-leros-way.com/wp-content/uploads/2024/03/viber_image_2024-03-16_17-56-52-823-2.jpg
ORGANIZER;CN="Leros Municipality":MAILTO:info@dopaisap.gr
END:VEVENT
END:VCALENDAR