BEGIN:VCALENDAR
VERSION:2.0
PRODID:-//The Leros Way - ECPv6.15.13.1//NONSGML v1.0//EN
CALSCALE:GREGORIAN
METHOD:PUBLISH
X-WR-CALNAME:The Leros Way
X-ORIGINAL-URL:https://the-leros-way.com
X-WR-CALDESC:Events for The Leros Way
REFRESH-INTERVAL;VALUE=DURATION:PT1H
X-Robots-Tag:noindex
X-PUBLISHED-TTL:PT1H
BEGIN:VTIMEZONE
TZID:UTC
BEGIN:STANDARD
TZOFFSETFROM:+0000
TZOFFSETTO:+0000
TZNAME:UTC
DTSTART:20220101T000000
END:STANDARD
END:VTIMEZONE
BEGIN:VEVENT
DTSTART;VALUE=DATE:20230929
DTEND;VALUE=DATE:20230930
DTSTAMP:20260423T005103
CREATED:20230917T060236Z
LAST-MODIFIED:20230917T060302Z
UID:25221-1695945600-1696031999@the-leros-way.com
SUMMARY:6th Day Agenda - 80th Battle of Leros Anniversary
DESCRIPTION:10:00 = Guided visit to DICAT·FAM Admini1stration – Patella\n12:00 ~ Guided visit to Tunnel Museum & ammunition storages – Merikia\n17:00 – Guided visit to private War Museum “Deposlto di Guerra – Ioannis Paraponiaris” – Aghia Irini\n21:00 = Greek traditional music & dance show at Artemis Association open-air space – Platanos
URL:https://the-leros-way.com/event/6th-day-agenda-80th-battle-of-leros-anniversary/
CATEGORIES:Special Event
ATTACH;FMTTYPE=image/png:https://the-leros-way.com/wp-content/uploads/2023/09/Leros-80.png
END:VEVENT
BEGIN:VEVENT
DTSTART;TZID=UTC:20230928T210000
DTEND;TZID=UTC:20231004T210000
DTSTAMP:20260423T005103
CREATED:20230828T163409Z
LAST-MODIFIED:20230828T163413Z
UID:23624-1695934800-1696453200@the-leros-way.com
SUMMARY:Movie of the week: THE NUN
DESCRIPTION:
URL:https://the-leros-way.com/event/movie-of-the-week-the-nun/
LOCATION:Outdoor Cinema\, 4VJ3+Q9 Λακκί\, Leros\, 85400\, Greece
CATEGORIES:Leros Cinema,Movie
ATTACH;FMTTYPE=image/jpeg:https://the-leros-way.com/wp-content/uploads/2023/08/The-NUN.jpg
ORGANIZER;CN="Cine Leros":MAILTO:leros-cinema@leros.gr
END:VEVENT
BEGIN:VEVENT
DTSTART;VALUE=DATE:20230928
DTEND;VALUE=DATE:20230929
DTSTAMP:20260423T005103
CREATED:20230917T060006Z
LAST-MODIFIED:20230917T062422Z
UID:25219-1695859200-1695945599@the-leros-way.com
SUMMARY:5th Day Agenda - 80th Battle of Leros Anniversary
DESCRIPTION:10:00 = Guided visit to Leros’ Castle – Pandeli\n12:00 = Guided visit to Archaeological Museum – Aghia Marina (pending)\n17:00 = Historical movie screenings at Theater of Leros’ Theatrical Team~ Ag hia Marina\n21:00 = At the time music & dance show – Leros’ Sailing Club – Koulouki
URL:https://the-leros-way.com/event/5th-day-agenda-80th-battle-of-leros-anniversary/
CATEGORIES:Sailing Event
ATTACH;FMTTYPE=image/png:https://the-leros-way.com/wp-content/uploads/2023/09/Leros-80.png
END:VEVENT
BEGIN:VEVENT
DTSTART;VALUE=DATE:20230927
DTEND;VALUE=DATE:20230928
DTSTAMP:20260423T005103
CREATED:20230917T055744Z
LAST-MODIFIED:20230917T055748Z
UID:25217-1695772800-1695859199@the-leros-way.com
SUMMARY:4th Day Agenda - 80th Battle of Leros Anniversary
DESCRIPTION:10:00 = Ceremonies at Italian\, German\, ‘HMS INTREPID\, and Greek destroyer ADRIAS memorials – Lakki\n12:00 = Light buffet at Officers’ Club – Lakki\n18:00 = Historical meeting and “Io c’ero – memories of the times through the posterity” – Lakki Municipal Theater \n**Dinner will follow after reservation – TBA
URL:https://the-leros-way.com/event/4th-day-agenda-80th-battle-of-leros-anniversary/
CATEGORIES:Special Event
ATTACH;FMTTYPE=image/png:https://the-leros-way.com/wp-content/uploads/2023/09/Leros-80.png
END:VEVENT
BEGIN:VEVENT
DTSTART;TZID=UTC:20230926T193000
DTEND;TZID=UTC:20230926T193000
DTSTAMP:20260423T005103
CREATED:20230827T062150Z
LAST-MODIFIED:20230827T062154Z
UID:23562-1695756600-1695756600@the-leros-way.com
SUMMARY:Historical Documentary Film
DESCRIPTION:“MemOria” historical documentary screening in the presence of the film’s director. \nFree admittance
URL:https://the-leros-way.com/event/historical-documentary-film/
LOCATION:Leros Cinema\, Municipal Cinema Leros\, Leros\, 85400\, Greece
CATEGORIES:Italian Culture Association,Leros Cinema,Movie
ATTACH;FMTTYPE=image/jpeg:https://the-leros-way.com/wp-content/uploads/2023/08/Cinema-Leros.jpg
ORGANIZER;CN="Greek-Italian Association of Friends of Leros %E2%80%9CAIAL%E2%80%9D":MAILTO:petrokaravo@yahoo.it
END:VEVENT
BEGIN:VEVENT
DTSTART;VALUE=DATE:20230926
DTEND;VALUE=DATE:20230927
DTSTAMP:20260423T005103
CREATED:20230917T061921Z
LAST-MODIFIED:20230917T061924Z
UID:25228-1695686400-1695772799@the-leros-way.com
SUMMARY:3rd Day Agenda – 80th Battle of Leros Anniversary
DESCRIPTION:09:00 = Commemorative ceremony at Leros War Cemetery – Alinda\n10:00 = commemorative ceremony at HMS INTREPID memorial – Lakki\n11:00 = Official commemorative ceremony at Greek destroyer Vasidlissa Olga (Queen Olga) memorial – Lakki\n12 :OO = Military vehicle.s & living history groups static display – Lakki seafront\n17: 00 = Guided visit to Lakki town – Lakki\n19:30 = ‘MemOria’ documentary screening at Lakki Outdoor Cinema
URL:https://the-leros-way.com/event/3rd-day-agenda-80th-battle-of-leros-anniversary-2/
CATEGORIES:Sailing Event
ATTACH;FMTTYPE=image/png:https://the-leros-way.com/wp-content/uploads/2023/09/Leros-80.png
END:VEVENT
BEGIN:VEVENT
DTSTART;TZID=UTC:20230925T150000
DTEND;TZID=UTC:20230925T163000
DTSTAMP:20260423T005103
CREATED:20230917T054303Z
LAST-MODIFIED:20230917T062152Z
UID:25205-1695654000-1695659400@the-leros-way.com
SUMMARY:2nd Day Agenda - 80th Battle of Leros Anniversary
DESCRIPTION:10:00 – Guided visit to historical sites: Battery PL127 – Merovigli \n15:00 = Visit to Leros War Cemetery – Alinda \n17:00 = Guided visit to Belleni Tower – Alinda \n19:00 = Opening of the exhibition “Ancient Stones” by Franco Murer – Bellenis Tower\, Alinda
URL:https://the-leros-way.com/event/visit-to-leros-war-cemetery-alinda/
CATEGORIES:Guided Tour,Italian Culture Association,Special Event
ATTACH;FMTTYPE=image/png:https://the-leros-way.com/wp-content/uploads/2023/09/Leros-80.png
ORGANIZER;CN="Greek-Italian Association of Friends of Leros %E2%80%9CAIAL%E2%80%9D":MAILTO:petrokaravo@yahoo.it
END:VEVENT
END:VCALENDAR