BEGIN:VCALENDAR
VERSION:2.0
PRODID:-//The Leros Way - ECPv6.15.20//NONSGML v1.0//EN
CALSCALE:GREGORIAN
METHOD:PUBLISH
X-ORIGINAL-URL:https://the-leros-way.com
X-WR-CALDESC:Events for The Leros Way
REFRESH-INTERVAL;VALUE=DURATION:PT1H
X-Robots-Tag:noindex
X-PUBLISHED-TTL:PT1H
BEGIN:VTIMEZONE
TZID:UTC
BEGIN:STANDARD
TZOFFSETFROM:+0000
TZOFFSETTO:+0000
TZNAME:UTC
DTSTART:20250101T000000
END:STANDARD
END:VTIMEZONE
BEGIN:VEVENT
DTSTART;TZID=UTC:20260425T083000
DTEND;TZID=UTC:20260425T083000
DTSTAMP:20260424T124530
CREATED:20260422T113322Z
LAST-MODIFIED:20260422T113322Z
UID:53654-1777105800-1777105800@the-leros-way.com
SUMMARY:Final Four Semi Finals & Final
DESCRIPTION:Saturday 8:30am- Semi Finals to be determined \nSaturday 11am- Final Match to be determined
URL:https://the-leros-way.com/event/final-four-semi-finals-final/
LOCATION:Basketball Court\, Δημοτικό Κλειστό Γυμναστήριο Μερικιάς\, Leros\, 85400\, Greece
CATEGORIES:Sport
ATTACH;FMTTYPE=image/webp:https://the-leros-way.com/wp-content/uploads/2026/04/Final-Four-Basketball.webp
END:VEVENT
BEGIN:VEVENT
DTSTART;TZID=UTC:20260426T110000
DTEND;TZID=UTC:20260426T110000
DTSTAMP:20260424T124530
CREATED:20260423T103207Z
LAST-MODIFIED:20260423T103207Z
UID:53660-1777201200-1777201200@the-leros-way.com
SUMMARY:Autism Awareness Walk
DESCRIPTION:On the 26th of April\, We Walk For Autism will take place at the Lakki Primary School
URL:https://the-leros-way.com/event/autism-awareness-walk/
LOCATION:Lakki elementary school courtyard\, Δημοτικό Σχολείο Λακκίου\, Leros\, 85400\, Greece
CATEGORIES:Leros Municipality,Special Event
ATTACH;FMTTYPE=image/webp:https://the-leros-way.com/wp-content/uploads/2026/04/viber_image_2026-04-23_13-11-52-355.webp
ORGANIZER;CN="Leros Municipality":MAILTO:info@dopaisap.gr
END:VEVENT
BEGIN:VEVENT
DTSTART;TZID=UTC:20260430T210000
DTEND;TZID=UTC:20260502T000000
DTSTAMP:20260424T124530
CREATED:20260423T112632Z
LAST-MODIFIED:20260423T112632Z
UID:53670-1777582800-1777680000@the-leros-way.com
SUMMARY:Theatre Play: Our Lady Midwife
DESCRIPTION:The Leros Theater Group returns with its second production of the year! A comedy by Alekos Sakellarios \n\n\nThursday\, April 30th \n\n\nFriday\, May 1st \n\n\nSaturday\, May 2nd
URL:https://the-leros-way.com/event/theatre-play-our-lady-midwife/
LOCATION:Leros Cinema\, Municipal Cinema Leros\, Leros\, 85400\, Greece
CATEGORIES:Leros Cinema,Theater Play
ATTACH;FMTTYPE=image/webp:https://the-leros-way.com/wp-content/uploads/2026/04/676819376_1429660958961664_7432181114729004616_n.webp
END:VEVENT
BEGIN:VEVENT
DTSTART;TZID=UTC:20260510T133000
DTEND;TZID=UTC:20260510T133000
DTSTAMP:20260424T124530
CREATED:20260423T103752Z
LAST-MODIFIED:20260423T103752Z
UID:53665-1778419800-1778419800@the-leros-way.com
SUMMARY:Mother's Day Celebration
DESCRIPTION:On the 10th of May\, at the Alinda Guesthouse\, a mother’s day charity event will take place; a celebration dedicated to the sweetest beings!
URL:https://the-leros-way.com/event/mothers-day-celebration/
LOCATION:Alinda Beach\, Alinda Beach\, Leros\, 85400\, Greece
CATEGORIES:Charity Event
ATTACH;FMTTYPE=image/webp:https://the-leros-way.com/wp-content/uploads/2026/04/viber_image_2026-04-23_12-34-16-304.webp
END:VEVENT
END:VCALENDAR