BEGIN:VCALENDAR
VERSION:2.0
PRODID:-//The Leros Way - ECPv6.15.13.1//NONSGML v1.0//EN
CALSCALE:GREGORIAN
METHOD:PUBLISH
X-WR-CALNAME:The Leros Way
X-ORIGINAL-URL:https://the-leros-way.com
X-WR-CALDESC:Events for The Leros Way
REFRESH-INTERVAL;VALUE=DURATION:PT1H
X-Robots-Tag:noindex
X-PUBLISHED-TTL:PT1H
BEGIN:VTIMEZONE
TZID:UTC
BEGIN:STANDARD
TZOFFSETFROM:+0000
TZOFFSETTO:+0000
TZNAME:UTC
DTSTART:20230101T000000
END:STANDARD
END:VTIMEZONE
BEGIN:VEVENT
DTSTART;TZID=UTC:20250201T122000
DTEND;TZID=UTC:20250201T133000
DTSTAMP:20260422T113239
CREATED:20250129T065815Z
LAST-MODIFIED:20250130T121317Z
UID:45293-1738412400-1738416600@the-leros-way.com
SUMMARY:Basketball Game Against Kos
DESCRIPTION:Saturday 12:20 at court of Merikia Panionios team against Esperos team \nFree entrance \nCome to support our islands basketball team!
URL:https://the-leros-way.com/event/basketball-game-against-kos/
LOCATION:War museum square\, Merikia\, War museum square\, Merikia\, Leros\, 85400\, Greece
CATEGORIES:Sport
ATTACH;FMTTYPE=image/webp:https://the-leros-way.com/wp-content/uploads/2025/01/παιδεσ.webp
END:VEVENT
BEGIN:VEVENT
DTSTART;TZID=UTC:20250126T190000
DTEND;TZID=UTC:20250126T210000
DTSTAMP:20260422T113239
CREATED:20250121T071441Z
LAST-MODIFIED:20250121T071443Z
UID:45174-1737918000-1737925200@the-leros-way.com
SUMMARY:"Tribute to David Lynch: A Cinematic Journey"
DESCRIPTION:The Leros Film Club (KILL) and the Leros Theater Group (THOL) invite you to a tribute to the acclaimed director David Lynch with four of his films\, every Sunday at 19:00 at the THOL theater in Agia Marina. \nSunday 26/1: The Elephant Man (1980)\nSunday 2/2: Blue Velvet (1986)\nSunday 9/2: Wild at Heart (1990)\nSunday 16/2: Mulholland Drive (2001) \nThe films will be screened with Greek subtitles – Free entrance \n 
URL:https://the-leros-way.com/event/tribute-to-david-lynch-a-cinematic-journey/
LOCATION:Theather at Agia Marina\, Leros\, 85400\, Greece
CATEGORIES:Special Event,Theater Play
ATTACH;FMTTYPE=image/webp:https://the-leros-way.com/wp-content/uploads/2025/01/LynchPoster.webp
END:VEVENT
BEGIN:VEVENT
DTSTART;TZID=UTC:20250126T120000
DTEND;TZID=UTC:20250126T130000
DTSTAMP:20260422T113239
CREATED:20250125T063423Z
LAST-MODIFIED:20250125T063424Z
UID:45257-1737892800-1737896400@the-leros-way.com
SUMMARY:📢 Honoring the Victims\, Demanding Justice!
DESCRIPTION:🖤 On February 28\, 2023\, Greece faced a heartbreaking tragedy when a passenger train collided head-on with a freight train in Tempi\, due to critical errors and the lack of safety systems. \nThis horrific event claimed “57 lives”\, mostly young people\, leaving behind devastated families and a nation in mourning. It’s a stark reminder of the need for change\, justice\, and accountability. \n🔴 The citizens of Leros will be present on Sunday\, January 26\, 2025\, at 12:00 PM\, at the central square of Platanos\,to show our support for the families of the victims of the Tempi tragedy. \n🕊️ For those living on our island this January\, please join us in solidarity to honor the victims and support the call for a safer future\, for all of us\, our children … for Greece we all love! \n#JusticeForTempi #NeverForget #Solidarity
URL:https://the-leros-way.com/event/%f0%9f%93%a2-honoring-the-victims-demanding-justice/
LOCATION:Platanos square\, Platanos Square\, Leros\, 85400\, Greece
CATEGORIES:Special Event
ATTACH;FMTTYPE=image/webp:https://the-leros-way.com/wp-content/uploads/2025/01/474629543_629043069649152_3875416206542266835_n.webp
ORGANIZER;CN="The Leros Way":MAILTO:infor@the-leros-way.com
END:VEVENT
BEGIN:VEVENT
DTSTART;TZID=UTC:20250106T103000
DTEND;TZID=UTC:20250106T110000
DTSTAMP:20260422T113240
CREATED:20241230T083512Z
LAST-MODIFIED:20241230T083513Z
UID:45055-1736159400-1736161200@the-leros-way.com
SUMMARY:Blessing of the Waters and the throwing of the Holy Cross
DESCRIPTION:ANNOUNCEMENT \nOn January 6th\, the Feast of the Epiphany\, the ceremony of the Blessing of the Waters and the throwing of the Holy Cross will take place at the following locations: \n\nAgia Marina\nLakki\nXirokampos\nAlinda\nDrymonas\n\nThe ceremony is scheduled to begin at approximately 10:45 a.m.. \n 
URL:https://the-leros-way.com/event/blessing-of-the-waters-and-the-throwing-of-the-holy-cross/
LOCATION:LEROS\, Katafigio Agrias Zois Koulouki - Merikia - Fitorio\, Ag. Marina\, Greece\, 854 00\, Greece
CATEGORIES:Special Event
ATTACH;FMTTYPE=image/webp:https://the-leros-way.com/wp-content/uploads/2024/12/viber_image_2024-12-30_10-12-39-171.webp
ORGANIZER;CN="Leros Municipality":MAILTO:info@dopaisap.gr
END:VEVENT
BEGIN:VEVENT
DTSTART;TZID=UTC:20250102T211500
DTEND;TZID=UTC:20250108T233000
DTSTAMP:20260422T113240
CREATED:20250102T112044Z
LAST-MODIFIED:20250102T112045Z
UID:45063-1735852500-1736379000@the-leros-way.com
SUMMARY:Τhe Movie of the Week: "Νosferatu"
DESCRIPTION:Every day 02/01/25-08/01/25   21:15
URL:https://the-leros-way.com/event/%cf%84he-movie-of-the-week-%ce%bdosferatu/
LOCATION:Leros Cinema\, Municipal Cinema Leros\, Leros\, 85400\, Greece
CATEGORIES:Leros Cinema,Movie
ATTACH;FMTTYPE=image/jpeg:https://the-leros-way.com/wp-content/uploads/2025/01/2b99bcc4-9f5a-4afd-917b-4c2d053cc79f.jpg
ORGANIZER;CN="Leros Municipality":MAILTO:info@dopaisap.gr
END:VEVENT
BEGIN:VEVENT
DTSTART;TZID=UTC:20250102T190000
DTEND;TZID=UTC:20250108T210000
DTSTAMP:20260422T113240
CREATED:20250102T111453Z
LAST-MODIFIED:20250102T111454Z
UID:45060-1735844400-1736370000@the-leros-way.com
SUMMARY:The Movie of the Week: "Iparxo"
DESCRIPTION:Daily 02/01/25-08/01/25 \nTime : 19:00
URL:https://the-leros-way.com/event/the-movie-of-the-week-iparxo/
LOCATION:Leros Cinema\, Municipal Cinema Leros\, Leros\, 85400\, Greece
CATEGORIES:Leros Cinema,Movie
ATTACH;FMTTYPE=image/webp:https://the-leros-way.com/wp-content/uploads/2024/12/cdb44afd-f2f8-4749-91f4-af0c2c842b1d.webp
END:VEVENT
BEGIN:VEVENT
DTSTART;TZID=UTC:20250102T170000
DTEND;TZID=UTC:20250108T183000
DTSTAMP:20260422T113240
CREATED:20250102T112606Z
LAST-MODIFIED:20250102T112607Z
UID:45068-1735837200-1736361000@the-leros-way.com
SUMMARY:Τhe Movie of the Week: "Sonic"
DESCRIPTION:Every day 17:00 (translated in Greek)
URL:https://the-leros-way.com/event/%cf%84he-movie-of-the-week-sonic/
LOCATION:Leros Cinema\, Municipal Cinema Leros\, Leros\, 85400\, Greece
CATEGORIES:Leros Cinema,Movie
ATTACH;FMTTYPE=image/webp:https://the-leros-way.com/wp-content/uploads/2025/01/f832fa43-8347-44b6-9a54-1132451dd5b6.webp
ORGANIZER;CN="Leros Municipality":MAILTO:info@dopaisap.gr
END:VEVENT
BEGIN:VEVENT
DTSTART;TZID=UTC:20241231T163000
DTEND;TZID=UTC:20250101T230000
DTSTAMP:20260422T113240
CREATED:20241224T072719Z
LAST-MODIFIED:20241224T072720Z
UID:45049-1735662600-1735772400@the-leros-way.com
SUMMARY:New Year's Program 2025
DESCRIPTION:The Municipality of Leros\, in cooperation with the Holy Metropolis of Leros\, has prepared the following program for the New Year: \nTuesday\, December 31\, 2024: \n\n16:30: Vespers for the Feast of Great Basil at the Holy Church of St. Sophronius (Patriarchate)\, presided over by His Eminence\, the Metropolitan of Leros\, Kalymnos\, and Astypalaia\, Paisios.\n17:30: Cutting of the New Year’s cake of the Holy Metropolis of Leros at the Patriarchate of Alintou.\n\nWednesday\, January 1\, 2025: \n\n10:00: Gathering of officials at the City Hall and a joint procession to the Holy Metropolitan Church of the Annunciation of the Virgin Mary.\n10:30: Thanksgiving service at the Holy Metropolitan Church of the Annunciation of the Virgin Mary\, presided over by His Eminence\, the Metropolitan of Leros\, Kalymnos\, and Astypalaia\, Paisios. Afterwards\, a procession to the City Hall and the cutting of the New Year’s cake by the Mayor of Leros\, Mr. Timotheos Kottais\, in the presence of officials and the public.\nFollowing this\, the representatives of the authorities will visit the Isidorion Ecclesiastical Nursing Home for the cutting of the New Year’s cake.\n\nThis serves as an official invitation.
URL:https://the-leros-way.com/event/new-years-program-2025/
LOCATION:LEROS\, Katafigio Agrias Zois Koulouki - Merikia - Fitorio\, Ag. Marina\, Greece\, 854 00\, Greece
CATEGORIES:Leros Municipality,Special Event
ATTACH;FMTTYPE=image/jpeg:https://the-leros-way.com/wp-content/uploads/2024/12/viber_image_2024-07-08_19-13-58-030.jpg
ORGANIZER;CN="Leros Municipality":MAILTO:info@dopaisap.gr
END:VEVENT
BEGIN:VEVENT
DTSTART;TZID=UTC:20241229T170000
DTEND;TZID=UTC:20241229T200000
DTSTAMP:20260422T113240
CREATED:20241222T063927Z
LAST-MODIFIED:20241222T064053Z
UID:45035-1735491600-1735502400@the-leros-way.com
SUMMARY:A lovely event to say goodbye to the year with local traditional songs
DESCRIPTION:17: 00 we gather outside Super Market Taxliampouris in Kamara. A lovely event to say goodbye to 2024!
URL:https://the-leros-way.com/event/a-lovely-event-to-say-goodbye-to-the-year-with-local-traditional-songs/
LOCATION:Kamara/Alinda elementary school courtyard\, Elementary School Alinda\, Leros\, 8400
CATEGORIES:Music,Special Event
ATTACH;FMTTYPE=image/webp:https://the-leros-way.com/wp-content/uploads/2024/12/viber_image_2024-12-22_08-19-38-671.webp
ORGANIZER;CN="Leros Municipality":MAILTO:info@dopaisap.gr
END:VEVENT
BEGIN:VEVENT
DTSTART;TZID=UTC:20241225T230000
DTEND;TZID=UTC:20241225T230000
DTSTAMP:20260422T113240
CREATED:20241224T071246Z
LAST-MODIFIED:20241224T073908Z
UID:45046-1735167600-1735167600@the-leros-way.com
SUMMARY:Cielo club High school Party
DESCRIPTION:23:00 Pandeli area \nEntrance : 3€
URL:https://the-leros-way.com/event/cielo-club-high-school-party/
LOCATION:Diana Disco Club\, Cielo Club Pandeli\, Leros\, Greece
CATEGORIES:Special Event
ATTACH;FMTTYPE=image/jpeg:https://the-leros-way.com/wp-content/uploads/2024/12/viber_image_2024-12-23_08-28-47-389-1.jpg
ORGANIZER;CN="The Leros Way":MAILTO:info@the-leros-way.com
END:VEVENT
BEGIN:VEVENT
DTSTART;TZID=UTC:20241222T130000
DTEND;TZID=UTC:20241222T190000
DTSTAMP:20260422T113240
CREATED:20241211T122709Z
LAST-MODIFIED:20241211T122711Z
UID:44938-1734872400-1734894000@the-leros-way.com
SUMMARY:Live Greek Music
DESCRIPTION:Leon Limani Restaurant 22/12/24 13:00 \nOrganised by the Women without Frontiers \nEntrance with food Included: 15€
URL:https://the-leros-way.com/event/live-greek-music/
LOCATION:Lakki Port\, Port of Leros\, Leros\, 85400\, Greece
CATEGORIES:Dance Party,Dancing,Special Event
ATTACH;FMTTYPE=image/jpeg:https://the-leros-way.com/wp-content/uploads/2024/12/viber_image_2024-12-11_13-17-37-049.jpg
END:VEVENT
BEGIN:VEVENT
DTSTART;TZID=UTC:20241219T190000
DTEND;TZID=UTC:20241225T233000
DTSTAMP:20260422T113240
CREATED:20241220T061005Z
LAST-MODIFIED:20241220T061006Z
UID:45019-1734634800-1735169400@the-leros-way.com
SUMMARY:Τhe Movie of the Week: "Εxist "
DESCRIPTION:Every day 19:00 and 21:30
URL:https://the-leros-way.com/event/%cf%84he-movie-of-the-week-%ce%b5xist/
LOCATION:Leros Cinema\, Municipal Cinema Leros\, Leros\, 85400\, Greece
CATEGORIES:Leros Cinema,Movie
ATTACH;FMTTYPE=image/webp:https://the-leros-way.com/wp-content/uploads/2024/12/cdb44afd-f2f8-4749-91f4-af0c2c842b1d.webp
ORGANIZER;CN="Cine Leros":MAILTO:leros-cinema@leros.gr
END:VEVENT
BEGIN:VEVENT
DTSTART;TZID=UTC:20241219T171500
DTEND;TZID=UTC:20241226T190000
DTSTAMP:20260422T113240
CREATED:20241220T060624Z
LAST-MODIFIED:20241220T060625Z
UID:45014-1734628500-1735239600@the-leros-way.com
SUMMARY:The Movie of the Week: "Moufasa"
DESCRIPTION:Every day 17:15 (Τranslated in Greek)
URL:https://the-leros-way.com/event/the-movie-of-the-week-moufasa/
LOCATION:Leros Cinema\, Municipal Cinema Leros\, Leros\, 85400\, Greece
CATEGORIES:Leros Cinema,Movie
ATTACH;FMTTYPE=image/webp:https://the-leros-way.com/wp-content/uploads/2024/12/7db4b84f-3535-4556-ac46-c84b2d23f1e4.webp
ORGANIZER;CN="Cine Leros":MAILTO:leros-cinema@leros.gr
END:VEVENT
BEGIN:VEVENT
DTSTART;TZID=UTC:20241214T200000
DTEND;TZID=UTC:20241214T233000
DTSTAMP:20260422T113240
CREATED:20241214T070617Z
LAST-MODIFIED:20241214T070618Z
UID:44971-1734206400-1734219000@the-leros-way.com
SUMMARY:Live Artistic\, contemporary folk\, and rock music
DESCRIPTION:Navarone Estate Restaurant (Agia Marina) \nTime :20:00 \nReservations: mob: 6984863649//6940789522
URL:https://the-leros-way.com/event/live-artistic-contemporary-folk-and-rock-music/
LOCATION:Νavarone Estate\, https://maps.app.goo.gl/9SikDv2qbo2YEFs38\, Leros\, 85400\, Greece
CATEGORIES:Music,Special Event
ATTACH;FMTTYPE=image/jpeg:https://the-leros-way.com/wp-content/uploads/2024/12/33850513-6d2b-46f3-b059-b041ceabe460.jpeg
ORGANIZER;CN="The Leros Way":MAILTO:info@the-leros-way.com
END:VEVENT
BEGIN:VEVENT
DTSTART;TZID=UTC:20241214T170000
DTEND;TZID=UTC:20241214T183000
DTSTAMP:20260422T113240
CREATED:20241210T063433Z
LAST-MODIFIED:20241210T063435Z
UID:44870-1734195600-1734201000@the-leros-way.com
SUMMARY:Basketball Game (Court of Merikia)
DESCRIPTION:Basketball Game Fathers Vs Sons \nSaturday 17:00 Μerikia Court \nEntrance : 2€
URL:https://the-leros-way.com/event/basketball-game-court-of-merikia/
LOCATION:Basketball Court\, Δημοτικό Κλειστό Γυμναστήριο Μερικιάς\, Leros\, 85400\, Greece
CATEGORIES:Special Event,Sport
ATTACH;FMTTYPE=image/webp:https://the-leros-way.com/wp-content/uploads/2024/12/viber_image_2024-12-07_12-13-18-873.webp
END:VEVENT
BEGIN:VEVENT
DTSTART;TZID=UTC:20241214T153000
DTEND;TZID=UTC:20241214T170000
DTSTAMP:20260422T113240
CREATED:20241212T184033Z
LAST-MODIFIED:20241212T184200Z
UID:44965-1734190200-1734195600@the-leros-way.com
SUMMARY:Santa Run
DESCRIPTION:Kamara Place\, we run for charity purpose \nTime 15:30 \nΟutside Taxliampouris Supermarket in Kamara
URL:https://the-leros-way.com/event/santa-run/
LOCATION:LEROS\, Katafigio Agrias Zois Koulouki - Merikia - Fitorio\, Ag. Marina\, Greece\, 854 00\, Greece
CATEGORIES:Movie,Special Event
ATTACH;FMTTYPE=image/jpeg:https://the-leros-way.com/wp-content/uploads/2024/12/470172894_10234772786761981_6401231891120525392_n.jpg
ORGANIZER;CN="Leros Municipality":MAILTO:info@dopaisap.gr
END:VEVENT
BEGIN:VEVENT
DTSTART;TZID=UTC:20241214T090000
DTEND;TZID=UTC:20241215T170000
DTSTAMP:20260422T113240
CREATED:20241211T125856Z
LAST-MODIFIED:20241211T125858Z
UID:44943-1734166800-1734282000@the-leros-way.com
SUMMARY:5th Annual Τennis Tournament
DESCRIPTION:Charity Tennis Tournament / Leros Tennis club \nSaturday-Sunday 14-15/12/2024 \nFor more information:6981592501
URL:https://the-leros-way.com/event/5th-annual-%cf%84ennis-tournament/
LOCATION:Temenia Tennis Court\, Leros tennis club\, Leros\, 85400\, Greece
CATEGORIES:Special Event,Sport
ATTACH;FMTTYPE=image/webp:https://the-leros-way.com/wp-content/uploads/2024/12/viber_image_2024-12-11_13-19-39-610.webp
END:VEVENT
BEGIN:VEVENT
DTSTART;TZID=UTC:20241213T210000
DTEND;TZID=UTC:20241213T233000
DTSTAMP:20260422T113240
CREATED:20241207T091334Z
LAST-MODIFIED:20241207T091335Z
UID:44830-1734123600-1734132600@the-leros-way.com
SUMMARY:Ballads of the Aegean and Crete by Artemis Association
DESCRIPTION:Aleuromilos-Cafe-Industrial Bar 13/12/24 time : 21:00
URL:https://the-leros-way.com/event/ballads-of-the-aegean-and-crete-by-artemis-association/
LOCATION:Industrial Club\, Industrial Club - Alevromylos Cafe\, Leros\, 85400\, Greece
CATEGORIES:Artemis Centre for Culture
ATTACH;FMTTYPE=image/jpeg:https://the-leros-way.com/wp-content/uploads/2024/12/viber_image_2024-12-07_11-02-50-052.jpg
ORGANIZER;CN="Artemis":MAILTO:artemis@leros.com
END:VEVENT
BEGIN:VEVENT
DTSTART;TZID=UTC:20241212T211500
DTEND;TZID=UTC:20241218T170000
DTSTAMP:20260422T113240
CREATED:20241212T181413Z
LAST-MODIFIED:20241212T181414Z
UID:44950-1734038100-1734541200@the-leros-way.com
SUMMARY:The Movie of the Week: "Kraven"
DESCRIPTION:Thursday-Saturday-Monday-Wednesday time 21;15 \nFriday-Sunday-Tuesday time 19:00
URL:https://the-leros-way.com/event/the-movie-of-the-week-kraven/
LOCATION:Leros Cinema\, Municipal Cinema Leros\, Leros\, 85400\, Greece
CATEGORIES:Movie
ATTACH;FMTTYPE=image/webp:https://the-leros-way.com/wp-content/uploads/2024/12/18c9ae85-878d-4da5-b3d9-5a03a89114bb.webp
ORGANIZER;CN="Cine Leros":MAILTO:leros-cinema@leros.gr
END:VEVENT
BEGIN:VEVENT
DTSTART;TZID=UTC:20241212T190000
DTEND;TZID=UTC:20241218T230000
DTSTAMP:20260422T113240
CREATED:20241212T182046Z
LAST-MODIFIED:20241212T182047Z
UID:44955-1734030000-1734562800@the-leros-way.com
SUMMARY:Τhe Movie of the Week: "Heretic"
DESCRIPTION:Thursday-Saturday-Monday-Wednesday time 19;00 \nFriday-Sunday-Tuesday time 21:15
URL:https://the-leros-way.com/event/%cf%84he-movie-of-the-week-heretic/
LOCATION:Leros Cinema\, Municipal Cinema Leros\, Leros\, 85400\, Greece
CATEGORIES:Movie
ATTACH;FMTTYPE=image/jpeg:https://the-leros-way.com/wp-content/uploads/2024/12/e25c8f42-095b-4f54-abb9-06a6628019b6.jpeg
ORGANIZER;CN="Cine Leros":MAILTO:leros-cinema@leros.gr
END:VEVENT
BEGIN:VEVENT
DTSTART;TZID=UTC:20241212T171500
DTEND;TZID=UTC:20241218T183000
DTSTAMP:20260422T113240
CREATED:20241212T182711Z
LAST-MODIFIED:20241212T182712Z
UID:44960-1734023700-1734546600@the-leros-way.com
SUMMARY:Τhe Movie of the Week: "Super Santa "
DESCRIPTION:Thursday-Friday-Sunday-Monday time 17;15 (greek version) \n 
URL:https://the-leros-way.com/event/%cf%84he-movie-of-the-week-super-santa/
LOCATION:Leros Cinema\, Municipal Cinema Leros\, Leros\, 85400\, Greece
CATEGORIES:Movie
ATTACH;FMTTYPE=image/webp:https://the-leros-way.com/wp-content/uploads/2024/12/77ec83f6-167d-4058-acb0-9b63ad78564b.webp
ORGANIZER;CN="Cine Leros":MAILTO:leros-cinema@leros.gr
END:VEVENT
BEGIN:VEVENT
DTSTART;TZID=UTC:20241205T190000
DTEND;TZID=UTC:20241211T211500
DTSTAMP:20260422T113240
CREATED:20241205T135756Z
LAST-MODIFIED:20241205T135757Z
UID:44818-1733425200-1733951700@the-leros-way.com
SUMMARY:The Movie of the Week: 'Return'
DESCRIPTION:Thursday from  5/12 till Wednesday 11/12 \nTime : 19:00 & 21:15
URL:https://the-leros-way.com/event/the-movie-of-the-week-return/
LOCATION:Leros Cinema\, Municipal Cinema Leros\, Leros\, 85400\, Greece
CATEGORIES:Leros Cinema
ATTACH;FMTTYPE=image/webp:https://the-leros-way.com/wp-content/uploads/2024/12/83cb6fda-a2f9-47d3-b890-90ccb84c6f26-1.webp
ORGANIZER;CN="Leros Municipality":MAILTO:info@dopaisap.gr
END:VEVENT
BEGIN:VEVENT
DTSTART;TZID=UTC:20241205T171500
DTEND;TZID=UTC:20241212T190000
DTSTAMP:20260422T113240
CREATED:20241205T140816Z
LAST-MODIFIED:20241206T080010Z
UID:44823-1733418900-1734030000@the-leros-way.com
SUMMARY:Τhe Movie of the Week: 'Vaianna 2'
DESCRIPTION:Every day Thursday till Wednesday every day 17:15
URL:https://the-leros-way.com/event/%cf%84he-movie-of-the-week-vaianna-2/
LOCATION:Leros Cinema\, Municipal Cinema Leros\, Leros\, 85400\, Greece
CATEGORIES:Leros Cinema,Movie
ATTACH;FMTTYPE=image/webp:https://the-leros-way.com/wp-content/uploads/2024/12/7e0a6529-837d-422a-b23c-a54adcc9d15d-1.webp
ORGANIZER;CN="Cine Leros":MAILTO:leros-cinema@leros.gr
END:VEVENT
BEGIN:VEVENT
DTSTART;TZID=UTC:20241205T073000
DTEND;TZID=UTC:20241205T170000
DTSTAMP:20260422T113240
CREATED:20241203T162540Z
LAST-MODIFIED:20241203T162542Z
UID:43971-1733383800-1733418000@the-leros-way.com
SUMMARY:Program of Saint Nicholas Celebrations
DESCRIPTION:  \nThe Municipality of Leros\, in collaboration with the Holy Metropolis of Leros and the Leros Guard\, announces the following program for the celebration of the Patron Saint of Lakki\, Saint Nicholas: \nThursday\, December 5\, 2024\n🕠 Time: 17:30\nA Grand Solemn Hierarchical Vespers will be held\, followed by the Supplicatory Canon of Saint Nicholas. \nFriday\, December 6\, 2024\n🕢 Time: 07:30\nMatins and Hierarchical Divine Liturgy will take place. \n🕘 Time: 09:45\nArrival of officials at the Cathedral of Saint Nicholas. \n🕙 Time: 10:00\nOfficial Doxology. \n🕙 Time: 10:15\nThe Holy Icon of Saint Nicholas will be carried in procession through the streets of Lakki\, accompanied by: \n\nThe Municipal Philharmonic Orchestra\,\nA delegation from the Leros Garrison\,\nThe 3rd Leros Sea Scout Troop.\n\nThe Hierarchical Services will be officiated by His Grace\, Bishop Stefanos of Stratonikeia. \n📌 Residents and visitors are warmly invited to honor Saint Nicholas and participate in the grand celebration. \n 
URL:https://the-leros-way.com/event/program-of-saint-nicholas-celebrations/
LOCATION:LEROS\, Katafigio Agrias Zois Koulouki - Merikia - Fitorio\, Ag. Marina\, Greece\, 854 00\, Greece
CATEGORIES:Parade,Special Event
ATTACH;FMTTYPE=image/jpeg:https://the-leros-way.com/wp-content/uploads/2024/12/AGNIKLER51223_1.jpg
ORGANIZER;CN="Leros Municipality":MAILTO:info@dopaisap.gr
END:VEVENT
BEGIN:VEVENT
DTSTART;TZID=UTC:20241203T211500
DTEND;TZID=UTC:20241205T170000
DTSTAMP:20260422T113240
CREATED:20241203T141309Z
LAST-MODIFIED:20241203T141319Z
UID:43961-1733260500-1733418000@the-leros-way.com
SUMMARY:Τhe Mοvie of the week: "Μerfys Law"
DESCRIPTION:
URL:https://the-leros-way.com/event/%cf%84he-m%ce%bfvie-of-the-week-%ce%bcerfys-law/
LOCATION:Leros Cinema\, Municipal Cinema Leros\, Leros\, 85400\, Greece
ATTACH;FMTTYPE=image/webp:https://the-leros-way.com/wp-content/uploads/2024/12/e71ca81b-23e3-4aa8-9ff0-77d3bef624d1.webp
ORGANIZER;CN="Cine Leros":MAILTO:leros-cinema@leros.gr
END:VEVENT
BEGIN:VEVENT
DTSTART;TZID=UTC:20241203T170000
DTEND;TZID=UTC:20241205T170000
DTSTAMP:20260422T113240
CREATED:20241203T161618Z
LAST-MODIFIED:20241203T161618Z
UID:43966-1733245200-1733418000@the-leros-way.com
SUMMARY:The Movie of the week: "Vaiana 2"
DESCRIPTION:Every day 17:00
URL:https://the-leros-way.com/event/the-movie-of-the-week-vaiana-2/
LOCATION:Leros Cinema\, Municipal Cinema Leros\, Leros\, 85400\, Greece
CATEGORIES:Movie
ATTACH;FMTTYPE=image/webp:https://the-leros-way.com/wp-content/uploads/2024/12/7e0a6529-837d-422a-b23c-a54adcc9d15d.webp
ORGANIZER;CN="Cine Leros":MAILTO:leros-cinema@leros.gr
END:VEVENT
BEGIN:VEVENT
DTSTART;TZID=UTC:20241123T183000
DTEND;TZID=UTC:20241123T203000
DTSTAMP:20260422T113240
CREATED:20241114T120811Z
LAST-MODIFIED:20241114T120813Z
UID:43932-1732386600-1732393800@the-leros-way.com
SUMMARY:Book Presentation: Guilty Citizen
DESCRIPTION:Municipal Library 23/11/24
URL:https://the-leros-way.com/event/book-presentation-guilty-citizen/
LOCATION:Municipal Library\, Δημόσια Βιβλιοθήκη Λέρου\, Leros\, 85400\, Greece
CATEGORIES:Leros Municipality
ATTACH;FMTTYPE=image/webp:https://the-leros-way.com/wp-content/uploads/2024/11/POLITHS-ENOXOS-ΠΡΟΣΚΛΗΣΗ_ΛΕΡΟΣ.webp
ORGANIZER;CN="Leros Municipality":MAILTO:info@dopaisap.gr
END:VEVENT
BEGIN:VEVENT
DTSTART;TZID=UTC:20241121T183000
DTEND;TZID=UTC:20241127T223000
DTSTAMP:20260422T113240
CREATED:20241126T072136Z
LAST-MODIFIED:20241126T072137Z
UID:43949-1732213800-1732746600@the-leros-way.com
SUMMARY:Movie of the week: GLADIATOR II
DESCRIPTION:Movie of the week: GLADIATOR II\nThursday 11/21 until Wednesday 11/27 at 18:30 & 21:15 \nSunday 20:00.
URL:https://the-leros-way.com/event/movie-of-the-week-gladiator-ii/
LOCATION:Leros Cinema\, Municipal Cinema Leros\, Leros\, 85400\, Greece
CATEGORIES:Movie
ATTACH;FMTTYPE=image/jpeg:https://the-leros-way.com/wp-content/uploads/2024/11/Monomaxor.jpg
ORGANIZER;CN="Cine Leros":MAILTO:leros-cinema@leros.gr
END:VEVENT
BEGIN:VEVENT
DTSTART;TZID=UTC:20241115T083000
DTEND;TZID=UTC:20241117T140000
DTSTAMP:20260422T113240
CREATED:20241113T064413Z
LAST-MODIFIED:20241113T064416Z
UID:43906-1731659400-1731852000@the-leros-way.com
SUMMARY:Blood Donation
DESCRIPTION:15-17.11.2024 from 8:30 until 14:00 \nLocation: Dona – The building is opposite the public dock in Lakki.
URL:https://the-leros-way.com/event/blood-donation-3/
LOCATION:Lakki Public Dock\, Lakki Dock\, Leros\, 85400\, Greece
CATEGORIES:Special Event
ATTACH;FMTTYPE=image/jpeg:https://the-leros-way.com/wp-content/uploads/2024/11/Blood-donation.jpg
ORGANIZER;CN="Leros Municipality":MAILTO:info@dopaisap.gr
END:VEVENT
BEGIN:VEVENT
DTSTART;TZID=UTC:20241114T211500
DTEND;TZID=UTC:20241120T233000
DTSTAMP:20260422T113240
CREATED:20241114T062059Z
LAST-MODIFIED:20241114T062101Z
UID:43916-1731618900-1732145400@the-leros-way.com
SUMMARY:The Movie of the Week: Red One
DESCRIPTION:Thursday 11 till Wednesday 20/11 \nRed one : Time 21:15
URL:https://the-leros-way.com/event/the-movie-of-the-week-red-one/
LOCATION:Leros Cinema\, Municipal Cinema Leros\, Leros\, 85400\, Greece
CATEGORIES:Movie
ATTACH;FMTTYPE=image/jpeg:https://the-leros-way.com/wp-content/uploads/2024/11/901bc6b2-ae4f-4e7c-8fb4-746e6ff6bbf2-1.jpg
ORGANIZER;CN="Cine Leros":MAILTO:leros-cinema@leros.gr
END:VEVENT
END:VCALENDAR