BEGIN:VCALENDAR
VERSION:2.0
PRODID:-//The Leros Way - ECPv6.15.20//NONSGML v1.0//EN
CALSCALE:GREGORIAN
METHOD:PUBLISH
X-WR-CALNAME:The Leros Way
X-ORIGINAL-URL:https://the-leros-way.com
X-WR-CALDESC:Events for The Leros Way
REFRESH-INTERVAL;VALUE=DURATION:PT1H
X-Robots-Tag:noindex
X-PUBLISHED-TTL:PT1H
BEGIN:VTIMEZONE
TZID:UTC
BEGIN:STANDARD
TZOFFSETFROM:+0000
TZOFFSETTO:+0000
TZNAME:UTC
DTSTART:20250101T000000
END:STANDARD
END:VTIMEZONE
BEGIN:VEVENT
DTSTART;TZID=UTC:20260410T140000
DTEND;TZID=UTC:20260410T140000
DTSTAMP:20260423T172622
CREATED:20260406T125236Z
LAST-MODIFIED:20260406T125236Z
UID:53554-1775829600-1775829600@the-leros-way.com
SUMMARY:Holy Friday 2026
DESCRIPTION:2:00 p.m.: Service of the Descent from the Cross (Apokathilosis) and the Epitaphios at Panagia tou Kastrou (Virgin Mary of the Castle). \n\n\n4:00 p.m.: Procession of the Epitaphios at the 588th National Guard Battalion. \n\n\n8:15 p.m.: Gathering of Authorities and Officials in front of the Town Hall for their joint transition to the Holy Metropolitan Church of the “Annunciation of the Virgin Mary.” \n\n\n9:00 p.m.: Meeting of the Epitaphios processions from the Holy Metropolitan Church of the “Annunciation of the Virgin Mary\,” “Saviour Christ\,” and “Agia Marina” at Platanos\, accompanied by the Municipal Philharmonic Band and the Armed Guard of the Leros Garrison.
URL:https://the-leros-way.com/event/holy-friday-2026/
LOCATION:Castle of Panagia Pandeli\, Pandeli\, Leros\, 85400\, Greece
CATEGORIES:Leros Municipality,Traditional
ATTACH;FMTTYPE=image/webp:https://the-leros-way.com/wp-content/uploads/2026/04/Happy-Easter-2.webp
ORGANIZER;CN="Leros Municipality":MAILTO:info@dopaisap.gr
END:VEVENT
BEGIN:VEVENT
DTSTART;TZID=UTC:20260411T220000
DTEND;TZID=UTC:20260411T220000
DTSTAMP:20260423T172622
CREATED:20260406T123014Z
LAST-MODIFIED:20260406T123120Z
UID:53549-1775944800-1775944800@the-leros-way.com
SUMMARY:Holy Saturday 2026
DESCRIPTION:10:15 p.m. Arrival of the Holy Clergy\, Authorities\, and the public at the pier in front of the “LEROS” Hotel. \n10:30 p.m. Arrival of the Holy Light by speedboat\, accompanied by a flotilla of vessels. \n\n\nReception by the Holy Clergy\, the Mayor\, and the Island Authorities. \n\n\nHonors will be rendered by the Municipal Philharmonic Band and the Armed Guard of the Leros Garrison. \n\n\nCollection of the Holy Light by representatives of the island’s parishes. \n\n\n11:00 p.m. Transfer\, in procession\, of the Holy Light by His Grace Bishop Stephanos of Stratonikeia\, accompanied by the Municipal Philharmonic Band and the Armed Guard of the Leros Garrison\, to the Cathedral of “Agios Nikolaos.”
URL:https://the-leros-way.com/event/holy-saturday-2026/
LOCATION:Leros Cinema\, Municipal Cinema Leros\, Leros\, 85400\, Greece
CATEGORIES:Leros Municipality,Traditional
ATTACH;FMTTYPE=image/webp:https://the-leros-way.com/wp-content/uploads/2026/04/Happy-Easter-2.webp
ORGANIZER;CN="Leros Municipality":MAILTO:info@dopaisap.gr
END:VEVENT
BEGIN:VEVENT
DTSTART;TZID=UTC:20260412T100000
DTEND;TZID=UTC:20260412T100000
DTSTAMP:20260423T172622
CREATED:20260406T125928Z
LAST-MODIFIED:20260406T125928Z
UID:53557-1775988000-1775988000@the-leros-way.com
SUMMARY:Easter Sunday 2026
DESCRIPTION:10:00 a.m.: Vespers of “LOVE” (Agapi) at the Holy Metropolitan Church of the “Annunciation of the Virgin Mary” in Platanos.
URL:https://the-leros-way.com/event/easter-sunday-2026/
LOCATION:Platanos square\, Platanos Square\, Leros\, 85400\, Greece
CATEGORIES:Leros Municipality,Traditional
ATTACH;FMTTYPE=image/webp:https://the-leros-way.com/wp-content/uploads/2026/04/Happy-Easter-2.webp
ORGANIZER;CN="Leros Municipality":MAILTO:info@dopaisap.gr
END:VEVENT
BEGIN:VEVENT
DTSTART;TZID=UTC:20260416T213000
DTEND;TZID=UTC:20260422T193000
DTSTAMP:20260423T172622
CREATED:20260416T121248Z
LAST-MODIFIED:20260416T121445Z
UID:53564-1776375000-1776886200@the-leros-way.com
SUMMARY:Movies of the Week
DESCRIPTION:The MUMMY: Everyday at 21:30 \nThe Magnificence: Everyday at 19:15
URL:https://the-leros-way.com/event/movies-of-the-week-2/
LOCATION:Leros Cinema\, Municipal Cinema Leros\, Leros\, 85400\, Greece
CATEGORIES:Leros Cinema,Movie
ATTACH;FMTTYPE=image/webp:https://the-leros-way.com/wp-content/uploads/2026/04/Movie.webp
ORGANIZER;CN="Cine Leros":MAILTO:leros-cinema@leros.gr
END:VEVENT
BEGIN:VEVENT
DTSTART;TZID=UTC:20260424T153000
DTEND;TZID=UTC:20260424T153000
DTSTAMP:20260423T172622
CREATED:20260421T084940Z
LAST-MODIFIED:20260421T084940Z
UID:53641-1777044600-1777044600@the-leros-way.com
SUMMARY:DERBY: LEROS VS RHODES
DESCRIPTION:Basketball Game: Panionios vs Rhodes Friday 3:30pm
URL:https://the-leros-way.com/event/derby-leros-vs-rhodes/
LOCATION:Basketball Court\, Δημοτικό Κλειστό Γυμναστήριο Μερικιάς\, Leros\, 85400\, Greece
CATEGORIES:Children's event,Sport
ATTACH;FMTTYPE=image/webp:https://the-leros-way.com/wp-content/uploads/2026/04/viber_image_2026-04-21_11-40-17-910.webp
END:VEVENT
BEGIN:VEVENT
DTSTART;TZID=UTC:20260425T083000
DTEND;TZID=UTC:20260425T083000
DTSTAMP:20260423T172622
CREATED:20260422T113322Z
LAST-MODIFIED:20260422T113322Z
UID:53654-1777105800-1777105800@the-leros-way.com
SUMMARY:Final Four Semi Finals & Final
DESCRIPTION:Saturday 8:30am- Semi Finals to be determined \nSaturday 11am- Final Match to be determined
URL:https://the-leros-way.com/event/final-four-semi-finals-final/
LOCATION:Basketball Court\, Δημοτικό Κλειστό Γυμναστήριο Μερικιάς\, Leros\, 85400\, Greece
CATEGORIES:Sport
ATTACH;FMTTYPE=image/webp:https://the-leros-way.com/wp-content/uploads/2026/04/Final-Four-Basketball.webp
END:VEVENT
BEGIN:VEVENT
DTSTART;TZID=UTC:20260426T110000
DTEND;TZID=UTC:20260426T110000
DTSTAMP:20260423T172622
CREATED:20260423T103207Z
LAST-MODIFIED:20260423T103207Z
UID:53660-1777201200-1777201200@the-leros-way.com
SUMMARY:Autism Awareness Walk
DESCRIPTION:On the 26th of April\, We Walk For Autism will take place at the Lakki Primary School
URL:https://the-leros-way.com/event/autism-awareness-walk/
LOCATION:Lakki elementary school courtyard\, Δημοτικό Σχολείο Λακκίου\, Leros\, 85400\, Greece
CATEGORIES:Leros Municipality,Special Event
ATTACH;FMTTYPE=image/webp:https://the-leros-way.com/wp-content/uploads/2026/04/viber_image_2026-04-23_13-11-52-355.webp
ORGANIZER;CN="Leros Municipality":MAILTO:info@dopaisap.gr
END:VEVENT
BEGIN:VEVENT
DTSTART;TZID=UTC:20260430T210000
DTEND;TZID=UTC:20260502T000000
DTSTAMP:20260423T172622
CREATED:20260423T112632Z
LAST-MODIFIED:20260423T112632Z
UID:53670-1777582800-1777680000@the-leros-way.com
SUMMARY:Theatre Play: Our Lady Midwife
DESCRIPTION:The Leros Theater Group returns with its second production of the year! A comedy by Alekos Sakellarios \n\n\nThursday\, April 30th \n\n\nFriday\, May 1st \n\n\nSaturday\, May 2nd
URL:https://the-leros-way.com/event/theatre-play-our-lady-midwife/
LOCATION:Leros Cinema\, Municipal Cinema Leros\, Leros\, 85400\, Greece
CATEGORIES:Leros Cinema,Theater Play
ATTACH;FMTTYPE=image/webp:https://the-leros-way.com/wp-content/uploads/2026/04/676819376_1429660958961664_7432181114729004616_n.webp
END:VEVENT
BEGIN:VEVENT
DTSTART;TZID=UTC:20260510T133000
DTEND;TZID=UTC:20260510T133000
DTSTAMP:20260423T172622
CREATED:20260423T103752Z
LAST-MODIFIED:20260423T103752Z
UID:53665-1778419800-1778419800@the-leros-way.com
SUMMARY:Mother's Day Celebration
DESCRIPTION:On the 10th of May\, at the Alinda Guesthouse\, a mother’s day charity event will take place; a celebration dedicated to the sweetest beings!
URL:https://the-leros-way.com/event/mothers-day-celebration/
LOCATION:Alinda Beach\, Alinda Beach\, Leros\, 85400\, Greece
CATEGORIES:Charity Event
ATTACH;FMTTYPE=image/webp:https://the-leros-way.com/wp-content/uploads/2026/04/viber_image_2026-04-23_12-34-16-304.webp
END:VEVENT
END:VCALENDAR