BEGIN:VCALENDAR
VERSION:2.0
PRODID:-//The Leros Way - ECPv6.15.13.1//NONSGML v1.0//EN
CALSCALE:GREGORIAN
METHOD:PUBLISH
X-WR-CALNAME:The Leros Way
X-ORIGINAL-URL:https://the-leros-way.com
X-WR-CALDESC:Events for The Leros Way
REFRESH-INTERVAL;VALUE=DURATION:PT1H
X-Robots-Tag:noindex
X-PUBLISHED-TTL:PT1H
BEGIN:VTIMEZONE
TZID:UTC
BEGIN:STANDARD
TZOFFSETFROM:+0000
TZOFFSETTO:+0000
TZNAME:UTC
DTSTART:20250101T000000
END:STANDARD
END:VTIMEZONE
BEGIN:VEVENT
DTSTART;TZID=UTC:20260223T120000
DTEND;TZID=UTC:20260223T220000
DTSTAMP:20260423T134958
CREATED:20260220T111000Z
LAST-MODIFIED:20260220T111002Z
UID:52455-1771848000-1771884000@the-leros-way.com
SUMMARY:Clean Monday at StisAnnas with live music
DESCRIPTION:StisAnnas Homemadefood the opening for the new season will be on the most fitting day of the year.\n\n\n\nOn Clean Monday\, after 12:00\, you will find traditional Lenten flavours\, your favourite dishes and live music\, filled with easy-going\, feel-good songs and a warm\, relaxed atmosphere.
URL:https://the-leros-way.com/event/clean-monday-at-stisannas-with-live-music/
LOCATION:Stis Annas Homemade Food\, Krithoni\, Leros\, 854 00\, Greece
CATEGORIES:Special Event,Traditional
ATTACH;FMTTYPE=image/webp:https://the-leros-way.com/wp-content/uploads/2026/02/unnamed-3.webp
END:VEVENT
BEGIN:VEVENT
DTSTART;TZID=UTC:20260223T123000
DTEND;TZID=UTC:20260223T233000
DTSTAMP:20260423T134958
CREATED:20260219T094759Z
LAST-MODIFIED:20260219T094817Z
UID:52445-1771849800-1771889400@the-leros-way.com
SUMMARY:Clean Monday at Fishtavern GOURNA
DESCRIPTION:The Fish Tavern “Gourna” awaits you this Clean Monday with the richest Lenten menu! \nThe day’s menu features the freshest seafood: \n\n\nSea urchins & royal oysters \n\n\nWhelks & scallops \n\n\nFresh calamari\, fried or grilled \n\n\nFried & grilled fish \n\n\nOctopus fritters \n\n\nShrimp\, fried\, grilled & saganaki-style \n\n\nSteamed mussels & saganaki \n\n\nTaramosalata & fava…plus a wide variety of salads and appetizers! \n\n\nReservations: +30 2247022956 & +30 6956548696
URL:https://the-leros-way.com/event/clean-monday-at-fishtavern-gourna/
LOCATION:FishTavern Gourna\, Fish tavern Gourna\, Leros
CATEGORIES:Special Event,Traditional
ATTACH;FMTTYPE=image/webp:https://the-leros-way.com/wp-content/uploads/2026/02/Gourna-collage.webp
END:VEVENT
BEGIN:VEVENT
DTSTART;TZID=UTC:20260223T130000
DTEND;TZID=UTC:20260223T233000
DTSTAMP:20260423T134958
CREATED:20260218T122830Z
LAST-MODIFIED:20260218T123411Z
UID:52426-1771851600-1771889400@the-leros-way.com
SUMMARY:Clean Monday at Kakomoiras
DESCRIPTION:Celebrate Clean Monday (Kathara Deftera) at Kakomoiras with the best traditional dishes for fasting\, ouzo and wine. \nFrom noon till the night. \nReservations: +30 6945453808
URL:https://the-leros-way.com/event/clean-monday-at-kakomoiras/
LOCATION:Tis Kakomoiras Restaurant\, 4VX6+87 Agia Marina\, Leros\, Dodecanese\, 85400\, Greece
CATEGORIES:Special Event,Traditional
ATTACH;FMTTYPE=image/webp:https://the-leros-way.com/wp-content/uploads/2026/02/sarakostiana.webp
END:VEVENT
END:VCALENDAR