BEGIN:VCALENDAR
VERSION:2.0
PRODID:-//The Leros Way - ECPv6.15.13.1//NONSGML v1.0//EN
CALSCALE:GREGORIAN
METHOD:PUBLISH
X-ORIGINAL-URL:https://the-leros-way.com
X-WR-CALDESC:Events for The Leros Way
REFRESH-INTERVAL;VALUE=DURATION:PT1H
X-Robots-Tag:noindex
X-PUBLISHED-TTL:PT1H
BEGIN:VTIMEZONE
TZID:UTC
BEGIN:STANDARD
TZOFFSETFROM:+0000
TZOFFSETTO:+0000
TZNAME:UTC
DTSTART:20240101T000000
END:STANDARD
END:VTIMEZONE
BEGIN:VEVENT
DTSTART;TZID=UTC:20251101T170000
DTEND;TZID=UTC:20251101T183000
DTSTAMP:20260422T084919
CREATED:20251024T075606Z
LAST-MODIFIED:20251024T080622Z
UID:50440-1762016400-1762021800@the-leros-way.com
SUMMARY:Children’s theatrical play
DESCRIPTION:The Parents & Guardians Association of the 1st Kindergarten of Lakki invites you to the theatrical production by the Theatrical Association of Dodecanese\, “The Violin That Wanted to Become a Double Bass” by Rhodian music educator Giorgos Sakellaridis. \nAbout the play: The violin\, unhappy with its small size\, wants to change and become another instrument—one bigger and with a stronger sound. Its friend\, the cello\, tries to convince it to have faith in its own abilities\, but the violin continues searching for ways to become someone else. Thus begins a journey to the melodic land of music\, with a wide array of instruments in the hands of the young audience\, allowing them to discover their sounds and unique characteristics. \nAn interactive musical fairy tale aiming to develop emotional balance and confidence in our individual abilities. Children have the opportunity to try musical instruments\, playing them and exploring their sounds. \nEntrance: 7€ – part of the proceeds will be donated to charity.
URL:https://the-leros-way.com/event/childrens-theatrical-play/
LOCATION:Leros Cinema\, Municipal Cinema Leros\, Leros\, 85400\, Greece
CATEGORIES:Children's event,Theater Play
ATTACH;FMTTYPE=image/jpeg:https://the-leros-way.com/wp-content/uploads/2025/10/viber_image_2025-10-24_10-23-19-709.jpg
ORGANIZER;CN="Quinta - Theatrical Association of Dodecanese":MAILTO:quintasociety@gmail.com
END:VEVENT
BEGIN:VEVENT
DTSTART;TZID=UTC:20251115T180000
DTEND;TZID=UTC:20251116T120000
DTSTAMP:20260422T084919
CREATED:20251103T072415Z
LAST-MODIFIED:20251103T073523Z
UID:50587-1763229600-1763294400@the-leros-way.com
SUMMARY:The Shadow Theatre - Karagiozis
DESCRIPTION:The Shadow Theatre of the Municipality of Repouli comes for the first time to Leros to present a hilarious comedy inspired by one of the (many!) adventures of our beloved Karagiozis! \nThe popular folk comedian will entertain you with his endless humor and mischievous adventures\, in a performance filled with the spirit of tradition and art. \nWe look forward to seeing you all at this special Shadow Theatre performance — for children and adults alike\, from ages 2 to…102! Get ready to laugh your hearts out! \n– Saturday 15 November at 18:00 \n– Sunday 16 November at 12:00 \n\nGeneral Admission: €7\nHurry up\, young and old… everyone to Karagiozis!
URL:https://the-leros-way.com/event/the-shadow-theatre-karagiozis/
LOCATION:Leros Cinema\, Municipal Cinema Leros\, Leros\, 85400\, Greece
CATEGORIES:Children's event,Leros Cinema,Theater Play
ATTACH;FMTTYPE=image/webp:https://the-leros-way.com/wp-content/uploads/2025/11/Screenshot-2025-11-03-091927.webp
END:VEVENT
END:VCALENDAR