BEGIN:VCALENDAR
VERSION:2.0
PRODID:-//The Leros Way - ECPv6.15.13.1//NONSGML v1.0//EN
CALSCALE:GREGORIAN
METHOD:PUBLISH
X-WR-CALNAME:The Leros Way
X-ORIGINAL-URL:https://the-leros-way.com
X-WR-CALDESC:Events for The Leros Way
REFRESH-INTERVAL;VALUE=DURATION:PT1H
X-Robots-Tag:noindex
X-PUBLISHED-TTL:PT1H
BEGIN:VTIMEZONE
TZID:UTC
BEGIN:STANDARD
TZOFFSETFROM:+0000
TZOFFSETTO:+0000
TZNAME:UTC
DTSTART:20250101T000000
END:STANDARD
END:VTIMEZONE
BEGIN:VEVENT
DTSTART;TZID=UTC:20260207T170000
DTEND;TZID=UTC:20260207T220000
DTSTAMP:20260419T130804
CREATED:20260121T115839Z
LAST-MODIFIED:20260121T115842Z
UID:51937-1770483600-1770501600@the-leros-way.com
SUMMARY:Children's Carnival Party
DESCRIPTION:The Parents and Guardians Association of Alinda Primary School organise the craziest\, most colorful\, and most exciting carnival party of the year! \nGet your costumes ready\, warm up your voices\, and sharpen your dance moves\, because you will find: \n\nKaraoke for young and old\nBest costume contest\nDance contest\nLots of music\, laughter\, and carnival magic!\n\nPut on your craziest smile and costume and celebrate Carnival the way it deserves! \nEntrance: 3€ (1 raffle ticket gift per family: a raffle draw will take place)
URL:https://the-leros-way.com/event/childrens-carnival-party/
LOCATION:Paradisos All Day Restaurant\, Paradisos Beach Bar\, Leros\, 85400\, Greece
CATEGORIES:Children's event,Dance Party,Special Event
ATTACH;FMTTYPE=image/webp:https://the-leros-way.com/wp-content/uploads/2026/01/apokries_b-1.webp
END:VEVENT
END:VCALENDAR