BEGIN:VCALENDAR
VERSION:2.0
PRODID:-//The Leros Way - ECPv6.15.13.1//NONSGML v1.0//EN
CALSCALE:GREGORIAN
METHOD:PUBLISH
X-WR-CALNAME:The Leros Way
X-ORIGINAL-URL:https://the-leros-way.com
X-WR-CALDESC:Events for The Leros Way
REFRESH-INTERVAL;VALUE=DURATION:PT1H
X-Robots-Tag:noindex
X-PUBLISHED-TTL:PT1H
BEGIN:VTIMEZONE
TZID:UTC
BEGIN:STANDARD
TZOFFSETFROM:+0000
TZOFFSETTO:+0000
TZNAME:UTC
DTSTART:20250101T000000
END:STANDARD
END:VTIMEZONE
BEGIN:VEVENT
DTSTART;TZID=UTC:20260214T200000
DTEND;TZID=UTC:20260214T233000
DTSTAMP:20260421T231011
CREATED:20260123T082245Z
LAST-MODIFIED:20260203T100848Z
UID:51990-1771099200-1771111800@the-leros-way.com
SUMMARY:Traditional Music & Dance Night
DESCRIPTION:The Parents and Guardians Association of Alinda Primary School\, together with the parents of the 6th Grade\, are organizing a dance night featuring Greek traditional music and dances. \nRaffle tickets available for the lottery that will take place. \nEntrance fee: 15€ \nReservations: \n+30 2247023063\, +30 6942676521 \nAll proceeds will be allocated to the 6th Grade’s educational trip to the Hellenic Parliament.
URL:https://the-leros-way.com/event/traditional-musical-dance-night/
LOCATION:Leon Limani\, Lakki\, 4RHX+4G Lakki\, Leros\, 85400\, Greece
CATEGORIES:Dancing,Music
ATTACH;FMTTYPE=image/webp:https://the-leros-way.com/wp-content/uploads/2026/01/617011696_2061686868009987_3603834668276899379_n.webp
END:VEVENT
END:VCALENDAR