BEGIN:VCALENDAR
VERSION:2.0
PRODID:-//The Leros Way - ECPv6.15.13.1//NONSGML v1.0//EN
CALSCALE:GREGORIAN
METHOD:PUBLISH
X-WR-CALNAME:The Leros Way
X-ORIGINAL-URL:https://the-leros-way.com
X-WR-CALDESC:Events for The Leros Way
REFRESH-INTERVAL;VALUE=DURATION:PT1H
X-Robots-Tag:noindex
X-PUBLISHED-TTL:PT1H
BEGIN:VTIMEZONE
TZID:UTC
BEGIN:STANDARD
TZOFFSETFROM:+0000
TZOFFSETTO:+0000
TZNAME:UTC
DTSTART:20240101T000000
END:STANDARD
END:VTIMEZONE
BEGIN:VEVENT
DTSTART;TZID=UTC:20250807T213000
DTEND;TZID=UTC:20250807T233000
DTSTAMP:20260419T160937
CREATED:20250527T135326Z
LAST-MODIFIED:20250807T100309Z
UID:48063-1754602200-1754609400@the-leros-way.com
SUMMARY:Custom reenactment: FRIKTORIES
DESCRIPTION:“FRYKTORIAS”\nFryktorias were a communication system used in Ancient Greece. They were towers built on selected mountain peaks\, so that one tower could be seen from the next\, using smoke or fire signals. \nAn excerpt from Aeschylus’s “Agamemnon” will be staged by the theatre group of Leros as part of the event. A printed english translation of the excerpt will be available on the venue site. \nAdmission is free
URL:https://the-leros-way.com/event/custom-reenactment-friktories/
LOCATION:Bourtzi\, Agia Marina\, Δωρεάν χώρος στάθμευσης\, Leros\, 854 00\, Greece
CATEGORIES:Leros Municipality,Leros Theater Group,Special Event
ATTACH;FMTTYPE=image/webp:https://the-leros-way.com/wp-content/uploads/2025/05/528042613_628789563604575_1739407330861318721_n.webp
END:VEVENT
END:VCALENDAR