BEGIN:VCALENDAR
VERSION:2.0
PRODID:-//The Leros Way - ECPv6.15.13.1//NONSGML v1.0//EN
CALSCALE:GREGORIAN
METHOD:PUBLISH
X-ORIGINAL-URL:https://the-leros-way.com
X-WR-CALDESC:Events for The Leros Way
REFRESH-INTERVAL;VALUE=DURATION:PT1H
X-Robots-Tag:noindex
X-PUBLISHED-TTL:PT1H
BEGIN:VTIMEZONE
TZID:UTC
BEGIN:STANDARD
TZOFFSETFROM:+0000
TZOFFSETTO:+0000
TZNAME:UTC
DTSTART:20250101T000000
END:STANDARD
END:VTIMEZONE
BEGIN:VEVENT
DTSTART;VALUE=DATE:20260306
DTEND;VALUE=DATE:20260309
DTSTAMP:20260422T173228
CREATED:20260306T103919Z
LAST-MODIFIED:20260306T103922Z
UID:52909-1772755200-1773014399@the-leros-way.com
SUMMARY:Free Medical Examinations in Leros
DESCRIPTION:Driven by our care for the health of our fellow citizens\, an important initiative for preventive and diagnostic examinations is being organized on our island. 🏥 \nIn collaboration with the Management of Leros Hospital\, AHEPA\, and local authorities—and with the official approval of the Medical Association—specialized doctors will offer their services free of charge. \nParticipating Specialties:\n\n\nPediatrician \n\n\nOphthalmologist (Eye Specialist) \n\n\nOtorhinolaryngologist (ENT Specialist) \n\n\n Medical Visit Schedule\nThe examinations will take place at the Leros Hospital premises: \n\n\nFriday\, March 6\, 2026: 10:30 – 13:30 & 17:00 – 19:00 \n\n\nSunday\, March 8\, 2026: 09:00 – 13:30 (with a possible afternoon extension if necessary). \n\n\nHow to Book Your Appointment\nTo ensure the best possible service\, booking an appointment is mandatory. Please contact the Citizen Support Office exclusively: \nTelephone: +30 2247360140 \nNote: A strict first-come\, first-served basis will be followed.
URL:https://the-leros-way.com/event/free-medical-examinations-in-leros/
LOCATION:Leros Hospital\, Leros General Hospital - Health Center\, Lakki\, 85400\, Greece
CATEGORIES:Health,Special Event
ATTACH;FMTTYPE=image/webp:https://the-leros-way.com/wp-content/uploads/2026/03/image-1-4.webp
END:VEVENT
END:VCALENDAR