BEGIN:VCALENDAR
VERSION:2.0
PRODID:-//The Leros Way - ECPv6.15.20//NONSGML v1.0//EN
CALSCALE:GREGORIAN
METHOD:PUBLISH
X-WR-CALNAME:The Leros Way
X-ORIGINAL-URL:https://the-leros-way.com
X-WR-CALDESC:Events for The Leros Way
REFRESH-INTERVAL;VALUE=DURATION:PT1H
X-Robots-Tag:noindex
X-PUBLISHED-TTL:PT1H
BEGIN:VTIMEZONE
TZID:UTC
BEGIN:STANDARD
TZOFFSETFROM:+0000
TZOFFSETTO:+0000
TZNAME:UTC
DTSTART:20240101T000000
END:STANDARD
END:VTIMEZONE
BEGIN:VEVENT
DTSTART;TZID=UTC:20250705T100000
DTEND;TZID=UTC:20250705T120000
DTSTAMP:20260425T120540
CREATED:20240624T080627Z
LAST-MODIFIED:20250617T130913Z
UID:41561-1751709600-1751716800@the-leros-way.com
SUMMARY:Historical excursion "Leros\, open-air WWII museum"
DESCRIPTION:Historical routes through the Italian fortifications \nFor enrollments and more information: (+30)6945369510 \nFree admission
URL:https://the-leros-way.com/event/historical-excursion-leros-open-air-wwii-museum-2/
CATEGORIES:Guided Tour
ATTACH;FMTTYPE=image/webp:https://the-leros-way.com/wp-content/uploads/2024/06/13754441_10209772969939175_4061298423224961940_n.webp
ORGANIZER;CN="Greek-Italian Association of Friends of Leros %E2%80%9CAIAL%E2%80%9D":MAILTO:petrokaravo@yahoo.it
END:VEVENT
END:VCALENDAR