BEGIN:VCALENDAR
VERSION:2.0
PRODID:-//The Leros Way - ECPv6.15.13.1//NONSGML v1.0//EN
CALSCALE:GREGORIAN
METHOD:PUBLISH
X-ORIGINAL-URL:https://the-leros-way.com
X-WR-CALDESC:Events for The Leros Way
REFRESH-INTERVAL;VALUE=DURATION:PT1H
X-Robots-Tag:noindex
X-PUBLISHED-TTL:PT1H
BEGIN:VTIMEZONE
TZID:UTC
BEGIN:STANDARD
TZOFFSETFROM:+0000
TZOFFSETTO:+0000
TZNAME:UTC
DTSTART:20230101T000000
END:STANDARD
END:VTIMEZONE
BEGIN:VEVENT
DTSTART;TZID=UTC:20251129T180000
DTEND;TZID=UTC:20251129T210000
DTSTAMP:20260421T115331
CREATED:20251125T081707Z
LAST-MODIFIED:20251125T081710Z
UID:50934-1764439200-1764450000@the-leros-way.com
SUMMARY:Linocut exhibition by Michael Winters
DESCRIPTION:The Leros Center for Culture\, Research and Development “Artemis” organises a linocut/painting exhibition of the honorary citizen of Leros\, Mr. Michael Winters. \nThis special event will showcase a selection of his recent works\, highlighting his deep connection with the island and his unique artistic approach.
URL:https://the-leros-way.com/event/linocut-exhibition-by-michael-winters/
LOCATION:Agia Marina Elementary School\, «ΝΙΚΟΛΑΪΔΕΙΟ» ΔΗΜΟΤΙΚΟ ΣΧΟΛΕΙΟ ΑΓΙΑΣ ΜΑΡΙΝΑΣ ΛΕΡΟΥ\, Leros\, 85400\, Greece
CATEGORIES:Art,Artemis Centre for Culture,Exhibition
ATTACH;FMTTYPE=image/webp:https://the-leros-way.com/wp-content/uploads/2025/11/viber_image_2025-11-25_08-46-04-304.webp
END:VEVENT
BEGIN:VEVENT
DTSTART;TZID=UTC:20251105T120000
DTEND;TZID=UTC:20251105T200000
DTSTAMP:20260421T115331
CREATED:20251104T094411Z
LAST-MODIFIED:20251104T094415Z
UID:50627-1762344000-1762372800@the-leros-way.com
SUMMARY:MILWAUKEE DEMO DAY
DESCRIPTION:Visit NAVAL Chandlery and try up close Milwaukee’s professional tools\, new accessories\, PPE\, and storage systems! \nSpecial prices and gifts await you! \nDon’t miss the chance to discover the equipment that makes a difference!
URL:https://the-leros-way.com/event/milwaukee-demo-day/
LOCATION:NAVAL Chandlery\, Vasileos Georgiou 3\, Lakki\, 854 00\, Greece
CATEGORIES:Exhibition,Sailing Event
ATTACH;FMTTYPE=image/webp:https://the-leros-way.com/wp-content/uploads/2025/11/Screenshot-2025-11-04-114240.webp
END:VEVENT
BEGIN:VEVENT
DTSTART;TZID=UTC:20250723T193000
DTEND;TZID=UTC:20250727T235900
DTSTAMP:20260421T115331
CREATED:20250617T092110Z
LAST-MODIFIED:20250912T084827Z
UID:48777-1753299000-1753660740@the-leros-way.com
SUMMARY:Art exhibition: Theophilos 2025
DESCRIPTION:An approach to modern and folk art\, featuring works by members of the visual arts departments of the Leros Center for Culture\, Research and Development “ARTEMIS”. \n20:00 – 22:00 \nFree Admission
URL:https://the-leros-way.com/event/art-exhibition-theophilos-2025/
LOCATION:Artemis Courtyard\, Ειρηνοδικείο Λέρου\, Leros\, 85400\, Greece
CATEGORIES:Art,Artemis Centre for Culture,Artemis Courtyard,Exhibition
ATTACH;FMTTYPE=image/webp:https://the-leros-way.com/wp-content/uploads/2025/06/501605322_122110685252876007_6566444202822637175_n.webp
ORGANIZER;CN="Artemis":MAILTO:artemis@leros.com
END:VEVENT
BEGIN:VEVENT
DTSTART;TZID=UTC:20250830T190000
DTEND;TZID=UTC:20250907T220000
DTSTAMP:20260421T115331
CREATED:20250618T113712Z
LAST-MODIFIED:20250618T115148Z
UID:48929-1756580400-1757282400@the-leros-way.com
SUMMARY:Art Exhibition by Giovanni D’Alessandro
DESCRIPTION:Exhibition titled: Let There Be Light! And There Was Light – Graphic Journeys Toward an Informal Genesis: Monotypes by Giovanni D’Alessandro. \nThe thirty monotypes presented constitute an ideal graphic path that winds through the artist’s very recent production with a peculiar harmony of lines and colours\, a production created in recent years mainly with this graphic technique. \nExhibition Opening: Saturday\, August 30\, 2025\, at 19:00Opening Hours: 19:00–22:00 \nOrganized by: AIAL Cultural Association\, Academy of Fine Arts of Palermo\, Italian Cultural Institute of Athens\, Municipality of Leros. \nFree Admission.
URL:https://the-leros-way.com/event/art-exhibition-by-giovanni-dalessandro/
LOCATION:Lakki elementary school courtyard\, Δημοτικό Σχολείο Λακκίου\, Leros\, 85400\, Greece
CATEGORIES:Art,Exhibition
ATTACH;FMTTYPE=image/webp:https://the-leros-way.com/wp-content/uploads/2025/06/abapa_poster.2.7_sic.3logo.3_GRE.low_-1.webp
ORGANIZER;CN="Greek-Italian Association of Friends of Leros %E2%80%9CAIAL%E2%80%9D":MAILTO:petrokaravo@yahoo.it
END:VEVENT
BEGIN:VEVENT
DTSTART;TZID=UTC:20250820T210000
DTEND;TZID=UTC:20250820T230000
DTSTAMP:20260421T115331
CREATED:20250617T133137Z
LAST-MODIFIED:20250617T133536Z
UID:48850-1755723600-1755730800@the-leros-way.com
SUMMARY:Book Bazaar & Concert
DESCRIPTION:Book Bazaar by the music publications “ARTEMIS”. \nA concert with Ms. Angeliki Karagelou will follow with the title “The Love songs of Theodorakis”. \nEntrance free.
URL:https://the-leros-way.com/event/book-bazaar-concert/
LOCATION:Artemis Courtyard\, Ειρηνοδικείο Λέρου\, Leros\, 85400\, Greece
CATEGORIES:Artemis Centre for Culture,Artemis Courtyard,Concert Show,Exhibition,Special Event
ATTACH;FMTTYPE=image/jpeg:https://the-leros-way.com/wp-content/uploads/2025/06/03.jpg
ORGANIZER;CN="Artemis":MAILTO:artemis@leros.com
END:VEVENT
BEGIN:VEVENT
DTSTART;TZID=UTC:20250723T193000
DTEND;TZID=UTC:20250727T235900
DTSTAMP:20260421T115331
CREATED:20250617T092110Z
LAST-MODIFIED:20250912T084827Z
UID:48777-1753299000-1753660740@the-leros-way.com
SUMMARY:Art exhibition: Theophilos 2025
DESCRIPTION:An approach to modern and folk art\, featuring works by members of the visual arts departments of the Leros Center for Culture\, Research and Development “ARTEMIS”. \n20:00 – 22:00 \nFree Admission
URL:https://the-leros-way.com/event/art-exhibition-theophilos-2025/
LOCATION:Artemis Courtyard\, Ειρηνοδικείο Λέρου\, Leros\, 85400\, Greece
CATEGORIES:Art,Artemis Centre for Culture,Artemis Courtyard,Exhibition
ATTACH;FMTTYPE=image/webp:https://the-leros-way.com/wp-content/uploads/2025/06/501605322_122110685252876007_6566444202822637175_n.webp
ORGANIZER;CN="Artemis":MAILTO:artemis@leros.com
END:VEVENT
BEGIN:VEVENT
DTSTART;VALUE=DATE:20250720
DTEND;VALUE=DATE:20250731
DTSTAMP:20260421T115331
CREATED:20250721T132623Z
LAST-MODIFIED:20250721T132845Z
UID:49486-1752969600-1753919999@the-leros-way.com
SUMMARY:Art Exhibition by Mike Nakas
DESCRIPTION:Local artist Mike Nakas\, showcases his contemporary art work. \nFree admission
URL:https://the-leros-way.com/event/art-exhibition-by-mike-nakas/
LOCATION:Savana Bar\, Savana Bar\, Pandeli\, 854 01\, Greece
CATEGORIES:Art,Exhibition
ATTACH;FMTTYPE=image/webp:https://the-leros-way.com/wp-content/uploads/2025/07/521121075_18014195120774876_3210364803467438874_n.webp
END:VEVENT
BEGIN:VEVENT
DTSTART;TZID=UTC:20250713T193000
DTEND;TZID=UTC:20250713T220000
DTSTAMP:20260421T115331
CREATED:20250616T125325Z
LAST-MODIFIED:20250616T125327Z
UID:48719-1752435000-1752444000@the-leros-way.com
SUMMARY:Photographic Archive: Life on Leros the last 45 years
DESCRIPTION:Inauguration of the archive of Mr. Nikolaos Daloglou\, with an exhibition of approximately 200 albums from his personal collection\, which includes photographic material documenting the life and activities of the people of Leros over the past 45 years. Honorary distinction from the Municipality of Leros for his contribution to the island of Leros.Free admission.
URL:https://the-leros-way.com/event/photographic-archive-life-on-leros-the-last-45-years/
LOCATION:Municipal Library\, Δημόσια Βιβλιοθήκη Λέρου\, Leros\, 85400\, Greece
CATEGORIES:Exhibition,Leros Municipality,Special Event
ORGANIZER;CN="Leros Municipality":MAILTO:info@dopaisap.gr
END:VEVENT
BEGIN:VEVENT
DTSTART;TZID=UTC:20250706T170000
DTEND;TZID=UTC:20250706T200000
DTSTAMP:20260421T115331
CREATED:20250701T130511Z
LAST-MODIFIED:20250701T130557Z
UID:49192-1751821200-1751832000@the-leros-way.com
SUMMARY:Open Video Games Exhibition by Leros' children
DESCRIPTION:PIXELAKIA \nFor the first time in Leros\, children aged 9 to 14 will present their own original video games to the public\, which they created as part of the Aegean Pixels Academy. \nThe young creators will have the opportunity to present their projects to parents\, friends\, and anyone interested in seeing up close how their imagination can be transformed into an interactive game. \nFree Admission
URL:https://the-leros-way.com/event/open-video-games-exhibition-by-leros-children/
LOCATION:Municipal Library\, Δημόσια Βιβλιοθήκη Λέρου\, Leros\, 85400\, Greece
CATEGORIES:Children's event,Exhibition
ATTACH;FMTTYPE=image/webp:https://the-leros-way.com/wp-content/uploads/2025/07/512101851_10235113104621057_242517872098308211_n.webp
END:VEVENT
BEGIN:VEVENT
DTSTART;VALUE=DATE:20250628
DTEND;VALUE=DATE:20250707
DTSTAMP:20260421T115331
CREATED:20250611T133325Z
LAST-MODIFIED:20250704T102834Z
UID:48567-1751068800-1751846399@the-leros-way.com
SUMMARY:Nautical Week
DESCRIPTION:A series of events dedicated to those who safeguard the freedom\, security\, tradition\, and future of Greece. \nProgram: \n\n28-06-2025 at 20:30\n“The Sponge Divers of the Aegean: A Dive into Memory”\, by the Leros Association of Asia Minor Greeks. At the Agia Marina Primary School.\n29-06-2025 at 10:00 a.m.\nBeach and coastal cleanup along the Lakki road axis\, organized by the 3rd Leros Sea Scout Unit and volunteers.\n29-06-2025 at 18:00\nStreet tennis matches organized by the Leros Tennis Club “IONES”. In Lakki – A/T V. “OLGA” Monument.\n29-06-2025 at 20:00\nConcert organized by the Center for Research\, Culture and Development “ARTEMIS”. In Lakki – A/T V. “OLGA” Monument.\n02-07-2025 at 20:00\nLecture on the role of the Merchant Navy in the Greek Revolution of 1821\, as well as the naval battles of Kos–Halicarnassus and Gerontas Bay\, presented by the G.A.K. Local Historical Archive of Leros. At the Leros Sailing Club.\n05-07-2025 and 06-07-2025 from 10:00 to 12:00 p.m.\nIntroductory sailing activity organized by the Leros Sailing Club.\n06-07-2025 at 21:00\nChoir performance titled “200 Years of Greek Song” by the Leros Association of Asia Minor Greeks\, at the Agia Marina Primary School.\n\nhttps://ne2025.hellenicnavy.gr/
URL:https://the-leros-way.com/event/nautical-week/
CATEGORIES:Artemis Centre for Culture,Concert Show,Exhibition,Sailing Event,Sport
ATTACH;FMTTYPE=image/webp:https://the-leros-way.com/wp-content/uploads/2025/06/social-card.webp
END:VEVENT
BEGIN:VEVENT
DTSTART;TZID=UTC:20250626T190000
DTEND;TZID=UTC:20250626T233000
DTSTAMP:20260421T115331
CREATED:20250626T062221Z
LAST-MODIFIED:20250626T121600Z
UID:49116-1750964400-1750980600@the-leros-way.com
SUMMARY:Αrt Exhibition "Perasma: Folding The Sea Into Dresses That Dissolve Like Salt"
DESCRIPTION:Perasma’s exhibition series on Leros returns this summer\, once again inviting art lovers into dialogue with the island’s layered history and natural landscape. Now in its third year\, the Leros Project listens closely to the island’s rhythms\, transitions\, and shared moments under the evocative title “Folding The Sea Into Dresses That Dissolve Like Salt.” Taking place between June 29 and August 24\, 2025\, artworks of 27 participants from Africa\, Asia\, Europe and USA will be presented at the Kandioglou Mansion\, and the Elementary School of Lakki. \nFolding The Sea Into Dresses That Dissolve Like Salt\nThe exhibition explores the rhythm of coexistence—of finding freedom while staying connected\, of touch that transcends boundaries. Meaning is not anchored in fixed destinations but emerges through relationships\, movements\, and a shared pulse. \nInspired by the compass metaphor in John Donne’s “A Valediction: Forbidding Mourning\,” the exhibition describes a movement that expands outward while one foot remains firmly planted. In Donne’s poem\, the compass symbolizes two lovers bound together despite physical distance\, and here it similarly represents one side rooted while the other explores the world. It speaks of an experience seeking not direction but rhythm; like the invisible yet unbreakable bond between two lovers\, the movement in the exhibition stays true to its center even as it stretches outward. This approach mirrors the island itself. Leros is at once solid ground and shifting rhythm. The island’s edges stretch with the sea\, the wind\, and memory\, forming a fragmented yet interconnected narrative. \nRejecting linear storytelling\, the exhibition inhabits a space where movement\, rupture\, and transformation are active forces. Influenced by Alejandro Jodorowsky’s concept of psychomagic\, transformation here does not arise solely through thought but through action\, symbol\, and emotional intuition. The works are not made to explain. They exist to resonate\, much like a bird that sings not because it has an answer but because it has a song. The relationship between land and sea embodies this same tension. Island and water cannot be thought of separately. They are complementary yet constantly shifting forces. Sometimes the sea marks a boundary. Sometimes it opens a path. At times the island is protected. At others\, it is left exposed. \nExhibition Participants and Venues\nFolding The Sea Into Dresses That Dissolve Like Salt\, presents artworks\, including commissions as well as other materials of artists; Deniz Aktaş\, Hüseyin Aksoy\, Kent Andreasen\, Korakrit Arunanondchai\, Mirna Bamieh\, The Centre for the Less Good Idea\, Margherita Chiarva\, Giorgio de Chirico\, TM Davy\, Brian Eno\, Laura Footes\, Lucio Fontana\, Alice Guittard\, Ali Kazma\, Gülsün Karamustafa\, William Kentridge\, Joline Kwakkenbos\, Dora Maar\, Lola Montes Schnabel\, Neo Muyanga\, Marcus Neustetter\, Ömer Pekin\, Takis\, Athina Rachel Tsangari\, Rinus van de Velde\, Evgenia Vereli ve Kostis Velonis. \nThe artworks are exhibited at two main locations on the island: the Kandioglou Mansion and the Elementary School of Lakki. Kandioglou Mansion is an exhibition space located in a neoclassical mansion built in 1886 in Agia Marina\, dedicated to Perasma. The Primary School of Lakki is an iconic rationalist building completed in the 1930s as part of Portolago’s new town development during the Italian occupation of the island. \nThe PERASMA Store\nInspired by this year’s framework\, the Perasma Store will present a selected collection of contemporary designers and artisans whose work enters into dialogue with the artworks\, the island\, and the conceptual framework of this year’s edition. The names of designers and artisans will be announced later. \nPerasma Supporters\nPerasma would like to thank its generous supporters; official airline sponsor Aegean Airlines\, official sea travel sponsor İDO İstanbul Deniz Otobü as well as Blue Star Ferries\, Grand Hyatt Athens\, Dimello\, KaffeaTerra\, Leros Trans\, Miele\, Muses Estate and Noam\, for their invaluable support in realising the “Folding The Sea Into Dresses That Dissolve Like Salt” exhibition. \nAbout Perasma and Leros Project\nPerasma Istanbul\, co-directed by Burcu Fikretoğlu and Gizem Naz Kudunoğlu\, is a platform dedicated to exploring contemporary art and culture through site-specific exhibitions and collaborations with both local and international artists. \nOrganized annually by Perasma\, the Leros Project is an art initiative that engages with various sites across the island. It provides a platform for new artistic productions inspired by Leros’s history\, nature\, and identity. Each edition hosts international artists from diverse disciplines\, offering not only exhibitions but also workshops\, artist talks\, film screenings\, and performances. Through collaborations with local cultural partners\, the project is steadily becoming a vital point of reference for contemporary art on the island. \nPerasma will continue its activities in Istanbul and Athens while expanding its work across new geographies. Leros will remain a central site for projects examining the interaction between artists and their surrounding environments. \n 
URL:https://the-leros-way.com/event/%ce%b1rt-exhibition-perasma/
LOCATION:Kandioglou Mansion\, Perasma Space\, Leros\, 85400\, Greece
CATEGORIES:Art,Exhibition
ATTACH;FMTTYPE=image/webp:https://the-leros-way.com/wp-content/uploads/2025/06/viber_image_2025-06-26_09-14-41-511.webp
ORGANIZER;CN="Perasma":MAILTO:natalia@opusltd.com
END:VEVENT
BEGIN:VEVENT
DTSTART;TZID=UTC:20240713T190000
DTEND;TZID=UTC:20240713T210000
DTSTAMP:20260421T115331
CREATED:20240705T050621Z
LAST-MODIFIED:20240710T055420Z
UID:41858-1720897200-1720904400@the-leros-way.com
SUMMARY:Exhibition "Memories of Maracech"
DESCRIPTION:By Rupert Sutton \n19:00 till 21:00 \nLocation: The Yellow house opposite Korakia Fruit Market \nMobile: 6906173536
URL:https://the-leros-way.com/event/exhibition-memories-of-meratech/
LOCATION:37.134029\, 26.852935\, Lakki\, Leros\, 85400\, Greece
CATEGORIES:Exhibition
END:VEVENT
END:VCALENDAR