BEGIN:VCALENDAR
VERSION:2.0
PRODID:-//The Leros Way - ECPv6.15.13.1//NONSGML v1.0//EN
CALSCALE:GREGORIAN
METHOD:PUBLISH
X-WR-CALNAME:The Leros Way
X-ORIGINAL-URL:https://the-leros-way.com
X-WR-CALDESC:Events for The Leros Way
REFRESH-INTERVAL;VALUE=DURATION:PT1H
X-Robots-Tag:noindex
X-PUBLISHED-TTL:PT1H
BEGIN:VTIMEZONE
TZID:UTC
BEGIN:STANDARD
TZOFFSETFROM:+0000
TZOFFSETTO:+0000
TZNAME:UTC
DTSTART:20240101T000000
END:STANDARD
END:VTIMEZONE
BEGIN:VEVENT
DTSTART;TZID=UTC:20250716T130000
DTEND;TZID=UTC:20250716T210000
DTSTAMP:20260422T113358
CREATED:20250616T132129Z
LAST-MODIFIED:20250616T132132Z
UID:48733-1752670800-1752699600@the-leros-way.com
SUMMARY:Traditional Festival in Blefoutis
DESCRIPTION:Traditional festival with the participation of 2  Cultural Associations from Thessaloniki\, North Greece. \nCome and take part in dancing and celebrating Greek tradition.
URL:https://the-leros-way.com/event/traditional-festival-in-blefoutis/
LOCATION:Blefouti Beach\, Blefoutis Beach\, Leros\, 85400
CATEGORIES:Artemis Centre for Culture,Dancing,Festival,Music
ATTACH;FMTTYPE=image/webp:https://the-leros-way.com/wp-content/uploads/2025/06/458385305_10233343070468958_8185145518597972890_n.webp
ORGANIZER;CN="Artemis":MAILTO:artemis@leros.com
END:VEVENT
BEGIN:VEVENT
DTSTART;TZID=UTC:20250716T210000
DTEND;TZID=UTC:20250716T233000
DTSTAMP:20260422T113358
CREATED:20250624T131442Z
LAST-MODIFIED:20250624T132503Z
UID:49046-1752699600-1752708600@the-leros-way.com
SUMMARY:Traditional Festival for St. Marina's Day
DESCRIPTION:Celebrate with the locals on the eve of St. Marina’s Day with traditional Greek music and dances. \nAdmission: 10€ \nInformation +306983685051
URL:https://the-leros-way.com/event/traditional-festival-for-st-marinas-day/
LOCATION:War museum square\, Merikia\, War museum square\, Merikia\, Leros\, 85400\, Greece
CATEGORIES:Dancing,Festival,Lerian Festival,Leros Municipality,Music
ATTACH;FMTTYPE=image/webp:https://the-leros-way.com/wp-content/uploads/2025/06/Screenshot-89.webp
ORGANIZER;CN="Leros Municipality":MAILTO:info@dopaisap.gr
END:VEVENT
END:VCALENDAR