BEGIN:VCALENDAR
VERSION:2.0
PRODID:-//The Leros Way - ECPv6.15.13.1//NONSGML v1.0//EN
CALSCALE:GREGORIAN
METHOD:PUBLISH
X-ORIGINAL-URL:https://the-leros-way.com
X-WR-CALDESC:Events for The Leros Way
REFRESH-INTERVAL;VALUE=DURATION:PT1H
X-Robots-Tag:noindex
X-PUBLISHED-TTL:PT1H
BEGIN:VTIMEZONE
TZID:UTC
BEGIN:STANDARD
TZOFFSETFROM:+0000
TZOFFSETTO:+0000
TZNAME:UTC
DTSTART:20240101T000000
END:STANDARD
END:VTIMEZONE
BEGIN:VEVENT
DTSTART;TZID=UTC:20250705T210000
DTEND;TZID=UTC:20250705T233000
DTSTAMP:20260420T122735
CREATED:20250613T144953Z
LAST-MODIFIED:20250616T124334Z
UID:48653-1751749200-1751758200@the-leros-way.com
SUMMARY:Traditional Dance Festival: Ionian Celebrations
DESCRIPTION:The Ionian Festivals are a traditional dance festival in Leros\, organized by the Association of Asia Minor Refugees of Leros. \nThis years’ title: “From the Womb of Memory: The Wedding of the Greeks” \nFree admission
URL:https://the-leros-way.com/event/traditional-dance-festival-ionian-celebrations/
LOCATION:Agia Marina Elementary School\, «ΝΙΚΟΛΑΪΔΕΙΟ» ΔΗΜΟΤΙΚΟ ΣΧΟΛΕΙΟ ΑΓΙΑΣ ΜΑΡΙΝΑΣ ΛΕΡΟΥ\, Leros\, 85400\, Greece
CATEGORIES:Dancing,Festival,Leros Municipality
ATTACH;FMTTYPE=image/webp:https://the-leros-way.com/wp-content/uploads/2025/06/hq720.webp
ORGANIZER;CN="Leros Municipality":MAILTO:info@dopaisap.gr
END:VEVENT
END:VCALENDAR