BEGIN:VCALENDAR
VERSION:2.0
PRODID:-//The Leros Way - ECPv6.15.20//NONSGML v1.0//EN
CALSCALE:GREGORIAN
METHOD:PUBLISH
X-WR-CALNAME:The Leros Way
X-ORIGINAL-URL:https://the-leros-way.com
X-WR-CALDESC:Events for The Leros Way
REFRESH-INTERVAL;VALUE=DURATION:PT1H
X-Robots-Tag:noindex
X-PUBLISHED-TTL:PT1H
BEGIN:VTIMEZONE
TZID:UTC
BEGIN:STANDARD
TZOFFSETFROM:+0000
TZOFFSETTO:+0000
TZNAME:UTC
DTSTART:20240101T000000
END:STANDARD
END:VTIMEZONE
BEGIN:VEVENT
DTSTART;TZID=UTC:20250811T200000
DTEND;TZID=UTC:20250811T213000
DTSTAMP:20260425T233242
CREATED:20250617T124647Z
LAST-MODIFIED:20250617T124649Z
UID:48827-1754942400-1754947800@the-leros-way.com
SUMMARY:Book Presentation: LEROS DURING THE 1821 REVOLUTION
DESCRIPTION:Book Presentation by Konstantinos Aslanidis titled “LEROS DURING THE 1821 REVOLUTION” \nFree admission
URL:https://the-leros-way.com/event/book-presentation-leros-during-the-1821-revolution/
LOCATION:Artemis Courtyard\, Ειρηνοδικείο Λέρου\, Leros\, 85400\, Greece
CATEGORIES:Artemis Centre for Culture,Book Launch
ORGANIZER;CN="Artemis":MAILTO:artemis@leros.com
END:VEVENT
END:VCALENDAR