BEGIN:VCALENDAR
VERSION:2.0
PRODID:-//The Leros Way - ECPv6.15.13.1//NONSGML v1.0//EN
CALSCALE:GREGORIAN
METHOD:PUBLISH
X-WR-CALNAME:The Leros Way
X-ORIGINAL-URL:https://the-leros-way.com
X-WR-CALDESC:Events for The Leros Way
REFRESH-INTERVAL;VALUE=DURATION:PT1H
X-Robots-Tag:noindex
X-PUBLISHED-TTL:PT1H
BEGIN:VTIMEZONE
TZID:UTC
BEGIN:STANDARD
TZOFFSETFROM:+0000
TZOFFSETTO:+0000
TZNAME:UTC
DTSTART:20240101T000000
END:STANDARD
END:VTIMEZONE
BEGIN:VEVENT
DTSTART;TZID=UTC:20251213T180000
DTEND;TZID=UTC:20251213T193000
DTSTAMP:20260419T195204
CREATED:20251210T093950Z
LAST-MODIFIED:20251210T093952Z
UID:51438-1765648800-1765654200@the-leros-way.com
SUMMARY:Informational Talk on Violence
DESCRIPTION:Break the Silence – Stop the Violence \nThe purpose of the talk is to highlight the issue of violence\, raise community awareness\, and promote prevention and support initiatives. \nYour presence will significantly contribute to the goal of empowering and informing our community. \nCertificates of attendance will be provided.
URL:https://the-leros-way.com/event/informational-talk-on-violence/
LOCATION:Patriarchate of Leros\, Πατριαρχείο Λέρου\, Alinda\, 854 00\, Greece
CATEGORIES:Awareness Campaign,Lecture
ATTACH;FMTTYPE=image/jpeg:https://the-leros-way.com/wp-content/uploads/2025/12/596819482_10236411612366367_9040519142840307719_n.jpg
ORGANIZER;CN="Leros Municipality":MAILTO:info@dopaisap.gr
END:VEVENT
END:VCALENDAR