BEGIN:VCALENDAR
VERSION:2.0
PRODID:-//The Leros Way - ECPv6.15.20//NONSGML v1.0//EN
CALSCALE:GREGORIAN
METHOD:PUBLISH
X-WR-CALNAME:The Leros Way
X-ORIGINAL-URL:https://the-leros-way.com
X-WR-CALDESC:Events for The Leros Way
REFRESH-INTERVAL;VALUE=DURATION:PT1H
X-Robots-Tag:noindex
X-PUBLISHED-TTL:PT1H
BEGIN:VTIMEZONE
TZID:UTC
BEGIN:STANDARD
TZOFFSETFROM:+0000
TZOFFSETTO:+0000
TZNAME:UTC
DTSTART:20230101T000000
END:STANDARD
END:VTIMEZONE
BEGIN:VEVENT
DTSTART;VALUE=DATE:20240801
DTEND;VALUE=DATE:20240805
DTSTAMP:20260426T012127
CREATED:20240625T052220Z
LAST-MODIFIED:20240625T052547Z
UID:41582-1722470400-1722815999@the-leros-way.com
SUMMARY:Educational Activities "Play and Learn – Learn and Play"
DESCRIPTION:Educational activity entitled: “Play and Learn – Learn and Play” with the lute. \nOrganization: Music Workshops “ARTEMIS”. \n*A detailed program will be released on Artemis Facebook.
URL:https://the-leros-way.com/event/educational-activities-play-and-learn-learn-and-play/
LOCATION:Artemis Courtyard\, Ειρηνοδικείο Λέρου\, Leros\, 85400\, Greece
CATEGORIES:Artemis Centre for Culture,Artemis Courtyard,Children's event
ATTACH;FMTTYPE=image/webp:https://the-leros-way.com/wp-content/uploads/2024/06/Leros-3.webp
ORGANIZER;CN="Artemis":MAILTO:artemis@leros.com
END:VEVENT
END:VCALENDAR