BEGIN:VCALENDAR
VERSION:2.0
PRODID:-//The Leros Way - ECPv6.15.20//NONSGML v1.0//EN
CALSCALE:GREGORIAN
METHOD:PUBLISH
X-ORIGINAL-URL:https://the-leros-way.com
X-WR-CALDESC:Events for The Leros Way
REFRESH-INTERVAL;VALUE=DURATION:PT1H
X-Robots-Tag:noindex
X-PUBLISHED-TTL:PT1H
BEGIN:VTIMEZONE
TZID:UTC
BEGIN:STANDARD
TZOFFSETFROM:+0000
TZOFFSETTO:+0000
TZNAME:UTC
DTSTART:20240101T000000
END:STANDARD
END:VTIMEZONE
BEGIN:VEVENT
DTSTART;TZID=UTC:20251220T203000
DTEND;TZID=UTC:20251220T230000
DTSTAMP:20260426T043217
CREATED:20251216T114710Z
LAST-MODIFIED:20251216T114713Z
UID:51601-1766262600-1766271600@the-leros-way.com
SUMMARY:Charitable Music Evening
DESCRIPTION:A special Music Evening filled with beautiful melodies and a meaningful cause\, featuring: \n\nT. Fragkous\nM. Makris\nG. Kalogeropoulos\n\nThis evening is exclusively for a charitable purpose — your presence makes a difference. \nEntrance is free – Bring your own beverage
URL:https://the-leros-way.com/event/charitable-music-evening/
LOCATION:Theather at Agia Marina\, Leros\, 85400\, Greece
CATEGORIES:Concert Show,Leros Theater Group,Music
ATTACH;FMTTYPE=image/webp:https://the-leros-way.com/wp-content/uploads/2025/12/600368437_10239671859002544_9013864419013522570_n.webp
END:VEVENT
BEGIN:VEVENT
DTSTART;TZID=UTC:20251220T210000
DTEND;TZID=UTC:20251220T233000
DTSTAMP:20260426T043217
CREATED:20251216T115744Z
LAST-MODIFIED:20251216T115746Z
UID:51609-1766264400-1766273400@the-leros-way.com
SUMMARY:Live Laiko Music
DESCRIPTION:A live performance filled with music\, great company\, and genuine fun at NAVARONE! \nIn a warm and welcoming space\, with excellent flavors and carefully crafted cuisine\, you’ll enjoy beloved songs. \nA great group of friends\, good music\, and wonderful food — everything you need for an unforgettable Saturday night! \nRESERVATIONS: \n+30 22470 25074
URL:https://the-leros-way.com/event/live-laiko-music/
LOCATION:Navarone Estate\, Navarone\, Leros\, Dodecanese\, 85400\, Greece
CATEGORIES:Music
ATTACH;FMTTYPE=image/webp:https://the-leros-way.com/wp-content/uploads/2025/12/viber_image_2025-12-16_11-33-18-777.webp
END:VEVENT
END:VCALENDAR