BEGIN:VCALENDAR
VERSION:2.0
PRODID:-//The Leros Way - ECPv6.15.20//NONSGML v1.0//EN
CALSCALE:GREGORIAN
METHOD:PUBLISH
X-WR-CALNAME:The Leros Way
X-ORIGINAL-URL:https://the-leros-way.com
X-WR-CALDESC:Events for The Leros Way
REFRESH-INTERVAL;VALUE=DURATION:PT1H
X-Robots-Tag:noindex
X-PUBLISHED-TTL:PT1H
BEGIN:VTIMEZONE
TZID:UTC
BEGIN:STANDARD
TZOFFSETFROM:+0000
TZOFFSETTO:+0000
TZNAME:UTC
DTSTART:20240101T000000
END:STANDARD
END:VTIMEZONE
BEGIN:VEVENT
DTSTART;TZID=UTC:20251211T173000
DTEND;TZID=UTC:20251217T190000
DTSTAMP:20260426T024522
CREATED:20251127T072125Z
LAST-MODIFIED:20251211T072928Z
UID:51005-1765474200-1765998000@the-leros-way.com
SUMMARY:Movie of the week: ZOOTOPIA 2 (greek dub)
DESCRIPTION:FROM THURSDAY 11/12 TO WEDNESDAY 17/12 \nDaily\, starting time 17:30 daily (except Wednesday)
URL:https://the-leros-way.com/event/movie-of-the-week-zootopia-2-greek-dub/
LOCATION:Leros Cinema\, Municipal Cinema Leros\, Leros\, 85400\, Greece
CATEGORIES:Leros Cinema,Movie
ATTACH;FMTTYPE=image/webp:https://the-leros-way.com/wp-content/uploads/2025/11/589969371_1603330664403309_1267703756271186526_n.webp
ORGANIZER;CN="Cine Leros":MAILTO:leros-cinema@leros.gr
END:VEVENT
BEGIN:VEVENT
DTSTART;TZID=UTC:20251211T193000
DTEND;TZID=UTC:20251217T213000
DTSTAMP:20260426T024522
CREATED:20251211T072400Z
LAST-MODIFIED:20251211T072400Z
UID:51519-1765481400-1766007000@the-leros-way.com
SUMMARY:Movie of the week: DIE MY LOVE
DESCRIPTION:FROM THURSDAY 11/12 TO WEDNESDAY 17/12Thursday\, Saturday\, Monday\, Wednesday starting at 21:15 \nFriday\, Sunday\, Tuesday starting at 19:30
URL:https://the-leros-way.com/event/movie-of-the-week-die-my-love/
LOCATION:Leros Cinema\, Municipal Cinema Leros\, Leros\, 85400\, Greece
CATEGORIES:Leros Cinema,Movie
ATTACH;FMTTYPE=image/webp:https://the-leros-way.com/wp-content/uploads/2025/12/597044903_1614235279979514_8393966714864856337_n.webp
ORGANIZER;CN="Cine Leros":MAILTO:leros-cinema@leros.gr
END:VEVENT
BEGIN:VEVENT
DTSTART;TZID=UTC:20251211T193000
DTEND;TZID=UTC:20251217T233000
DTSTAMP:20260426T024522
CREATED:20251211T071917Z
LAST-MODIFIED:20251211T073119Z
UID:51512-1765481400-1766014200@the-leros-way.com
SUMMARY:Movie of the week: THE CHRISTMAS CAROLS (greek)
DESCRIPTION:FROM THURSDAY 11/12 TO WEDNESDAY 17/12 \n\nThursday\, Saturday\, Monday\, Wednesday starting at 19:30\nFriday\, Sunday\, Tuesday starting at 21:30
URL:https://the-leros-way.com/event/movie-of-the-week-the-christmas-carols-greek/
LOCATION:Leros Cinema\, Municipal Cinema Leros\, Leros\, 85400\, Greece
CATEGORIES:Leros Cinema,Movie
ATTACH;FMTTYPE=image/webp:https://the-leros-way.com/wp-content/uploads/2025/12/596608693_1614235139979528_32388612361943007_n.webp
ORGANIZER;CN="Cine Leros":MAILTO:leros-cinema@leros.gr
END:VEVENT
END:VCALENDAR