BEGIN:VCALENDAR
VERSION:2.0
PRODID:-//The Leros Way - ECPv6.15.20//NONSGML v1.0//EN
CALSCALE:GREGORIAN
METHOD:PUBLISH
X-ORIGINAL-URL:https://the-leros-way.com
X-WR-CALDESC:Events for The Leros Way
REFRESH-INTERVAL;VALUE=DURATION:PT1H
X-Robots-Tag:noindex
X-PUBLISHED-TTL:PT1H
BEGIN:VTIMEZONE
TZID:UTC
BEGIN:STANDARD
TZOFFSETFROM:+0000
TZOFFSETTO:+0000
TZNAME:UTC
DTSTART:20240101T000000
END:STANDARD
END:VTIMEZONE
BEGIN:VEVENT
DTSTART;VALUE=DATE:20251120
DTEND;VALUE=DATE:20251212
DTSTAMP:20260426T043216
CREATED:20251112T092635Z
LAST-MODIFIED:20251112T121424Z
UID:50662-1763596800-1765497599@the-leros-way.com
SUMMARY:Art Museum Kit: I Have the Right
DESCRIPTION:ARTEMIS’ children’s painting classes will host the museum kit from the Museum of Greek Children’s Art titled “I Have the Right…”  \nThe purposeis to inform\, educate\, and raise awareness about children’s rights through the visual arts. \nFor more information: +30 6956037492
URL:https://the-leros-way.com/event/art-museum-kit-i-have-the-right/
LOCATION:Artemis Courtyard\, Ειρηνοδικείο Λέρου\, Leros\, 85400\, Greece
CATEGORIES:Art,Artemis Centre for Culture,Children's event
ATTACH;FMTTYPE=image/webp:https://the-leros-way.com/wp-content/uploads/2025/11/viber_image_2025-11-12_09-50-07-288.webp
ORGANIZER;CN="Artemis":MAILTO:artemis@leros.com
END:VEVENT
BEGIN:VEVENT
DTSTART;TZID=UTC:20251120T190000
DTEND;TZID=UTC:20251126T203000
DTSTAMP:20260426T043216
CREATED:20251120T071713Z
LAST-MODIFIED:20251120T072149Z
UID:50822-1763665200-1764189000@the-leros-way.com
SUMMARY:Movie of the week: ANEMONE
DESCRIPTION:FROM THURSDAY 20/11 TO WEDNESDAY 26/11 \nDaily at 19:00 (except Saturday)
URL:https://the-leros-way.com/event/movie-of-the-week-anemone/
LOCATION:Leros Cinema\, Municipal Cinema Leros\, Leros\, 85400\, Greece
CATEGORIES:Leros Cinema,Movie
ATTACH;FMTTYPE=image/webp:https://the-leros-way.com/wp-content/uploads/2025/11/584414832_1597527308316978_2790297035732616349_n.webp
ORGANIZER;CN="Cine Leros":MAILTO:leros-cinema@leros.gr
END:VEVENT
BEGIN:VEVENT
DTSTART;TZID=UTC:20251120T210000
DTEND;TZID=UTC:20251126T230000
DTSTAMP:20260426T043216
CREATED:20251120T071355Z
LAST-MODIFIED:20251120T071357Z
UID:50815-1763672400-1764198000@the-leros-way.com
SUMMARY:Movie of the week: SISU 2
DESCRIPTION:FROM THURSDAY 20/11 TO WEDNESDAY 26/11\n \nDaily at 21:15 (except Sunday)
URL:https://the-leros-way.com/event/movie-of-the-week-sisu-2/
LOCATION:Leros Cinema\, Municipal Cinema Leros\, Leros\, 85400\, Greece
CATEGORIES:Leros Cinema,Movie
ATTACH;FMTTYPE=image/webp:https://the-leros-way.com/wp-content/uploads/2025/11/585042932_1597527271650315_3276622094239454311_n.webp
ORGANIZER;CN="Cine Leros":MAILTO:leros-cinema@leros.gr
END:VEVENT
BEGIN:VEVENT
DTSTART;VALUE=DATE:20251124
DTEND;VALUE=DATE:20251213
DTSTAMP:20260426T043216
CREATED:20251124T083744Z
LAST-MODIFIED:20251124T084023Z
UID:50916-1763942400-1765583999@the-leros-way.com
SUMMARY:Food collection for strays
DESCRIPTION:As part of Panionios’ social outreach this year\, they are supporting the island’s srtays shelter “Adespota Patousakia”.\n\n\n\nThe Club is organizing a collection of food for dogs and cats\, supporting the initiative\n\n\n\nWhat you can offer:\n\n\n\nCans of wet food\nDry food\nPet accessories (beds\, blankets\, food bowls\, plush toys\, etc.)\nItems do not need to be new — you can donate things from your home as long as they are in good condition.\n\n\n\nCollection point:\nAt the entrance of the stadium\, on the right side\, there is a specially arranged area where you can leave your contributions.
URL:https://the-leros-way.com/event/50916/
LOCATION:Basketball Court\, Δημοτικό Κλειστό Γυμναστήριο Μερικιάς\, Leros\, 85400\, Greece
CATEGORIES:Charity Event
ATTACH;FMTTYPE=image/webp:https://the-leros-way.com/wp-content/uploads/2025/11/588529349_1359975479250473_6963264775299778004_n.webp
END:VEVENT
END:VCALENDAR