BEGIN:VCALENDAR
VERSION:2.0
PRODID:-//The Leros Way - ECPv6.15.20//NONSGML v1.0//EN
CALSCALE:GREGORIAN
METHOD:PUBLISH
X-ORIGINAL-URL:https://the-leros-way.com
X-WR-CALDESC:Events for The Leros Way
REFRESH-INTERVAL;VALUE=DURATION:PT1H
X-Robots-Tag:noindex
X-PUBLISHED-TTL:PT1H
BEGIN:VTIMEZONE
TZID:UTC
BEGIN:STANDARD
TZOFFSETFROM:+0000
TZOFFSETTO:+0000
TZNAME:UTC
DTSTART:20240101T000000
END:STANDARD
END:VTIMEZONE
BEGIN:VEVENT
DTSTART;TZID=UTC:20251027T080000
DTEND;TZID=UTC:20251031T170000
DTSTAMP:20260426T043228
CREATED:20251029T071537Z
LAST-MODIFIED:20251029T071539Z
UID:50498-1761552000-1761930000@the-leros-way.com
SUMMARY:FREE PREVENTIVE SCREENING FOR OSTEOPOROSIS
DESCRIPTION:October 27Community Center in Kamara\, 8:00 a.m. – 4:00 p.m. \nOctober 29Xirokampos Field\, 8:00 a.m. – 12:00 p.m. \nOctober 30Municipal Library in Platanos\, 8:00 a.m. – 2:00 p.m. \nOctober 31Technical Service in Lakki\, 8:00 a.m. – 2:00 p.m. \nHome examination available for women with mobility difficulties. \nAppointments: +30 6945917587+30 2247023255 / +30 2247023130
URL:https://the-leros-way.com/event/free-preventive-screening-for-osteoporosis/
CATEGORIES:Awareness Campaign,Special Event
ATTACH;FMTTYPE=image/webp:https://the-leros-way.com/wp-content/uploads/2025/10/571427312_10235875109594133_8432433928408552400_n.webp
ORGANIZER;CN="Leros Municipality":MAILTO:info@dopaisap.gr
END:VEVENT
BEGIN:VEVENT
DTSTART;TZID=UTC:20251030T173000
DTEND;TZID=UTC:20251105T190000
DTSTAMP:20260426T043228
CREATED:20251029T134809Z
LAST-MODIFIED:20251029T134812Z
UID:50530-1761845400-1762369200@the-leros-way.com
SUMMARY:Movie of the week: HEIDI (Greek dub)
DESCRIPTION:FROM THURSDAY\, OCTOBER 30 TO WEDNESDAY\, NOVEMBER 5Daily\, starting time 17:30 (except Saturday)
URL:https://the-leros-way.com/event/movie-of-the-week-heidi-greek-dub/
LOCATION:Leros Cinema\, Municipal Cinema Leros\, Leros\, 85400\, Greece
CATEGORIES:Leros Cinema,Movie
ATTACH;FMTTYPE=image/webp:https://the-leros-way.com/wp-content/uploads/2025/10/viber_image_2025-10-29_15-36-16-957.webp
ORGANIZER;CN="Cine Leros":MAILTO:leros-cinema@leros.gr
END:VEVENT
BEGIN:VEVENT
DTSTART;TZID=UTC:20251030T191500
DTEND;TZID=UTC:20251105T210000
DTSTAMP:20260426T043228
CREATED:20251029T134447Z
LAST-MODIFIED:20251029T134450Z
UID:50526-1761851700-1762376400@the-leros-way.com
SUMMARY:Movie of the week: SPRINGSTEEN
DESCRIPTION:FROM THURSDAY\, OCTOBER 30 TO WEDNESDAY\, NOVEMBER 5Daily\, starting time 19:15 (except Saturday)
URL:https://the-leros-way.com/event/movie-of-the-week-springsteen/
LOCATION:Leros Cinema\, Municipal Cinema Leros\, Leros\, 85400\, Greece
CATEGORIES:Leros Cinema,Movie
ATTACH;FMTTYPE=image/webp:https://the-leros-way.com/wp-content/uploads/2025/10/viber_image_2025-10-29_15-36-17-001.webp
ORGANIZER;CN="Cine Leros":MAILTO:leros-cinema@leros.gr
END:VEVENT
BEGIN:VEVENT
DTSTART;TZID=UTC:20251030T213000
DTEND;TZID=UTC:20251105T223000
DTSTAMP:20260426T043228
CREATED:20251029T134041Z
LAST-MODIFIED:20251029T134043Z
UID:50521-1761859800-1762381800@the-leros-way.com
SUMMARY:Movie of the week: DEAD PHONE 2
DESCRIPTION:FROM THURSDAY\, 30 OCTOBER  TO WEDNESDAY\, 5 NOVEMBER Daily\, starting time 21:30 (except Saturday)
URL:https://the-leros-way.com/event/movie-of-the-week-dead-phone-2/
LOCATION:Leros Cinema\, Municipal Cinema Leros\, Leros\, 85400\, Greece
CATEGORIES:Leros Cinema,Movie
ATTACH;FMTTYPE=image/webp:https://the-leros-way.com/wp-content/uploads/2025/10/viber_image_2025-10-29_15-36-16-775.webp
ORGANIZER;CN="Cine Leros":MAILTO:leros-cinema@leros.gr
END:VEVENT
END:VCALENDAR