BEGIN:VCALENDAR
VERSION:2.0
PRODID:-//The Leros Way - ECPv6.15.20//NONSGML v1.0//EN
CALSCALE:GREGORIAN
METHOD:PUBLISH
X-ORIGINAL-URL:https://the-leros-way.com
X-WR-CALDESC:Events for The Leros Way
REFRESH-INTERVAL;VALUE=DURATION:PT1H
X-Robots-Tag:noindex
X-PUBLISHED-TTL:PT1H
BEGIN:VTIMEZONE
TZID:UTC
BEGIN:STANDARD
TZOFFSETFROM:+0000
TZOFFSETTO:+0000
TZNAME:UTC
DTSTART:20240101T000000
END:STANDARD
END:VTIMEZONE
BEGIN:VEVENT
DTSTART;TZID=UTC:20251023T170000
DTEND;TZID=UTC:20251029T183000
DTSTAMP:20260426T043223
CREATED:20251022T080027Z
LAST-MODIFIED:20251022T080208Z
UID:50391-1761238800-1761762600@the-leros-way.com
SUMMARY:Movie of the week: PET ON THE EXPRESS (dubbed)
DESCRIPTION:THURSDAY 23/10 TO WEDNESDAY 29/10 \nDaily: 17:15 (except Sunday)(dubbed in Greek)
URL:https://the-leros-way.com/event/movie-of-the-week-pet-on-the-express-dubbed/
LOCATION:Leros Cinema\, Municipal Cinema Leros\, Leros\, 85400\, Greece
CATEGORIES:Leros Cinema,Movie
ATTACH;FMTTYPE=image/webp:https://the-leros-way.com/wp-content/uploads/2025/10/568362171_1571372470932462_679084237432364497_n.webp
ORGANIZER;CN="Cine Leros":MAILTO:leros-cinema@leros.gr
END:VEVENT
BEGIN:VEVENT
DTSTART;TZID=UTC:20251023T190000
DTEND;TZID=UTC:20251029T213000
DTSTAMP:20260426T043223
CREATED:20251022T074812Z
LAST-MODIFIED:20251022T075310Z
UID:50386-1761246000-1761773400@the-leros-way.com
SUMMARY:Movie of the week: AFTER THE HUNT
DESCRIPTION:Thursday\, Saturday\, Monday & Wednesday: 19:00\nFriday\, Sunday & Tuesday: 21:30
URL:https://the-leros-way.com/event/movie-of-the-week-after-the-hunt/
LOCATION:Leros Cinema\, Municipal Cinema Leros\, Leros\, 85400\, Greece
CATEGORIES:Leros Cinema,Movie
ATTACH;FMTTYPE=image/webp:https://the-leros-way.com/wp-content/uploads/2025/10/569114037_1571372434265799_8539151880003519083_n.webp
ORGANIZER;CN="Cine Leros":MAILTO:leros-cinema@leros.gr
END:VEVENT
BEGIN:VEVENT
DTSTART;TZID=UTC:20251023T190000
DTEND;TZID=UTC:20251029T230000
DTSTAMP:20260426T043223
CREATED:20251022T073117Z
LAST-MODIFIED:20251022T073119Z
UID:50381-1761246000-1761778800@the-leros-way.com
SUMMARY:Movie of the week: KISS OF THE SPIDER WOMAN
DESCRIPTION:THURSDAY 23/10 TO WEDNESDAY 29/10 \n\n\n\n\n\n\nThursday\, Saturday\, Monday & Wednesday: 21:30Friday & Tuesday: 19:00 (except Sunday)
URL:https://the-leros-way.com/event/movie-of-the-week-kiss-of-the-spider-woman/
LOCATION:Leros Cinema\, Municipal Cinema Leros\, Leros\, 85400\, Greece
CATEGORIES:Leros Cinema,Movie
ATTACH;FMTTYPE=image/webp:https://the-leros-way.com/wp-content/uploads/2025/10/569216339_1571372390932470_7708361756397616599_n.webp
ORGANIZER;CN="Cine Leros":MAILTO:leros-cinema@leros.gr
END:VEVENT
BEGIN:VEVENT
DTSTART;TZID=UTC:20251027T080000
DTEND;TZID=UTC:20251031T170000
DTSTAMP:20260426T043223
CREATED:20251029T071537Z
LAST-MODIFIED:20251029T071539Z
UID:50498-1761552000-1761930000@the-leros-way.com
SUMMARY:FREE PREVENTIVE SCREENING FOR OSTEOPOROSIS
DESCRIPTION:October 27Community Center in Kamara\, 8:00 a.m. – 4:00 p.m. \nOctober 29Xirokampos Field\, 8:00 a.m. – 12:00 p.m. \nOctober 30Municipal Library in Platanos\, 8:00 a.m. – 2:00 p.m. \nOctober 31Technical Service in Lakki\, 8:00 a.m. – 2:00 p.m. \nHome examination available for women with mobility difficulties. \nAppointments: +30 6945917587+30 2247023255 / +30 2247023130
URL:https://the-leros-way.com/event/free-preventive-screening-for-osteoporosis/
CATEGORIES:Awareness Campaign,Special Event
ATTACH;FMTTYPE=image/webp:https://the-leros-way.com/wp-content/uploads/2025/10/571427312_10235875109594133_8432433928408552400_n.webp
ORGANIZER;CN="Leros Municipality":MAILTO:info@dopaisap.gr
END:VEVENT
BEGIN:VEVENT
DTSTART;TZID=UTC:20250602T174500
DTEND;TZID=UTC:20250602T210000
DTSTAMP:20260426T043223
CREATED:20250506T070437Z
LAST-MODIFIED:20250702T111518Z
UID:47141-1748886300-1748898000@the-leros-way.com
SUMMARY:Cooking Class - MOUSAKA - Greek Traditional food
DESCRIPTION:Cook\, eat\, and connect — The Leros Way\nIf you’re looking for a special experience on Leros — something real\, hands-on\, and full of flavor — join us for one of our summer cooking workshops. This one’s all about moussaka\, the legendary Greek dish that’s close to every Greek heart. \nWe’ll welcome you into a beautiful old Greek house hidden in the forest\, just outside Lakki. It’s a home with soul — the kind of place where recipes are passed down\, not written down. And we’ll be cooking the traditional way: in a wood-fired oven that brings out those deep\, unforgettable flavors. \nWe cook together. We eat together.\nFrom slicing eggplants to building the perfect béchamel\, we’ll walk you through every step of the process — and you’ll make your very own moussaka in a personal dish\, just for you. \nWhen the fire has done its magic\, we’ll sit down together under the old big tree and share a proper Greek feast: fresh salad\, creamy tzatziki\, your homemade moussaka\, and a Lot of chilled local wine. Add a few good stories and a few new friends\, and you’ve got yourself a Greek night to remember. \nWhat’s included:\n\nFull meal (Greek salad\, tzatziki\, and your own moussaka)\nWine\, water\, and good company\nRecipe to take home\nPickup and drop-off from The Leros Way Hub\n\nLanguages: English \nDuration: 3 hours (including dinner) \nWhat to bring: Comfy shoes and mosquito spray \nWhere: Just 5 minutes from Lakki (meet at the Hub 15 minutes before the start). Pickup and drop-off from The Leros Way Hub \n  \nHow to Secure Your Spot in This Workshop?\nChoose the option that works best for you: \nRegister online here \nSend us a message on WhatsApp \nVisit us at The Leros Way Hub \n  \nIf you want to gather your friends or family for an exclusive cooking class! Contact us in advance to arrange a private session tailored to your group’s needs.
URL:https://the-leros-way.com/event/cooking-class-mousaka-greek-traditional-food/
LOCATION:The Leros Way Hub\, The Leros Way Hub\, Leros\, 85400\, Greece
CATEGORIES:Workshop
ATTACH;FMTTYPE=image/webp:https://the-leros-way.com/wp-content/uploads/2025/04/mousaka.webp
ORGANIZER;CN="The Leros Way":MAILTO:info@the-leros-way.com
END:VEVENT
END:VCALENDAR